BEGIN:VCALENDAR
VERSION:2.0
PRODID:-//LEORTC - Law Enforcement Officers Regional Training Commission - ECPv6.15.20//NONSGML v1.0//EN
CALSCALE:GREGORIAN
METHOD:PUBLISH
X-WR-CALNAME:LEORTC - Law Enforcement Officers Regional Training Commission
X-ORIGINAL-URL:https://www.leortc.com
X-WR-CALDESC:Events for LEORTC - Law Enforcement Officers Regional Training Commission
REFRESH-INTERVAL;VALUE=DURATION:PT1H
X-Robots-Tag:noindex
X-PUBLISHED-TTL:PT1H
BEGIN:VTIMEZONE
TZID:America/Detroit
BEGIN:DAYLIGHT
TZOFFSETFROM:-0500
TZOFFSETTO:-0400
TZNAME:EDT
DTSTART:20210314T070000
END:DAYLIGHT
BEGIN:STANDARD
TZOFFSETFROM:-0400
TZOFFSETTO:-0500
TZNAME:EST
DTSTART:20211107T060000
END:STANDARD
BEGIN:DAYLIGHT
TZOFFSETFROM:-0500
TZOFFSETTO:-0400
TZNAME:EDT
DTSTART:20220313T070000
END:DAYLIGHT
BEGIN:STANDARD
TZOFFSETFROM:-0400
TZOFFSETTO:-0500
TZNAME:EST
DTSTART:20221106T060000
END:STANDARD
BEGIN:DAYLIGHT
TZOFFSETFROM:-0500
TZOFFSETTO:-0400
TZNAME:EDT
DTSTART:20230312T070000
END:DAYLIGHT
BEGIN:STANDARD
TZOFFSETFROM:-0400
TZOFFSETTO:-0500
TZNAME:EST
DTSTART:20231105T060000
END:STANDARD
END:VTIMEZONE
BEGIN:VEVENT
DTSTART;TZID=America/Detroit:20220623T083000
DTEND;TZID=America/Detroit:20220623T163000
DTSTAMP:20260424T173612
CREATED:20220405T154406Z
LAST-MODIFIED:20220405T154406Z
UID:10000331-1655973000-1656001800@www.leortc.com
SUMMARY:Smith & Wesson M&P15 Rifle Armorer
DESCRIPTION:This course is designed to certify students to be factory trained armorers for the Smith & Wesson M&P15 Rifles and Carbines. Focus will be on nomenclature\, field stripping and maintenance\, safeties and safety checks\, detailed disassembly of the upper assemblies and lower receivers\, troubleshooting and minor repairs. Performing lessons repeatedly will ensure good hands-on instruction for a better understanding of this platform. Upon successful completion of the course\, students will be certified for 3 years. \nPre-requisite:   To enroll in this class\, you must have completed M&P 1.0 & 2.0 within the last 3 years. \nInstructor:          Richard Shene\, Law Enforcement District Sales Manager for Smith & Wesson \nDate/Time:         Thursday\, June 23\, 2022\, 8:30am-4:30pm               \nLocation:             University of Michigan-Flint – Hubbard Building\, 602 Mill Street\, Flint\, MI 48502 \nCost:                      LEORTC Licensed Members– Pre-paid \nAll Others- $200.00 per person \nRegistration:     This class is limited to 10. \nClick HERE to Register \n“This training has been registered with MCOLES for the use of PA 302 Law Enforcement Distribution funds.”
URL:https://www.leortc.com/event/smith-wesson-mp15-rifle-armorer/
LOCATION:University of Michigan-Flint\, Hubbard Building\, 602 Mill Street\, Flint\, MI\, 48502\, United States
ATTACH;FMTTYPE=image/png:https://www.leortc.com/wp-content/uploads/2022/04/Armorer-Course.png
END:VEVENT
BEGIN:VEVENT
DTSTART;TZID=America/Detroit:20220622T083000
DTEND;TZID=America/Detroit:20220622T163000
DTSTAMP:20260424T173612
CREATED:20220405T154458Z
LAST-MODIFIED:20220405T154458Z
UID:10000332-1655886600-1655915400@www.leortc.com
SUMMARY:Smith & Wesson M&P Pistol 2.0 & Shield Armorer
DESCRIPTION:This course is designed to certify students to be factory trained armorers for the Smith & Wesson M&P 2.0 and Shield Pistols. Focus will be on nomenclature\, field stripping and maintenance\, safeties and safety checks\, detailed disassembly\, troubleshooting and minor repairs. Performing lessons repeatedly will insure good hands-on instruction for a better understanding of this firearm. Upon successful completion of the course\, students will be certified for 3 years. \nPre-requisite:   To enroll in this class\, you must have completed M&P 1.0 on 6/21/22. \nInstructor:          Richard Shene\, Law Enforcement District Sales Manager for Smith & Wesson \nDate/Time:         Wednesday\, June 22\, 2022\, 8:30am-4:30pm          \nLocation:             University of Michigan-Flint – Hubbard Building\, 602 Mill Street\, Flint\, MI 48502 \nCost:                      LEORTC Licensed Members – Pre-paid \nAll Others- $200.00 per person \nRegistration:      This class is limited to 14 \nClick HERE to Register \n“This training has been registered with MCOLES for the use of PA 302 Law Enforcement Distribution funds.”
URL:https://www.leortc.com/event/smith-wesson-mp-pistol-2-0-shield-armorer/
LOCATION:University of Michigan-Flint\, Hubbard Building\, 602 Mill Street\, Flint\, MI\, 48502\, United States
ATTACH;FMTTYPE=image/png:https://www.leortc.com/wp-content/uploads/2022/04/Armorer-Course.png
END:VEVENT
BEGIN:VEVENT
DTSTART;TZID=America/Detroit:20220621T083000
DTEND;TZID=America/Detroit:20220621T163000
DTSTAMP:20260424T173612
CREATED:20220405T154534Z
LAST-MODIFIED:20220405T154534Z
UID:10000333-1655800200-1655829000@www.leortc.com
SUMMARY:Smith & Wesson M&P Pistol 1.0 Armorer
DESCRIPTION:This course is designed to certify students to be factory trained armorers for the Smith & Wesson M&P 1.0 Pistol. Focus will be on nomenclature\, field stripping and maintenance\, safeties and safety checks\, detailed disassembly\, troubleshooting and minor repairs. Performing lessons repeatedly will insure good hands-on instruction for a better understanding of this firearm. Upon successful completion of the course\, students will be certified for 3 years. \nA M&P Pistol Armorer Tool kit will be furnished for the class.  Detailed Toolkit Information \nInstructor:          Richard Shene\, Law Enforcement District Sales Manager for Smith & Wesson \nDate/Time:         Tuesday\, June 21\, 2022\, 8:30am-4:30pm                 \nLocation:             University of Michigan-Flint – Hubbard Building 602 Mill Street\, Flint\, MI 48502 \nCost:                      LEORTC Licensed Members – Pre-paid \nAll Others- $200.00 per person \nRegistration:      This class is limited to 14 \nClick HERE to Register \n“This training has been registered with MCOLES for the use of PA 302 Law Enforcement Distribution funds.”
URL:https://www.leortc.com/event/smith-wesson-mp-pistol-1-0-armorer/
LOCATION:University of Michigan-Flint\, Hubbard Building\, 602 Mill Street\, Flint\, MI\, 48502\, United States
ATTACH;FMTTYPE=image/png:https://www.leortc.com/wp-content/uploads/2022/04/Armorer-Course.png
END:VEVENT
END:VCALENDAR