BEGIN:VCALENDAR
VERSION:2.0
PRODID:-//LEORTC - Law Enforcement Officers Regional Training Commission - ECPv6.15.20//NONSGML v1.0//EN
CALSCALE:GREGORIAN
METHOD:PUBLISH
X-WR-CALNAME:LEORTC - Law Enforcement Officers Regional Training Commission
X-ORIGINAL-URL:https://www.leortc.com
X-WR-CALDESC:Events for LEORTC - Law Enforcement Officers Regional Training Commission
REFRESH-INTERVAL;VALUE=DURATION:PT1H
X-Robots-Tag:noindex
X-PUBLISHED-TTL:PT1H
BEGIN:VTIMEZONE
TZID:America/Detroit
BEGIN:DAYLIGHT
TZOFFSETFROM:-0500
TZOFFSETTO:-0400
TZNAME:EDT
DTSTART:20200308T070000
END:DAYLIGHT
BEGIN:STANDARD
TZOFFSETFROM:-0400
TZOFFSETTO:-0500
TZNAME:EST
DTSTART:20201101T060000
END:STANDARD
BEGIN:DAYLIGHT
TZOFFSETFROM:-0500
TZOFFSETTO:-0400
TZNAME:EDT
DTSTART:20210314T070000
END:DAYLIGHT
BEGIN:STANDARD
TZOFFSETFROM:-0400
TZOFFSETTO:-0500
TZNAME:EST
DTSTART:20211107T060000
END:STANDARD
BEGIN:DAYLIGHT
TZOFFSETFROM:-0500
TZOFFSETTO:-0400
TZNAME:EDT
DTSTART:20220313T070000
END:DAYLIGHT
BEGIN:STANDARD
TZOFFSETFROM:-0400
TZOFFSETTO:-0500
TZNAME:EST
DTSTART:20221106T060000
END:STANDARD
END:VTIMEZONE
BEGIN:VEVENT
DTSTART;TZID=America/Detroit:20210923T080000
DTEND;TZID=America/Detroit:20210923T170000
DTSTAMP:20260424T161642
CREATED:20200225T172641Z
LAST-MODIFIED:20210817T170739Z
UID:10000293-1632384000-1632416400@www.leortc.com
SUMMARY:Legally Justified But Was it Avoidable
DESCRIPTION:A crucial question at the core of every use of force incident is this:  \nWas it avoidable? This course helps you make that decision. \n  The 1989 the Graham v. Connor case established that the moment an officer uses force is all that matters when determining if it was objectively reasonable. Further it determined that the moment could not be judged “with the 20/20 vision of hindsight.” In other words\, how that moment came to be matters not\, only what was happening during it. That said\, this legal doctrine does not (and should not) preclude officers\, trainers and supervisors from examining cases with that 20/20 vision. With a goal of avoiding the avoidable\, we should look backward from the moment force was used and honestly assess whether the officer\, by action or lack of action\, contributed to its ultimate need. Legally Justified; But Was it Avoidable analyzes dozens of recent use of force videos and focuses on the totality of the interaction. We dissect the behavior of the offender and more importantly\, the thoughts and behavioral processes of the officer(s) involved. Specifically\, we consider if poor or ill-advised tactics\, ineffective communication\, a lack of personal control and/or a misunderstanding of acute stress led the officer(s) to escalate the event unintentionally and unconsciously. In this course we will discuss:  \n\nForce: Can it be avoided? How? Can it be?\nPowerful research: how stress breaks down your ability to process information\nHandling pressure at the pivotal moment\nDid poor tactics contribute to the need to shoot?\nDon’t throw fuel on the fire! Controlling the inner “idiot”\nThe overall goal and how stress diverts from that mission\nSlowing things down can be your most powerful tactic\nA hard look at the reason mistakes are being made\nCognitive deterioration leads to “Decision Decline”\nAvoiding Behavioral and Content Loops\nThe Power of Mid-Event Disengagement\n\nDate:               September 23\, 2021                   Time: 8am – 5pm \nLocation:         PIX Theater 194 West Nepessing Street\, Lapeer\, MI 48446                                          \nCost:                LEORTC licensed members-prepaid                         Delta Members – $165                               All others-$195 \nClick HERE to Register \nDelta College Consortium members register at www.delta.edu/policeacademy or call (989) 686-9176     \n“This training has been registered with MCOLES for the use of PA 302 Law Enforcement Distribution funds.”
URL:https://www.leortc.com/event/legally-justified-but-was-it-avoidable-2021-03-10-2021-09-23/
LOCATION:PIX Theatre\, 194 W. Nepessing Street\, Lapeer\, MI\, 48446\, United States
ATTACH;FMTTYPE=image/png:https://www.leortc.com/wp-content/uploads/2017/04/calibre_press_logo_tall_wtag_rgb-207x327.png
END:VEVENT
BEGIN:VEVENT
DTSTART;TZID=America/Detroit:20210608T080000
DTEND;TZID=America/Detroit:20210608T170000
DTSTAMP:20260424T161642
CREATED:20210406T151810Z
LAST-MODIFIED:20210406T151810Z
UID:10000312-1623139200-1623171600@www.leortc.com
SUMMARY:Dynamics of Officer/Citizen Encounters
DESCRIPTION:Police interactions with citizens are in the national spotlight.  What previously wouldn’t have made the local paper now makes the national news.  Officers need tools to effectively engage citizens in a professional manner without compromising their own safety in the process.  That is why Dynamics of Officer/Citizen Encounters was created.  Through guided discussions\, video analysis and case studies\, participants will examine: \n\nCurrent research about the threats to officer safety\nThink CLEAR:  5 keys to officer safety and performance\nCommunication:  It’s about more than just talking\nKnow your authority:  keeping contacts lawful\nEmotional Intelligence:  the most important tool on your tool belt\nAdaptive decision making:  tools for increased officer safety\n\nInstructor:  John Bostain\, a former police officer\, he has served the Law Enforcement community for the past 24 years\, 21 of which have been as a law enforcement trainer. He has trained more than 15\,000 law enforcement professionals at the state\, local\, and Federal levels. He has committed his career to thinking differently about the challenges facing law enforcement and developing evidence-based training solutions across a broad spectrum of contemporary issues.  John has earned the trust of 1000’s of law enforcement executives through my multiple presentations at executive level conferences\, which include the International Association of Chiefs of Police (IACP)\, National Sheriff’s Association (NSA)\, and the National Organization of Black Law Enforcement Executives (NOBLE) also presented frequently at state level Chief’s and Sheriff’s Associations. \nWho should attend:  This training is geared toward sworn personnel who interact with the public along with their supervisors. \nLocation:  PIX Theater\, 194 West Nepessing Street\, Lapeer\, Michigan 48446 \nDate and time:  June 8\, 2021 at 8:00am – 5:00pm \nCost:  LEORTC Certified members – free     Non-certified members – $95.00 per person     All others – $135.00 per person \nClick HERE to Register \n“This training has been registered with MCOLES for the use of PA 302 Law Enforcement Distribution funds.”
URL:https://www.leortc.com/event/dynamics-of-officer-citizen-encounters/
LOCATION:PIX Theatre\, 194 W. Nepessing Street\, Lapeer\, MI\, 48446\, United States
END:VEVENT
END:VCALENDAR