BEGIN:VCALENDAR
VERSION:2.0
PRODID:-//LEORTC - Law Enforcement Officers Regional Training Commission - ECPv6.15.20//NONSGML v1.0//EN
CALSCALE:GREGORIAN
METHOD:PUBLISH
X-ORIGINAL-URL:https://www.leortc.com
X-WR-CALDESC:Events for LEORTC - Law Enforcement Officers Regional Training Commission
REFRESH-INTERVAL;VALUE=DURATION:PT1H
X-Robots-Tag:noindex
X-PUBLISHED-TTL:PT1H
BEGIN:VTIMEZONE
TZID:America/Detroit
BEGIN:DAYLIGHT
TZOFFSETFROM:-0500
TZOFFSETTO:-0400
TZNAME:EDT
DTSTART:20190310T070000
END:DAYLIGHT
BEGIN:STANDARD
TZOFFSETFROM:-0400
TZOFFSETTO:-0500
TZNAME:EST
DTSTART:20191103T060000
END:STANDARD
BEGIN:DAYLIGHT
TZOFFSETFROM:-0500
TZOFFSETTO:-0400
TZNAME:EDT
DTSTART:20200308T070000
END:DAYLIGHT
BEGIN:STANDARD
TZOFFSETFROM:-0400
TZOFFSETTO:-0500
TZNAME:EST
DTSTART:20201101T060000
END:STANDARD
BEGIN:DAYLIGHT
TZOFFSETFROM:-0500
TZOFFSETTO:-0400
TZNAME:EDT
DTSTART:20210314T070000
END:DAYLIGHT
BEGIN:STANDARD
TZOFFSETFROM:-0400
TZOFFSETTO:-0500
TZNAME:EST
DTSTART:20211107T060000
END:STANDARD
BEGIN:DAYLIGHT
TZOFFSETFROM:-0500
TZOFFSETTO:-0400
TZNAME:EDT
DTSTART:20220313T070000
END:DAYLIGHT
BEGIN:STANDARD
TZOFFSETFROM:-0400
TZOFFSETTO:-0500
TZNAME:EST
DTSTART:20221106T060000
END:STANDARD
END:VTIMEZONE
BEGIN:VEVENT
DTSTART;TZID=America/Detroit:20210422T130000
DTEND;TZID=America/Detroit:20210422T150000
DTSTAMP:20260424T184455
CREATED:20210422T183907Z
LAST-MODIFIED:20220908T134421Z
UID:10000313-1619096400-1619103600@www.leortc.com
SUMMARY:Crash Analysis Application Training
DESCRIPTION:The Michigan State Police\, Traffic Crash Reporting Unit has contracted with a vendor\, Numetric\, to develop a new traffic crash analysis and visualization application. \nAll law enforcement agencies in Michigan will have access to the traffic crash analysis and visualization application\, which will allow agencies complete access to statewide traffic crash data. This course is designed for those individuals who will be making strategic decisions on how to address crash issues. \nPrior to the training date\, each attendee will receive an email including meeting details\, and a link to set up a new user account. Each attendee should register and set up their user account prior to the session so they can follow along. \nBelow are links to two Guides that highlight these applications.  \nhttp://support.numetric.com/en/articles/3275998-crash-query-app-overview \nhttp://support.numetric.com/en/articles/4558670-dashboard-overview-michigan-state-police \nYou can register for one of the training sessions in the attached schedule through MI-Train (https://www.train.org/main/welcome)\, using Course ID 1095647.  These courses are designed for those individuals who will be making strategic decisions on how to address crash issues. \nIf you have questions or need assistance\, please contact Sydney Smith at smiths57@michigan.gov or at 517-275-2856. \n\n\n\nTRAINING SESSIONS\nDATE\nSTART\nEND\nCAPACITY\n\n\nSession 1\nApril 22\, 2021\n1:00 p.m.\n3:00 p.m.\n60\n\n\nSession 2\nApril 27\, 2021\n10:00 a.m.\n12:00 p.m.\n60\n\n\nSession 3\nApril 30\, 2021\n10:00 a.m.\n12:00 p.m.\n60\n\n\nSession 4\nMay 3\, 2021\n1:00 p.m.\n3:00 p.m.\n60\n\n\nSession 5\nMay 5\, 2021\n10:00 a.m.\n12:00 p.m.\n60\n\n\nSession 6\nMay 11\, 2021\n10:00 a.m.\n12:00 p.m.\n60\n\n\nSession 7\nMay 13\, 2021\n1:00 p.m.\n3:00 p.m.\n60\n\n\n\n  \nCost:  This course is free. \nLocation:  These are on-line courses with registration through MI-TRAIN.
URL:https://www.leortc.com/event/crash-analysis-application-training/
LOCATION:Online Course through M-TRAIN
ATTACH;FMTTYPE=image/png:https://www.leortc.com/wp-content/uploads/2021/04/MSP-2.png
END:VEVENT
BEGIN:VEVENT
DTSTART;TZID=America/Detroit:20200616T090000
DTEND;TZID=America/Detroit:20200616T160000
DTSTAMP:20260424T184455
CREATED:20170926T224904Z
LAST-MODIFIED:20200526T182418Z
UID:10000079-1592298000-1592323200@www.leortc.com
SUMMARY:Basic TAC for Law Enforcement - 2 SLOTS LEFT - THIS IS AN ONLINE CLASS
DESCRIPTION:THIS IS AN ONLINE COURSE WITH REGISTRATION THROUGH M-TRAIN \n\n\n\n\n\n\n\n\n\n\n\n\n\nCourse Description:\nTAC for Law Enforcement Training – Course Description Furnished by M-TRAIN \n6.5 hours of instruction. \nThe Terminal Agency Coordinator Training (TAC) is designed to orient new TACs and provide current TACs with the responsibilities and requirements of the TAC assignment.  The training is offered as a one-day class.  Security and access\, review of record entry\, record validation process\, training and employment requirements\, and the audit process\, in addition to other relevant topics\, are covered in this training. \nEach agency that has direct access to LEIN/NCIC is required to have a Terminal Agency Coordinator (TAC).  Upon appointment to the position\, a new TAC is required to attend a TAC Class to learn about the duties and responsibilities associated with the assignment.  TACs are also required to recertify every two years by attending another TAC class.  TACs are responsible to ensure record accuracy and completeness\, perform monthly record validations\, administer certification exams to new LEIN operators\, and ensure all rules and policies for LEIN compliance are implemented and followed. \nAt the conclusion of the class\, the student will be able to:\n–  Properly perform monthly validations\n–  Demonstrate knowledge of LEIN laws\, rules and policies\n–  Provide internal training on LEIN and be able to administer the LEIN certification exam \nFor assistance or questions about the class\, please contact the class instructor\, or Ms. Jessica Lounds at 517-284-3076. \nState 9-1-1 approval number:  MSP201907B.\n\n\n Subject Area(s):\n\n\n\n\nOther\n\n\nLaw Enforcement\n\n\n\n\n\n\nAudience(s):\n\n\n\n\nOther\n\n\nLaw Enforcement\n\n\n\n\n\n\nBackground/Role(s):\nNone\n\n\nCourse Language(s):\n\n\n\n\nEnglish\n\n\n\n\n\n\n Course Level:\nIntermediate\n\n\nRegistration Required Outside of TRAIN:\nno\n\n\nRegistration Restrictions:\nMust be an employee of a LEIN/NCIC authorized agency (must have an assigned ORI).\n\n\nSponsor:\nMichigan State Police – CJIC/Security & Access Section\n\n\nAccreditations:\nnone\n\n\n\nYou MUST register on line with M-TRAIN:  https://mi.train.org/DesktopShell.aspx and the course ID 1088559.
URL:https://www.leortc.com/event/basic-tac-for-law-enforcement-2-2019-06-04-2020-06-02/
LOCATION:Online Course through M-TRAIN
ATTACH;FMTTYPE=image/png:https://www.leortc.com/wp-content/uploads/2017/05/LEINLogo_485663_7.png
END:VEVENT
END:VCALENDAR