BEGIN:VCALENDAR
VERSION:2.0
PRODID:-//LEORTC - Law Enforcement Officers Regional Training Commission - ECPv6.15.20//NONSGML v1.0//EN
CALSCALE:GREGORIAN
METHOD:PUBLISH
X-ORIGINAL-URL:https://www.leortc.com
X-WR-CALDESC:Events for LEORTC - Law Enforcement Officers Regional Training Commission
REFRESH-INTERVAL;VALUE=DURATION:PT1H
X-Robots-Tag:noindex
X-PUBLISHED-TTL:PT1H
BEGIN:VTIMEZONE
TZID:America/Detroit
BEGIN:DAYLIGHT
TZOFFSETFROM:-0500
TZOFFSETTO:-0400
TZNAME:EDT
DTSTART:20210314T070000
END:DAYLIGHT
BEGIN:STANDARD
TZOFFSETFROM:-0400
TZOFFSETTO:-0500
TZNAME:EST
DTSTART:20211107T060000
END:STANDARD
BEGIN:DAYLIGHT
TZOFFSETFROM:-0500
TZOFFSETTO:-0400
TZNAME:EDT
DTSTART:20220313T070000
END:DAYLIGHT
BEGIN:STANDARD
TZOFFSETFROM:-0400
TZOFFSETTO:-0500
TZNAME:EST
DTSTART:20221106T060000
END:STANDARD
BEGIN:DAYLIGHT
TZOFFSETFROM:-0500
TZOFFSETTO:-0400
TZNAME:EDT
DTSTART:20230312T070000
END:DAYLIGHT
BEGIN:STANDARD
TZOFFSETFROM:-0400
TZOFFSETTO:-0500
TZNAME:EST
DTSTART:20231105T060000
END:STANDARD
END:VTIMEZONE
BEGIN:VEVENT
DTSTART;TZID=America/Detroit:20221129T080000
DTEND;TZID=America/Detroit:20221202T160000
DTSTAMP:20260424T222345
CREATED:20220919T175859Z
LAST-MODIFIED:20220919T175859Z
UID:10000345-1669708800-1669996800@www.leortc.com
SUMMARY:Active Shooter Instructor
DESCRIPTION:Through media presentation\, innovative tactics and instructional techniques\, this class prepares participants to become trainers in rapid deployment intervention techniques. Topics include: \n-Background                             -Mission of first responders                    -History of active shooter incidents \n-Commonalities                        -Lessons learned                                   -Team responsibilities \n-Priorities during active shooter incidents \n-Principles to make quick decisions under stress \nBecause this is a train-the-trainer course\, officers will then be given the opportunity to demonstrate their newly acquired knowledge through teach-back exercises and practical scenarios. \nIn addition to the topics mentioned above\, students will be exposed to:\n-Lecture\n-Demonstrations\n-Isolation drills\n-Modular & comprehensive exercises\n-Practical scenarios using force-on-force simulators\n-Teach-back exercises \nClass size is limited!  \nINSTRUCTORS:                  Tactical Encounters Staff \nDate and Time:                 Tuesday\, November 29\, to Friday\, December 2\, 2022\, 8:00am-4:00pm daily \nLocation:                             Northwestern Preparatory Academy (200 Wing)\, G–2138 W. Carpenter Road\, Flint\, MI 48505 \nCost:                                     LEORTC Members – Pre-paid \nAll Others: $700 \nClick HERE to Register \n“This training has been registered with MCOLES for the use of PA 302 Law Enforcement Distribution funds.”
URL:https://www.leortc.com/event/active-shooter-instructor/
LOCATION:Northwestern Preparatory Academy\, G-2138 W. Carpenter Road\, Flint\, MI\, 48505\, United States
ATTACH;FMTTYPE=image/png:https://www.leortc.com/wp-content/uploads/2022/09/Tactical-Encounters.png
END:VEVENT
END:VCALENDAR