BEGIN:VCALENDAR
VERSION:2.0
PRODID:-//LEORTC - Law Enforcement Officers Regional Training Commission - ECPv6.15.20//NONSGML v1.0//EN
CALSCALE:GREGORIAN
METHOD:PUBLISH
X-WR-CALNAME:LEORTC - Law Enforcement Officers Regional Training Commission
X-ORIGINAL-URL:https://www.leortc.com
X-WR-CALDESC:Events for LEORTC - Law Enforcement Officers Regional Training Commission
REFRESH-INTERVAL;VALUE=DURATION:PT1H
X-Robots-Tag:noindex
X-PUBLISHED-TTL:PT1H
BEGIN:VTIMEZONE
TZID:America/Detroit
BEGIN:DAYLIGHT
TZOFFSETFROM:-0500
TZOFFSETTO:-0400
TZNAME:EDT
DTSTART:20180311T070000
END:DAYLIGHT
BEGIN:STANDARD
TZOFFSETFROM:-0400
TZOFFSETTO:-0500
TZNAME:EST
DTSTART:20181104T060000
END:STANDARD
BEGIN:DAYLIGHT
TZOFFSETFROM:-0500
TZOFFSETTO:-0400
TZNAME:EDT
DTSTART:20190310T070000
END:DAYLIGHT
BEGIN:STANDARD
TZOFFSETFROM:-0400
TZOFFSETTO:-0500
TZNAME:EST
DTSTART:20191103T060000
END:STANDARD
BEGIN:DAYLIGHT
TZOFFSETFROM:-0500
TZOFFSETTO:-0400
TZNAME:EDT
DTSTART:20200308T070000
END:DAYLIGHT
BEGIN:STANDARD
TZOFFSETFROM:-0400
TZOFFSETTO:-0500
TZNAME:EST
DTSTART:20201101T060000
END:STANDARD
BEGIN:DAYLIGHT
TZOFFSETFROM:-0500
TZOFFSETTO:-0400
TZNAME:EDT
DTSTART:20210314T070000
END:DAYLIGHT
BEGIN:STANDARD
TZOFFSETFROM:-0400
TZOFFSETTO:-0500
TZNAME:EST
DTSTART:20211107T060000
END:STANDARD
BEGIN:DAYLIGHT
TZOFFSETFROM:-0500
TZOFFSETTO:-0400
TZNAME:EDT
DTSTART:20220313T070000
END:DAYLIGHT
BEGIN:STANDARD
TZOFFSETFROM:-0400
TZOFFSETTO:-0500
TZNAME:EST
DTSTART:20221106T060000
END:STANDARD
BEGIN:DAYLIGHT
TZOFFSETFROM:-0500
TZOFFSETTO:-0400
TZNAME:EDT
DTSTART:20230312T070000
END:DAYLIGHT
BEGIN:STANDARD
TZOFFSETFROM:-0400
TZOFFSETTO:-0500
TZNAME:EST
DTSTART:20231105T060000
END:STANDARD
BEGIN:DAYLIGHT
TZOFFSETFROM:-0500
TZOFFSETTO:-0400
TZNAME:EDT
DTSTART:20240310T070000
END:DAYLIGHT
BEGIN:STANDARD
TZOFFSETFROM:-0400
TZOFFSETTO:-0500
TZNAME:EST
DTSTART:20241103T060000
END:STANDARD
BEGIN:DAYLIGHT
TZOFFSETFROM:-0500
TZOFFSETTO:-0400
TZNAME:EDT
DTSTART:20250309T070000
END:DAYLIGHT
BEGIN:STANDARD
TZOFFSETFROM:-0400
TZOFFSETTO:-0500
TZNAME:EST
DTSTART:20251102T060000
END:STANDARD
BEGIN:DAYLIGHT
TZOFFSETFROM:-0500
TZOFFSETTO:-0400
TZNAME:EDT
DTSTART:20260308T070000
END:DAYLIGHT
BEGIN:STANDARD
TZOFFSETFROM:-0400
TZOFFSETTO:-0500
TZNAME:EST
DTSTART:20261101T060000
END:STANDARD
END:VTIMEZONE
BEGIN:VEVENT
DTSTART;TZID=America/Detroit:20250325T150000
DTEND;TZID=America/Detroit:20250325T170000
DTSTAMP:20260424T161840
CREATED:20250217T185531Z
LAST-MODIFIED:20250226T134759Z
UID:10000583-1742914800-1742922000@www.leortc.com
SUMMARY:M.I.L.O. Simulator Training - School Active Shooter
DESCRIPTION:(2-hour training blocks) \nThis course provides various scenarios where officers respond to and react to situations that they may encounter while on duty. Officers interact with computer generated scenarios using verbal commands\, use of cover\, and the use of firearms as needed. Officers are critiqued at the completion of the scenario during the post critical incident reviews. \nGoals and Objectives \n*              Participants will be able to recognize threats\, select appropriate course(s) of action. \n*              Participants will be able to identify themselves when reasonable and give verbal challenges. \n*              Participants will learn the value of cover and concealment and the proper use of them. \n*              Participants will obtain invaluable experience in high stress scenarios which will aid them in their everyday encounters. \n*              Minimum of four scenarios per participant \n*              Various situations which will require participants to utilize: \n1) cover and concealment \n2) commands \n3) possible use of force \nDuty wear required. All firearms will be secured before participating. Safety rules in place for scenarios.  No personal weapons allowed. \nInstructor:         Dunell Chaney retired from the City of Flint Police Department and Mott Community College DPS. He is a MILO/FAAC instructor\, firearms instructor\, and an instructor for the Law Enforcement Regional Training Academy. \nDates/Times:                     Tuesday\, March 25\, 2025\, 8am-10am\, 10am-12pm\, 1pm-3pm\, 3pm-5pm \nLocation:                             Mott Community College – Southern Lakes Branch\, L.E.R.T.A. Building\, 2100 W. Thompson Road\, Fenton\, MI 48430 \nSession size:                       Limited to four (4) per session \nCost:                                      LEORTC Licensed Members – Prepaid \nAll Others $45 p/p \nClick HERE to Register \nWhen registering please indicate which time slot you wish to attend. \n“This training has been registered with MCOLES for the use of PA 302 Law Enforcement Distribution funds.” \nThis training is registered as\, “Agency Elected Continuing Professional Education (CPE).”
URL:https://www.leortc.com/event/m-i-l-o-simulator-training-school-active-shooter-7/2025-03-25/4/
LOCATION:Mott College – Southern Lakes\, 2100 W. Thompson Rd\, Fenton\, MI\, 48430\, United States
GEO:42.8642916;-83.7142621
X-APPLE-STRUCTURED-LOCATION;VALUE=URI;X-ADDRESS=Mott College – Southern Lakes 2100 W. Thompson Rd Fenton MI 48430 United States;X-APPLE-RADIUS=500;X-TITLE=2100 W. Thompson Rd:geo:-83.7142621,42.8642916
END:VEVENT
BEGIN:VEVENT
DTSTART;TZID=America/Detroit:20250325T130000
DTEND;TZID=America/Detroit:20250325T150000
DTSTAMP:20260424T161840
CREATED:20250217T185531Z
LAST-MODIFIED:20250226T134759Z
UID:10000582-1742907600-1742914800@www.leortc.com
SUMMARY:M.I.L.O. Simulator Training - School Active Shooter
DESCRIPTION:(2-hour training blocks) \nThis course provides various scenarios where officers respond to and react to situations that they may encounter while on duty. Officers interact with computer generated scenarios using verbal commands\, use of cover\, and the use of firearms as needed. Officers are critiqued at the completion of the scenario during the post critical incident reviews. \nGoals and Objectives \n*              Participants will be able to recognize threats\, select appropriate course(s) of action. \n*              Participants will be able to identify themselves when reasonable and give verbal challenges. \n*              Participants will learn the value of cover and concealment and the proper use of them. \n*              Participants will obtain invaluable experience in high stress scenarios which will aid them in their everyday encounters. \n*              Minimum of four scenarios per participant \n*              Various situations which will require participants to utilize: \n1) cover and concealment \n2) commands \n3) possible use of force \nDuty wear required. All firearms will be secured before participating. Safety rules in place for scenarios.  No personal weapons allowed. \nInstructor:         Dunell Chaney retired from the City of Flint Police Department and Mott Community College DPS. He is a MILO/FAAC instructor\, firearms instructor\, and an instructor for the Law Enforcement Regional Training Academy. \nDates/Times:                     Tuesday\, March 25\, 2025\, 8am-10am\, 10am-12pm\, 1pm-3pm\, 3pm-5pm \nLocation:                             Mott Community College – Southern Lakes Branch\, L.E.R.T.A. Building\, 2100 W. Thompson Road\, Fenton\, MI 48430 \nSession size:                       Limited to four (4) per session \nCost:                                      LEORTC Licensed Members – Prepaid \nAll Others $45 p/p \nClick HERE to Register \nWhen registering please indicate which time slot you wish to attend. \n“This training has been registered with MCOLES for the use of PA 302 Law Enforcement Distribution funds.” \nThis training is registered as\, “Agency Elected Continuing Professional Education (CPE).”
URL:https://www.leortc.com/event/m-i-l-o-simulator-training-school-active-shooter-7/2025-03-25/3/
LOCATION:Mott College – Southern Lakes\, 2100 W. Thompson Rd\, Fenton\, MI\, 48430\, United States
GEO:42.8642916;-83.7142621
X-APPLE-STRUCTURED-LOCATION;VALUE=URI;X-ADDRESS=Mott College – Southern Lakes 2100 W. Thompson Rd Fenton MI 48430 United States;X-APPLE-RADIUS=500;X-TITLE=2100 W. Thompson Rd:geo:-83.7142621,42.8642916
END:VEVENT
BEGIN:VEVENT
DTSTART;TZID=America/Detroit:20250325T100000
DTEND;TZID=America/Detroit:20250325T120000
DTSTAMP:20260424T161840
CREATED:20250217T185531Z
LAST-MODIFIED:20250226T134759Z
UID:10000581-1742896800-1742904000@www.leortc.com
SUMMARY:M.I.L.O. Simulator Training - School Active Shooter
DESCRIPTION:(2-hour training blocks) \nThis course provides various scenarios where officers respond to and react to situations that they may encounter while on duty. Officers interact with computer generated scenarios using verbal commands\, use of cover\, and the use of firearms as needed. Officers are critiqued at the completion of the scenario during the post critical incident reviews. \nGoals and Objectives \n*              Participants will be able to recognize threats\, select appropriate course(s) of action. \n*              Participants will be able to identify themselves when reasonable and give verbal challenges. \n*              Participants will learn the value of cover and concealment and the proper use of them. \n*              Participants will obtain invaluable experience in high stress scenarios which will aid them in their everyday encounters. \n*              Minimum of four scenarios per participant \n*              Various situations which will require participants to utilize: \n1) cover and concealment \n2) commands \n3) possible use of force \nDuty wear required. All firearms will be secured before participating. Safety rules in place for scenarios.  No personal weapons allowed. \nInstructor:         Dunell Chaney retired from the City of Flint Police Department and Mott Community College DPS. He is a MILO/FAAC instructor\, firearms instructor\, and an instructor for the Law Enforcement Regional Training Academy. \nDates/Times:                     Tuesday\, March 25\, 2025\, 8am-10am\, 10am-12pm\, 1pm-3pm\, 3pm-5pm \nLocation:                             Mott Community College – Southern Lakes Branch\, L.E.R.T.A. Building\, 2100 W. Thompson Road\, Fenton\, MI 48430 \nSession size:                       Limited to four (4) per session \nCost:                                      LEORTC Licensed Members – Prepaid \nAll Others $45 p/p \nClick HERE to Register \nWhen registering please indicate which time slot you wish to attend. \n“This training has been registered with MCOLES for the use of PA 302 Law Enforcement Distribution funds.” \nThis training is registered as\, “Agency Elected Continuing Professional Education (CPE).”
URL:https://www.leortc.com/event/m-i-l-o-simulator-training-school-active-shooter-7/2025-03-25/2/
LOCATION:Mott College – Southern Lakes\, 2100 W. Thompson Rd\, Fenton\, MI\, 48430\, United States
GEO:42.8642916;-83.7142621
X-APPLE-STRUCTURED-LOCATION;VALUE=URI;X-ADDRESS=Mott College – Southern Lakes 2100 W. Thompson Rd Fenton MI 48430 United States;X-APPLE-RADIUS=500;X-TITLE=2100 W. Thompson Rd:geo:-83.7142621,42.8642916
END:VEVENT
BEGIN:VEVENT
DTSTART;TZID=America/Detroit:20250325T080000
DTEND;TZID=America/Detroit:20250325T100000
DTSTAMP:20260424T161840
CREATED:20250217T185531Z
LAST-MODIFIED:20250226T134759Z
UID:10000580-1742889600-1742896800@www.leortc.com
SUMMARY:M.I.L.O. Simulator Training - School Active Shooter
DESCRIPTION:(2-hour training blocks) \nThis course provides various scenarios where officers respond to and react to situations that they may encounter while on duty. Officers interact with computer generated scenarios using verbal commands\, use of cover\, and the use of firearms as needed. Officers are critiqued at the completion of the scenario during the post critical incident reviews. \nGoals and Objectives \n*              Participants will be able to recognize threats\, select appropriate course(s) of action. \n*              Participants will be able to identify themselves when reasonable and give verbal challenges. \n*              Participants will learn the value of cover and concealment and the proper use of them. \n*              Participants will obtain invaluable experience in high stress scenarios which will aid them in their everyday encounters. \n*              Minimum of four scenarios per participant \n*              Various situations which will require participants to utilize: \n1) cover and concealment \n2) commands \n3) possible use of force \nDuty wear required. All firearms will be secured before participating. Safety rules in place for scenarios.  No personal weapons allowed. \nInstructor:         Dunell Chaney retired from the City of Flint Police Department and Mott Community College DPS. He is a MILO/FAAC instructor\, firearms instructor\, and an instructor for the Law Enforcement Regional Training Academy. \nDates/Times:                     Tuesday\, March 25\, 2025\, 8am-10am\, 10am-12pm\, 1pm-3pm\, 3pm-5pm \nLocation:                             Mott Community College – Southern Lakes Branch\, L.E.R.T.A. Building\, 2100 W. Thompson Road\, Fenton\, MI 48430 \nSession size:                       Limited to four (4) per session \nCost:                                      LEORTC Licensed Members – Prepaid \nAll Others $45 p/p \nClick HERE to Register \nWhen registering please indicate which time slot you wish to attend. \n“This training has been registered with MCOLES for the use of PA 302 Law Enforcement Distribution funds.” \nThis training is registered as\, “Agency Elected Continuing Professional Education (CPE).”
URL:https://www.leortc.com/event/m-i-l-o-simulator-training-school-active-shooter-7/2025-03-25/1/
LOCATION:Mott College – Southern Lakes\, 2100 W. Thompson Rd\, Fenton\, MI\, 48430\, United States
GEO:42.8642916;-83.7142621
X-APPLE-STRUCTURED-LOCATION;VALUE=URI;X-ADDRESS=Mott College – Southern Lakes 2100 W. Thompson Rd Fenton MI 48430 United States;X-APPLE-RADIUS=500;X-TITLE=2100 W. Thompson Rd:geo:-83.7142621,42.8642916
END:VEVENT
BEGIN:VEVENT
DTSTART;TZID=America/Detroit:20221215T083000
DTEND;TZID=America/Detroit:20221215T123000
DTSTAMP:20260424T161840
CREATED:20221024T155029Z
LAST-MODIFIED:20221024T155029Z
UID:10000353-1671093000-1671107400@www.leortc.com
SUMMARY:Legal Update
DESCRIPTION:Will include new Legislative and Criminal Procedure Updates from the Prosecutor’s Association \nThis seminar will include a review of current legislation affecting law enforcement as well as an update on Search & Seizure\, Laws of Arrest\, Interviews\, and Search Warrant issues.  Incorporated within the framework of this training will be a Laws of Arrest refresher and a review of related statutes. \n\n\n\n\nYou are encouraged to forward any question or issue(s) you would like addressed by the presenters to the LEORTC and they will be covered in the seminar. \nPlease send a separate email message and/or call us with your issue or question.  \n\n\n\n\n  \nDate:                         December 15\, 2022\, (Thursday) \nTime:                         8:30 am-12:30 pm \nLocation:                  Mott Community College – Southern Lakes Branch Room 1206\, 2100 W. Thompson Road\, Fenton\, MI 48430. \nClass Size:                Limited to 30 \nCost:                          LEORTC Licensed Members – Prepaid \nAll Others:               $50 p/p \nPresenter(s):           Chief Assistant Prosecuting Attorney Tammy Phillips \nClick HERE to Register \n“This training has been registered with MCOLES for the use of PA 302 Law Enforcement Distribution funds.”
URL:https://www.leortc.com/event/legal-update/
LOCATION:Mott College – Southern Lakes\, 2100 W. Thompson Rd\, Fenton\, MI\, 48430\, United States
ATTACH;FMTTYPE=image/jpeg:https://www.leortc.com/wp-content/uploads/2017/05/legal-update.jpg
GEO:42.8642916;-83.7142621
X-APPLE-STRUCTURED-LOCATION;VALUE=URI;X-ADDRESS=Mott College – Southern Lakes 2100 W. Thompson Rd Fenton MI 48430 United States;X-APPLE-RADIUS=500;X-TITLE=2100 W. Thompson Rd:geo:-83.7142621,42.8642916
END:VEVENT
BEGIN:VEVENT
DTSTART;TZID=America/Detroit:20221104T083000
DTEND;TZID=America/Detroit:20221104T163000
DTSTAMP:20260424T161840
CREATED:20180911T165154Z
LAST-MODIFIED:20221024T132534Z
UID:10000241-1667550600-1667579400@www.leortc.com
SUMMARY:Microsoft Excel Level II - THIS CLASS IS CANCELED WE WILL ATTEMPT TO RESCHEDULE
DESCRIPTION:THIS CLASS IS CANCELED WE WILL ATTEMPT TO RESCHEDULE \nMicrosoft Excel Level II is an 8-hour class. With the loss of support staff and the need for additional justification for resources\, it is essential that information is presented in an understandable and data driven format.  Excel provides the vehicle for you and your staff to accomplish that mission.  This is the follow-up course to Microsoft Excel Level 1 (required). \nThis class will be conducted in the computer lab and will combine presentation with a step-by step hands-on learning for an adult learning experience. Participants will actually build and work with Excel documents. \nTopics included in this class are: \n\nWorking with Advanced Formulas                   •  Managing Workbooks\nUsing Tables (Databases)                                  •  Analyzing Table Data\nAutomating Worksheet Tasks                           • Enhancing Charts and Worksheets\n\nEach participant will also receive handouts and a USB/Flash Drive preloaded with the files that will be used in the course. \nInstructor: Michael Richardson\, Computer Training Solutions \nMike has over 30 year of Law Enforcement/Municipal and teaching experience. He is currently instructing at the Oakland Community College and Macomb Community College\, Advanced Training Facilities. \nLocation:  Mott Community College – Southern Lakes Branch\, 2100 W. Thompson Road\, Fenton\, MI 48430 \nClass Size:   Limited to 20 \nCost:              LEORTC Member Licensed Officer – Prepaid \nLEORTC Non-Licensed Personnel – $45.00 p/p \nNon-Member Agencies –                    $100.00 p/p \nClick HERE to Register \n“This training has been registered with MCOLES for the use of PA 302 Law Enforcement Distribution funds.”
URL:https://www.leortc.com/event/microsoft-excel-level-ii-2020-04-22-2021-11-19-2022-11-04/
LOCATION:Mott College – Southern Lakes\, 2100 W. Thompson Rd\, Fenton\, MI\, 48430\, United States
ATTACH;FMTTYPE=image/jpeg:https://www.leortc.com/wp-content/uploads/2017/04/Microsoft-Excel.jpg
GEO:42.8642916;-83.7142621
X-APPLE-STRUCTURED-LOCATION;VALUE=URI;X-ADDRESS=Mott College – Southern Lakes 2100 W. Thompson Rd Fenton MI 48430 United States;X-APPLE-RADIUS=500;X-TITLE=2100 W. Thompson Rd:geo:-83.7142621,42.8642916
END:VEVENT
BEGIN:VEVENT
DTSTART;TZID=America/Detroit:20221028T083000
DTEND;TZID=America/Detroit:20221028T163000
DTSTAMP:20260424T161840
CREATED:20180911T161928Z
LAST-MODIFIED:20221024T132433Z
UID:10000239-1666945800-1666974600@www.leortc.com
SUMMARY:Microsoft Excel Level I - THIS CLASS IS CANCELED WE WILL ATTEMPT TO RESCHEDULE
DESCRIPTION:THIS CLASS IS CANCELED WE WILL ATTEMPT TO RESCHEDULE \nMicrosoft Excel Level I is an 8-hour class and a prerequisite for Microsoft Excel Level II which is being offered on November 4\, 2022. With the loss of support staff and the need for additional justification for resources\, it is essential that information is presented in an understandable and data driven format.  Excel provides the vehicle for you and your staff to accomplish that mission. \n  \nThis class will be conducted in the computer lab and will combine presentation with a step-by step hands-on learning for an adult learning experience. Participants will actually build and work with Excel documents. \nTopics included in this class are: \n\nAn orientation to Microsoft Office Excel Functions\,                      • Formatting and Enhancing Worksheets\nWorking with Electronic Spreadsheets                                           • Working with Formulas and Functions\nCreating Worksheets\, Entering and Editing Data                         • Printing Worksheets\nWorking with Charts                                                                            • Manipulating Worksheet Data\n\nInstructor: Michael Richardson\, Computer Training Solutions \nMike has over 30 year of Law Enforcement/Municipal and teaching experience. He is currently instructing at the Oakland Community College and Macomb Community College\, Advanced Training Facilities. \nLocation:  Mott Community College – Southern Lakes Campus\, 2100 W. Thompson Road\, Fenton\, MI 48430 \nCost:                  LEORTC Member Licensed Officer   –       Prepaid           Non-Member Agencies –           $100.00 p/p \nLEORTC Non-Licensed Personnel –        $45.00 p/p \nClass Size:       Limited to 20 \nEach course participant will also receive handouts and a USB/Flash Drive preloaded with course files. \nClick HERE to Register \n“This training has been registered with MCOLES for the use of PA 302 Law Enforcement Distribution funds.”
URL:https://www.leortc.com/event/microsoft-excel-level-i-2020-04-15-2021-11-12-2022-10-28/
LOCATION:Mott College – Southern Lakes\, 2100 W. Thompson Rd\, Fenton\, MI\, 48430\, United States
ATTACH;FMTTYPE=image/jpeg:https://www.leortc.com/wp-content/uploads/2017/04/Microsoft-Excel.jpg
GEO:42.8642916;-83.7142621
X-APPLE-STRUCTURED-LOCATION;VALUE=URI;X-ADDRESS=Mott College – Southern Lakes 2100 W. Thompson Rd Fenton MI 48430 United States;X-APPLE-RADIUS=500;X-TITLE=2100 W. Thompson Rd:geo:-83.7142621,42.8642916
END:VEVENT
BEGIN:VEVENT
DTSTART;TZID=America/Detroit:20190329T083000
DTEND;TZID=America/Detroit:20190329T163000
DTSTAMP:20260424T161840
CREATED:20180911T165154Z
LAST-MODIFIED:20191112T191459Z
UID:10000240-1553848200-1553877000@www.leortc.com
SUMMARY:Microsoft Excel Level II
DESCRIPTION:Microsoft Excel Level II is an 8-hour class. With the loss of support staff and the need for additional justification for resources\, it is essential that information is presented in an understandable and data driven format.  Excel provides the vehicle for you and your staff to accomplish that mission.  This is the follow-up course to Microsoft Excel Level 1 (required). \nThis class will be conducted in the computer lab and will combine presentation with a step-by step hands-on learning for an adult learning experience. Participants will actually build and work with Excel documents. \nTopics included in this class are: \n\nWorking with Advanced Formulas                   •  Managing Workbooks\nUsing Tables (Databases)                                  •  Analyzing Table Data\nAutomating Worksheet Tasks                           • Enhancing Charts and Worksheets\n\nEach participant will also receive handouts and a USB/Flash Drive preloaded with the files that will be used in the course. \nInstructor: Michael Richardson\, Computer Training Solutions \nMike has over 30 year of Law Enforcement/Municipal and teaching experience. He is currently instructing at the Oakland Community College and Macomb Community College\, Advanced Training Facilities. \nClass Size:   Limited to 20 \nCost:              LEORTC Member Licensed Officer – Prepaid \nLEORTC Non-Licensed Personnel – $35.00 p/p \nNon-Member Agencies –                    $65.00 p/p \nClick HERE to Register \n“This training has been registered with MCOLES for the use of PA 302 Law Enforcement Distribution funds.”
URL:https://www.leortc.com/event/microsoft-excel-level-ii/
LOCATION:Mott College – Southern Lakes\, 2100 W. Thompson Rd\, Fenton\, MI\, 48430\, United States
ATTACH;FMTTYPE=image/jpeg:https://www.leortc.com/wp-content/uploads/2017/04/Microsoft-Excel.jpg
GEO:42.8642916;-83.7142621
X-APPLE-STRUCTURED-LOCATION;VALUE=URI;X-ADDRESS=Mott College – Southern Lakes 2100 W. Thompson Rd Fenton MI 48430 United States;X-APPLE-RADIUS=500;X-TITLE=2100 W. Thompson Rd:geo:-83.7142621,42.8642916
END:VEVENT
BEGIN:VEVENT
DTSTART;TZID=America/Detroit:20190322T083000
DTEND;TZID=America/Detroit:20190322T163000
DTSTAMP:20260424T161840
CREATED:20180911T161928Z
LAST-MODIFIED:20191112T183659Z
UID:10000238-1553243400-1553272200@www.leortc.com
SUMMARY:Microsoft Excel Level I
DESCRIPTION:Microsoft Excel Level I is an 8-hour class and a prerequisite for Microsoft Excel Level II which is being offered on March 29\, 2019. With the loss of support staff and the need for additional justification for resources\, it is essential that information is presented in an understandable and data driven format.  Excel provides the vehicle for you and your staff to accomplish that mission. \n  \nThis class will be conducted in the computer lab and will combine presentation with a step-by step hands-on learning for an adult learning experience. Participants will actually build and work with Excel documents. \nTopics included in this class are: \n\nAn orientation to Microsoft Office Excel Functions\,                      • Formatting and Enhancing Worksheets\nWorking with Electronic Spreadsheets                                           • Working with Formulas and Functions\nCreating Worksheets\, Entering and Editing Data                         • Printing Worksheets\nWorking with Charts                                                                      • Manipulating Worksheet Data\n\nInstructor: Michael Richardson\, Computer Training Solutions \nMike has over 30 year of Law Enforcement/Municipal and teaching experience. He is currently instructing at the Oakland Community College and Macomb Community College\, Advanced Training Facilities. \nCost:                  LEORTC Member Licensed Officer   –       Prepaid                            Non-Member Agencies –                            $65.00 p/p \nLEORTC Non-Licensed Personnel –        $35.00 p/p \nClass Size:       Limited to 20 \nEach course participant will also receive handouts and a USB/Flash Drive preloaded with course files. \nClick HERE to Register \n“This training has been registered with MCOLES for the use of PA 302 Law Enforcement Distribution funds.”
URL:https://www.leortc.com/event/microsoft-excel-level-i/
LOCATION:Mott College – Southern Lakes\, 2100 W. Thompson Rd\, Fenton\, MI\, 48430\, United States
ATTACH;FMTTYPE=image/jpeg:https://www.leortc.com/wp-content/uploads/2017/04/Microsoft-Excel.jpg
GEO:42.8642916;-83.7142621
X-APPLE-STRUCTURED-LOCATION;VALUE=URI;X-ADDRESS=Mott College – Southern Lakes 2100 W. Thompson Rd Fenton MI 48430 United States;X-APPLE-RADIUS=500;X-TITLE=2100 W. Thompson Rd:geo:-83.7142621,42.8642916
END:VEVENT
BEGIN:VEVENT
DTSTART;TZID=America/Detroit:20190312T083000
DTEND;TZID=America/Detroit:20190312T163000
DTSTAMP:20260424T161840
CREATED:20180828T173518Z
LAST-MODIFIED:20180828T173518Z
UID:10000204-1552379400-1552408200@www.leortc.com
SUMMARY:Introduction to Latent Fingerprinting
DESCRIPTION:This 8-hour seminar is a combination of instructor presentation and instructor supervised practical exercises to provide students with the ability to successfully develop and preserve latent fingerprints using the basic brush and powder method. Topics covered in this course include: \nThe History of Fingerprints                               Terms & Definition \nSkin Structure & Latent Prints                          Types of Latent Prints \nBasic Fingerprint Patterns                                 Fingerprint Details Used for Identification \nTypes of Powders and Brushes                        Brush & Powder Development Techniques \nPractical Exercises                                             Introduction to AFIS \nAdvanced Development Techniques (magnetic powders\, small particle reagents\, superglue\, ninhydrin) \nClass Size:       Limited to 15 \nCost:                LEORTC Member and/or AFIS Consortium Members – Prepaid \nNon-LEORTC and/or AFIS Consortium Members – $60.00 p/p \nInstructor: Phil Thick\, AFIS Coordinator\, Genesee-Lapeer-Shiawassee-Livingston AFIS Consortium. Phil has had extensive training in subject matter related to the recovery and identification of latent fingerprints.  Since 1975\, he has been qualified to give expert testimony regarding fingerprint identifications over 240 times in District\, Circuit\, and U.S. Federal Court. \nClick HERE to Register \n“This training has been registered with MCOLES for the use of PA 302 Law Enforcement Distribution funds.”
URL:https://www.leortc.com/event/introduction-to-latent-fingerprinting-7/
LOCATION:Mott College – Southern Lakes\, 2100 W. Thompson Rd\, Fenton\, MI\, 48430\, United States
ATTACH;FMTTYPE=image/jpeg:https://www.leortc.com/wp-content/uploads/2017/03/Fingerprint.jpg
GEO:42.8642916;-83.7142621
X-APPLE-STRUCTURED-LOCATION;VALUE=URI;X-ADDRESS=Mott College – Southern Lakes 2100 W. Thompson Rd Fenton MI 48430 United States;X-APPLE-RADIUS=500;X-TITLE=2100 W. Thompson Rd:geo:-83.7142621,42.8642916
END:VEVENT
END:VCALENDAR