BEGIN:VCALENDAR
VERSION:2.0
PRODID:-//LEORTC - Law Enforcement Officers Regional Training Commission - ECPv6.15.20//NONSGML v1.0//EN
CALSCALE:GREGORIAN
METHOD:PUBLISH
X-WR-CALNAME:LEORTC - Law Enforcement Officers Regional Training Commission
X-ORIGINAL-URL:https://www.leortc.com
X-WR-CALDESC:Events for LEORTC - Law Enforcement Officers Regional Training Commission
REFRESH-INTERVAL;VALUE=DURATION:PT1H
X-Robots-Tag:noindex
X-PUBLISHED-TTL:PT1H
BEGIN:VTIMEZONE
TZID:America/Detroit
BEGIN:DAYLIGHT
TZOFFSETFROM:-0500
TZOFFSETTO:-0400
TZNAME:EDT
DTSTART:20150308T070000
END:DAYLIGHT
BEGIN:STANDARD
TZOFFSETFROM:-0400
TZOFFSETTO:-0500
TZNAME:EST
DTSTART:20151101T060000
END:STANDARD
BEGIN:DAYLIGHT
TZOFFSETFROM:-0500
TZOFFSETTO:-0400
TZNAME:EDT
DTSTART:20160313T070000
END:DAYLIGHT
BEGIN:STANDARD
TZOFFSETFROM:-0400
TZOFFSETTO:-0500
TZNAME:EST
DTSTART:20161106T060000
END:STANDARD
BEGIN:DAYLIGHT
TZOFFSETFROM:-0500
TZOFFSETTO:-0400
TZNAME:EDT
DTSTART:20170312T070000
END:DAYLIGHT
BEGIN:STANDARD
TZOFFSETFROM:-0400
TZOFFSETTO:-0500
TZNAME:EST
DTSTART:20171105T060000
END:STANDARD
BEGIN:DAYLIGHT
TZOFFSETFROM:-0500
TZOFFSETTO:-0400
TZNAME:EDT
DTSTART:20180311T070000
END:DAYLIGHT
BEGIN:STANDARD
TZOFFSETFROM:-0400
TZOFFSETTO:-0500
TZNAME:EST
DTSTART:20181104T060000
END:STANDARD
BEGIN:DAYLIGHT
TZOFFSETFROM:-0500
TZOFFSETTO:-0400
TZNAME:EDT
DTSTART:20190310T070000
END:DAYLIGHT
BEGIN:STANDARD
TZOFFSETFROM:-0400
TZOFFSETTO:-0500
TZNAME:EST
DTSTART:20191103T060000
END:STANDARD
END:VTIMEZONE
BEGIN:VEVENT
DTSTART;TZID=America/Detroit:20180905T083000
DTEND;TZID=America/Detroit:20180905T163000
DTSTAMP:20260424T195429
CREATED:20180410T230026Z
LAST-MODIFIED:20191119T181251Z
UID:10000167-1536136200-1536165000@www.leortc.com
SUMMARY:Report Writing for Corrections
DESCRIPTION:The purpose of this course is to provide participants with a practical understanding of the importance of report writing in corrections.  Those attending will gain useful techniques to write complete\, clear\, concise and accurate reports. \n\nDefine what a report is\nUnderstand (3) reasons for a well written report\nIdentify various types of corrections reports\nCorrections officers’ responsibility in writing reports\nImportance of accuracy in report writing\n\n  \nInstructor:  Sgt. Timothy McGuckin is a 13 year veteran with the Lapeer County Sheriff’s Office. He has been an instructor with the LEORTC and LERTA academies for over 10 years as well as an adjunct professor for Kirtland Community College.  Sgt. McGuckin is a firearms\, chemical aerosol and master Taser Instructor.  He is a member of the Lapeer County Sheriff’s Office Special Response Team as a Hostage/Crisis Negotiator and Sheriff’s office underwater recovery dive team. \nCost:              LEORTC Licensed Members – Prepaid \nLEORTC Non-Licensed Personnel – $35 p/p \nNon-Member Agencies – $60 p/p \nClick HERE to Register \n“This training has been registered with MCOLES for the use of PA 302 Law Enforcement Distribution funds.”
URL:https://www.leortc.com/event/report-writing-for-corrections/
LOCATION:Mott College – Northern Tier\, 4082 W. Vienna Road\, Clio\, MI\, 48420\, United States
GEO:43.1790148;-83.7572991
X-APPLE-STRUCTURED-LOCATION;VALUE=URI;X-ADDRESS=Mott College – Northern Tier 4082 W. Vienna Road Clio MI 48420 United States;X-APPLE-RADIUS=500;X-TITLE=4082 W. Vienna Road:geo:-83.7572991,43.1790148
END:VEVENT
BEGIN:VEVENT
DTSTART;TZID=America/Detroit:20180807T083000
DTEND;TZID=America/Detroit:20180807T163000
DTSTAMP:20260424T195429
CREATED:20170201T220239Z
LAST-MODIFIED:20180723T211156Z
UID:10000005-1533630600-1533659400@www.leortc.com
SUMMARY:Emergency Vehicle Operation - EVO
DESCRIPTION:THIS CLASS IS FULL\, PLEASE CHECK OUT OUR OTHER DATES SCHEDULED FOR EVO THIS YEAR \nParticipants will start the day at Mott College – Clio and after instruction proceed to Auto City Speedway. \n\n\n\n\n\n\n\nThis 1-day refresher will provide a review of the laws and policies related to emergency vehicle operation\, pursuits\, and the proper course of action based on related circumstances. \nThis training should be taken by officers that have not had the course within the last three years. \nAs a matter of safety\, and as a condition of participation\, officers will be asked to sign the Course Rules Memorandum. \n\n\n\n \n\n\n\nIn addition to the regular skills review\, students will participate in a pursuit check ride with an instructor. Students are required to attend all class hours and successfully complete the course to receive a certificate. \nEquipment Needed: –Department police car in proper operating condition \n-Uniform of the day (recommended) \n-Duty belt and body armor (recommended) \nLoose items must be removed from the trunk and passenger compartments of the vehicles. \nNo more than two officers per vehicle. \nNo shorts\, sandals\, or pocket weapons. \nInstructor:              LEORTC Member Certified EVO Instructors \nClass Size:               Limited to 16 \nCost:                        LEORTC Member Licensed Officers – Prepaid Non-Member Agencies – $150.00 p/p \nRegistration:           Initial Registrations Limited to (2) Per Agency – Remainder on Waiting List \nREGISTRATION FORM
URL:https://www.leortc.com/event/emergency-vehicle-operation-evo-8-2018-08-07/
LOCATION:Mott College – Northern Tier\, 4082 W. Vienna Road\, Clio\, MI\, 48420\, United States
ATTACH;FMTTYPE=image/jpeg:https://www.leortc.com/wp-content/uploads/2016/11/Homepage-header-2-1.jpg
GEO:43.1790148;-83.7572991
X-APPLE-STRUCTURED-LOCATION;VALUE=URI;X-ADDRESS=Mott College – Northern Tier 4082 W. Vienna Road Clio MI 48420 United States;X-APPLE-RADIUS=500;X-TITLE=4082 W. Vienna Road:geo:-83.7572991,43.1790148
END:VEVENT
BEGIN:VEVENT
DTSTART;TZID=America/Detroit:20180504T080000
DTEND;TZID=America/Detroit:20180504T160000
DTSTAMP:20260424T195429
CREATED:20171115T215633Z
LAST-MODIFIED:20171115T215633Z
UID:10000119-1525420800-1525449600@www.leortc.com
SUMMARY:Digital Crime Scene Photography
DESCRIPTION:This one-day course is designed for crime scene investigators\, police officers\, evidence technicians\, and other personnel who have the responsibility to properly document crime scenes & physical evidence through photography.  This course is geared toward both experienced & inexperienced photographers.  Participants will be provided complete instructions on how to operate their digital camera\, utilize a variety of lighting techniques\, document items in difficult positions\, and document the crime scene. \nCourse Outline: \n\nPhotography fundamentals\nUnderstanding the basic operation of digital cameras\nDigital camera specifics\nLighting techniques\nEvidentiary photography\nCrime scene photography (indoor\, outdoor & vehicles)\n\n  \nHands-On Portion: \n\nTaking a great deal of photographs with a variety of camera settings\nImmediate feedback with image review\n\nRequired Equipment:  Digital camera\, owner’s manual and a tripod \nInstructor:       Forensic Scientist Keith LaMont\, MSP Bridgeport Laboratory\, has been with the Trace Evidence Unit for 18 years and has experience in: Footwear & Tire Tracks\, Crime Scene Processing\, Arson\, Paint\, Glass\, and Explosive Residue.  He has extensive crime scene experience\, processing over 225 suspicious death crime scenes.  He has a Bachelor of Science from MSU with a major in Forensic Science. \nClass size:  20 \nCost:                 LEORTC Member Licensed Officer – repaid \nLEORTC Non-Licensed Personnel –   $30.00 p/p     All Others – $65.00 p/p \nClick HERE to Register
URL:https://www.leortc.com/event/digital-crime-scene-photography-2/
LOCATION:Mott College – Northern Tier\, 4082 W. Vienna Road\, Clio\, MI\, 48420\, United States
GEO:43.1790148;-83.7572991
X-APPLE-STRUCTURED-LOCATION;VALUE=URI;X-ADDRESS=Mott College – Northern Tier 4082 W. Vienna Road Clio MI 48420 United States;X-APPLE-RADIUS=500;X-TITLE=4082 W. Vienna Road:geo:-83.7572991,43.1790148
END:VEVENT
BEGIN:VEVENT
DTSTART;TZID=America/Detroit:20171130T083000
DTEND;TZID=America/Detroit:20171201T163000
DTSTAMP:20260424T195429
CREATED:20170809T223459Z
LAST-MODIFIED:20170809T223459Z
UID:10000040-1512030600-1512145800@www.leortc.com
SUMMARY:Working Behind Bars
DESCRIPTION:The Toughest Job in Law Enforcement \nWorking Behind Bars is one of most challenging and dangerous careers in law enforcement. There is also the potential for significant liability\, both individual and organizational\, associated with the responsibilities of the Corrections Officer.  It is incumbent on each officer to understand and utilize leadership skills to minimize liability pitfalls.  This course has been developed to assist officers in becoming skilled professionals and self-directed leaders. \nThis course deals with many of the issues involved with Working in Corrections. It includes first hand experiences and findings of Working Behind Bars\, classroom lecture and several practical exercises. \nAt the end of this course\, students will be able to: \n\nUnderstand different types of leadership\n\n\nUnderstand the steps of problem solving\n\n\nUnderstand the different types of counseling \n\n\nUnderstand the many different cultures in our society and how to work with them\n\n\nDiscuss many of the liability issues associated with Corrections\n\n\nAnd Much More…\n\n  \nInstructor:  Mark Butler is highly trained in many aspects of Law Enforcement including all areas of Corrections.  He worked in one of the largest jails on the East Coast.  This facility consisted of every type of incarceration and he managed over 100 inmates during an ordinary shift.  He has performed countless cell extractions\, transports\, and searches.  Mark has trained many officers across the country and is highly respected in his field. \nMark continues to work in the field and has taught all over the United States and Internationally\, He has trained and worked with some of the world’s best trained operators\, including; Marine Force Recon\, Army Rangers\, Special Forces\, and Navy Seals. \nTarget Audience:  Corrections Officers and Supervisors\, Law Enforcement Officers & Support Staff. \nLocation:             Mott College-Northern Tier\, 4082 W. Vienna Road\, Clio\, MI   48420 \n  \nHotel:   Comfort Inn\, 11911 Dixie Highway\, Birch Run\, MI   48415                 \n                Use code LEORTC for $75 discounted rate (November 29th & 30th)  (989) 624-7777 \n  \nCost:      LEORTC Licensed members – Prepaid     LEORTC Non-Licensed Personnel – $125 per person         All Others – $150 per person \nREGISTRATION FORM
URL:https://www.leortc.com/event/working-behind-bars/
LOCATION:Mott College – Northern Tier\, 4082 W. Vienna Road\, Clio\, MI\, 48420\, United States
GEO:43.1790148;-83.7572991
X-APPLE-STRUCTURED-LOCATION;VALUE=URI;X-ADDRESS=Mott College – Northern Tier 4082 W. Vienna Road Clio MI 48420 United States;X-APPLE-RADIUS=500;X-TITLE=4082 W. Vienna Road:geo:-83.7572991,43.1790148
END:VEVENT
BEGIN:VEVENT
DTSTART;TZID=America/Detroit:20171020T080000
DTEND;TZID=America/Detroit:20171020T160000
DTSTAMP:20260424T195429
CREATED:20170615T230610Z
LAST-MODIFIED:20170919T230053Z
UID:10000026-1508486400-1508515200@www.leortc.com
SUMMARY:Footwear Impression Workshop
DESCRIPTION:This one day hands-on course is designed for crime scene investigators\, police officers\, evidence technicians\, and other personnel\, who have the responsibility to properly document and collect footwear evidence at the crime scene. This course is geared toward both experiences evidence collection personnel as well as personnel with limited experience in footwear evidence processing.  The participants will be provided instruction on how to:  locate\, collect and preserve footwear evidence. \nCourse outline: \n\n      Footwear Introduction\n      Manufacturing of Footwear\n      Footwear Examination\n      Awareness and detection of footwear evidence\n      Documenting footwear (general photographs and sketch)\n      Footwear Enhancement\n\nHands-on Portion: \n\n      Collection and preservation of various types of footwear impression\n      Two dimensional\, positive/negative impressions\, dust impressions\n      Three dimensional various soil types\, unusual surfaces\, snow impression (if applicable)\n\nRequired Equipment: \n\n     Tripod\n     Digital Camera\n     Owner’s manual for the camera\n\nClass Size Limited to 20 \nCost:               LEORTC Member Licensed Officer – Prepaid                       Non-Members Agencies – $70.00 p/p                    LEORTC Non-Licensed Personnel – $35.00 p/p \nInstructor: Forensic Scientist Keith LaMont\, MSP Bridgeport Crime Lab. Mr. LaMont has been with the trace evidence unit of the Crime Lab for 18 years. His areas of expertise include: footwear and tire tracks\, crime scene processing\, arson\, paint\, glass\, and explosive residue. He has an extensive amount of crime scene processing experience\, processing over 225 suspicious death crime scenes. He has a Bachelor of Science degree from MSU with a major in Forensic Science\, as well as numerous specialized workshops in various aspects of trace evidence subject matter. \nREGISTRATION FORM \n 
URL:https://www.leortc.com/event/footwear-impression-workshop/
LOCATION:Mott College – Northern Tier\, 4082 W. Vienna Road\, Clio\, MI\, 48420\, United States
ATTACH;FMTTYPE=image/jpeg:https://www.leortc.com/wp-content/uploads/2017/06/footwear-impressions.jpg
GEO:43.1790148;-83.7572991
X-APPLE-STRUCTURED-LOCATION;VALUE=URI;X-ADDRESS=Mott College – Northern Tier 4082 W. Vienna Road Clio MI 48420 United States;X-APPLE-RADIUS=500;X-TITLE=4082 W. Vienna Road:geo:-83.7572991,43.1790148
END:VEVENT
BEGIN:VEVENT
DTSTART;TZID=America/Detroit:20161202T083000
DTEND;TZID=America/Detroit:20161202T163000
DTSTAMP:20260424T195429
CREATED:20161110T203445Z
LAST-MODIFIED:20161123T013736Z
UID:10000048-1480667400-1480696200@www.leortc.com
SUMMARY:Jail Suicide Assessment & Prevention
DESCRIPTION:This course examines the problem of jail suicides and presents the latest information on how to best assess & screen an inmate for suicide risk.\nSuicide prevention plans are presented as well as effective crisis communication techniques for dealing with an inmate who is suicidal.\nThis training includes discussion\, group exercises\, and powerful video scenario vignettes. \nInstructor:\nGreg Young is the Head Chaplain and Critical Incident Stress Debriefer for the Germantown\, Wisconsin Police Department.  Greg is currently a trainer for the International Critical Incident Stress Foundation.  In addition to having Undergraduate and Graduate Degrees\, he was trained as a pastoral psychotherapist at the Center for Religion and Psychotherapy of Chicago. \nCost: LEORTC Member Licensed Officers – Prepaid\nLEORTC Non-Licensed Personnel – $35.00 p/p\nNon-Member Agencies – $50.00 p/p \nREGISTRATION FORM
URL:https://www.leortc.com/event/jail-suicide-assessment-prevention/
LOCATION:Mott College – Northern Tier\, 4082 W. Vienna Road\, Clio\, MI\, 48420\, United States
ATTACH;FMTTYPE=image/jpeg:https://www.leortc.com/wp-content/uploads/2016/11/Jail-Suicide.jpg
GEO:43.1790148;-83.7572991
X-APPLE-STRUCTURED-LOCATION;VALUE=URI;X-ADDRESS=Mott College – Northern Tier 4082 W. Vienna Road Clio MI 48420 United States;X-APPLE-RADIUS=500;X-TITLE=4082 W. Vienna Road:geo:-83.7572991,43.1790148
END:VEVENT
BEGIN:VEVENT
DTSTART;TZID=America/Detroit:20161129T083000
DTEND;TZID=America/Detroit:20161129T153000
DTSTAMP:20260424T195429
CREATED:20161110T193255Z
LAST-MODIFIED:20161127T204532Z
UID:10000047-1480408200-1480433400@www.leortc.com
SUMMARY:Investigation of Vulnerable Adult Financial Crimes
DESCRIPTION:This PAAM seminar will guide attendees through the complex process of successfully investigating elder financial exploitation cases. Sadly\, the people exploiting older adults are often family members or other trusted people who are handling the financial affairs of an incapacitated parent\, relative\, or friend. While everyone\, regardless of age\, is a potential victim or theft and other financial crimes\, older Americans are at greater risk than the general public. \nFinancial exploitation is the most common form of elder abuse. A recent study concluded that about 5 percent of Americans 60+ experienced financial mistreatment by a family member in a single year. Another study estimated that older Americans lost at least $2.9 billion to financial exploitation in 2010. The purpose of this training is to assist Law Enforcement in the investigation of vulnerable adult financial exploitation cases.\nThis seminar will include information on relevant criminal statutes\, baseline establishment of a financial exploitation crime\, the investigative process\, prevention strategies\, and sample forms (including search warrants). \nCost:\nNone.  Training is provided by the Prosecuting Attorney’s Association of Michigan. \nFacilitator\nTom Holcomb\, financial abuse investigator with the PAAM \nREGISTRATION FORM
URL:https://www.leortc.com/event/investigation-of-vulnerable-adult-financial-scams/
LOCATION:Mott College – Northern Tier\, 4082 W. Vienna Road\, Clio\, MI\, 48420\, United States
ATTACH;FMTTYPE=image/jpeg:https://www.leortc.com/wp-content/uploads/2016/11/Vulnerable-Adult.jpg
GEO:43.1790148;-83.7572991
X-APPLE-STRUCTURED-LOCATION;VALUE=URI;X-ADDRESS=Mott College – Northern Tier 4082 W. Vienna Road Clio MI 48420 United States;X-APPLE-RADIUS=500;X-TITLE=4082 W. Vienna Road:geo:-83.7572991,43.1790148
END:VEVENT
END:VCALENDAR