BEGIN:VCALENDAR
VERSION:2.0
PRODID:-//LEORTC - Law Enforcement Officers Regional Training Commission - ECPv6.15.20//NONSGML v1.0//EN
CALSCALE:GREGORIAN
METHOD:PUBLISH
X-ORIGINAL-URL:https://www.leortc.com
X-WR-CALDESC:Events for LEORTC - Law Enforcement Officers Regional Training Commission
REFRESH-INTERVAL;VALUE=DURATION:PT1H
X-Robots-Tag:noindex
X-PUBLISHED-TTL:PT1H
BEGIN:VTIMEZONE
TZID:America/Detroit
BEGIN:DAYLIGHT
TZOFFSETFROM:-0500
TZOFFSETTO:-0400
TZNAME:EDT
DTSTART:20170312T070000
END:DAYLIGHT
BEGIN:STANDARD
TZOFFSETFROM:-0400
TZOFFSETTO:-0500
TZNAME:EST
DTSTART:20171105T060000
END:STANDARD
BEGIN:DAYLIGHT
TZOFFSETFROM:-0500
TZOFFSETTO:-0400
TZNAME:EDT
DTSTART:20180311T070000
END:DAYLIGHT
BEGIN:STANDARD
TZOFFSETFROM:-0400
TZOFFSETTO:-0500
TZNAME:EST
DTSTART:20181104T060000
END:STANDARD
BEGIN:DAYLIGHT
TZOFFSETFROM:-0500
TZOFFSETTO:-0400
TZNAME:EDT
DTSTART:20190310T070000
END:DAYLIGHT
BEGIN:STANDARD
TZOFFSETFROM:-0400
TZOFFSETTO:-0500
TZNAME:EST
DTSTART:20191103T060000
END:STANDARD
END:VTIMEZONE
BEGIN:VEVENT
DTSTART;TZID=America/Detroit:20180912T170000
DTEND;TZID=America/Detroit:20180912T210000
DTSTAMP:20260424T173611
CREATED:20171005T212149Z
LAST-MODIFIED:20171010T210746Z
UID:10000085-1536771600-1536786000@www.leortc.com
SUMMARY:Legal Update
DESCRIPTION:This seminar will include a review of current legislation affecting law enforcement as well as an update on Search & Seizure\, Laws of Arrest\, Interviews\, and Search Warrant issues. Incorporated within the framework of this training will be a Laws of Arrest refresher and a review of related statutes. \nYou are encouraged to forward any question or issue(s) you would like addressed by the presenters to the LEORTC and they will be covered in the seminar. \nPlease send a separate email message and/or call us with your issue or question.  \nPresenter(s):           Assistant Prosecuting Attorney Tammy Phillips. \nCost:                      LEORTC Licensed Members – Prepaid \nAll Others:               $40 p/p \nREGISTRATION FORM \nThis course is registered with MCOLES.
URL:https://www.leortc.com/event/legal-update-3-2018-09-12/
LOCATION:Metro Police Authority of Genesee County\, 5420 Hill 23 Drive\, Flint\, MI\, 48507\, United States
ATTACH;FMTTYPE=image/jpeg:https://www.leortc.com/wp-content/uploads/2017/05/legal-update.jpg
END:VEVENT
BEGIN:VEVENT
DTSTART;TZID=America/Detroit:20180621T083000
DTEND;TZID=America/Detroit:20180621T163000
DTSTAMP:20260424T173611
CREATED:20180327T220852Z
LAST-MODIFIED:20180327T220852Z
UID:10000166-1529569800-1529598600@www.leortc.com
SUMMARY:License to Purchase a Pistol & Firearms Disqualifications
DESCRIPTION:The Michigan Department of State Police Firearms Records Unit is pleased to offer License to Purchase\nand Firearm Disqualifications training. This training is specifically designed for law enforcement agency\nstaff responsible for making the determination whether or not to issue a License to Purchase a Pistol a\nPistol (LTP).\nClassroom instruction will focus on the Brady Handgun Violence Prevention Act and the Michigan\nFirearms Act of 1927\, as amended\, and the impacts each have on an individual’s ability to obtain a LTP.\nA thorough review of all disqualification statutes is included and factors to consider in denying a LTP are\ndiscussed in depth. This class is a Michigan Commission on Law Enforcement Standards (MCOLES)\nrecognized program. \nInstructor: \nJason Pierce\, Michigan State Police Firearms Records Unit\, piercej@michigan.gov\, (517) 241-1917 \nCost: \nThere is no cost for this training. \nTo Register: \nPlease register for a specific class on MI-TRAIN at https://www.train.org/mi-train/course/1074598/live_event.\nThe course ID number and registration code are required. Once registered\, print all\ntraining material directly from MI-Train and bring it to class. Training materials will not be provided in\nclass. \nCourse ID number:  1074598                       Registration code:  firearms018 \n“This training has been registered with MCOLES.”
URL:https://www.leortc.com/event/license-to-purchase-a-pistol-firearms-disqualifications/
LOCATION:Metro Police Authority of Genesee County\, 5420 Hill 23 Drive\, Flint\, MI\, 48507\, United States
ATTACH;FMTTYPE=image/jpeg:https://www.leortc.com/wp-content/uploads/2018/03/License-to-purchase.jpg
END:VEVENT
BEGIN:VEVENT
DTSTART;TZID=America/Detroit:20180320T083000
DTEND;TZID=America/Detroit:20180320T163000
DTSTAMP:20260424T173611
CREATED:20171010T203015Z
LAST-MODIFIED:20191030T175540Z
UID:10000089-1521534600-1521563400@www.leortc.com
SUMMARY:Background Investigations for Michigan Police Applicants
DESCRIPTION:The purpose of this course is to provide participants with useful information and resources that will assist them in conducting a thorough background investigation. Those attending will learn about contemporary strategies in completing a comprehensive\, competency based pre-employment background investigation on police applicants. \n  \nTopics will include: \n\nThe police officer hiring process\nMCOLES requirements\nLegal concerns\nSuggested background investigation forms\nCriminal record searches\nDocument verification\nBackground Interviewing\nEmployment verification\nMilitary service verification\nEducational verification\nReference checks\nInternet searches\nOut of state applicants\nBackground investigation reports\n\n  \nInstructor: Samuel James\, background investigator for the Washtenaw County Sheriff’s Office. Mr. James has an extensive background in law enforcement\, training and background investigations. \nCost: LEORTC Licensed Members – Prepaid \nLEORTC Non-Licensed Personnel – $35 p/p \nNon-Member Agencies – $55 p/p \nREGISTRATION FORM \n 
URL:https://www.leortc.com/event/background-investigations-for-michigan-police-applicants-2/
LOCATION:Metro Police Authority of Genesee County\, 5420 Hill 23 Drive\, Flint\, MI\, 48507\, United States
END:VEVENT
BEGIN:VEVENT
DTSTART;TZID=America/Detroit:20180219T083000
DTEND;TZID=America/Detroit:20180219T163000
DTSTAMP:20260424T173611
CREATED:20171009T224358Z
LAST-MODIFIED:20171009T224358Z
UID:10000088-1519029000-1519057800@www.leortc.com
SUMMARY:Report Reviews for Supervisors
DESCRIPTION:Being able to write a good police report is one thing but reviewing reports of others is an entirely different skill. As a supervisor\, you are responsible for the quality of the reports for those that work in your unit. So\, as a supervisor\, do you really know how to review a police report? \nWhether you are a new supervisor\, or have years of experience\, this class will help you to know what is important in a police report in order to create a more thorough investigation and successful prosecution! \nThis is not a grammar class or a report writing class. This is a class that will help you review a police report for accuracy and completeness. \nHave you ever heard of Brady v. Maryland\, or Giglio v. United States? If your answer to that question is NO\, then you need to attend this training. These cases and others are important for you to know to keep you and your agency from costly litigation. So\, be aware and be informed.\nThis course is taught in a participative style so participants are asked to forward a copy of a police report* they have recently investigated to the trainers when they register for the class. \n*Send to info@leortc.com and they will be forwarded to the instructor(s). \nInstructor: Gerald Ladwig retired as Chief of Police of the Midland\, Michigan Police Department with over 16 years in supervision including road patrol and investigations. He is currently a Magistrate for the 75th District Court. He has many years of experience testifying in court\, and he directed severl trials and hearings during his time as an assistant prosecutor. Gerald is a licensed attorney with a JD from Michigan State University College of Law. \nCost:\nLEORTC Licensed Members – Prepaid\nLEORTC Non-Licensed Personnel – $40 p/p\nNon-Member Agencies – $75 p/p \nREGISTRATION FORM \n 
URL:https://www.leortc.com/event/report-reviews-for-supervisors/
LOCATION:Metro Police Authority of Genesee County\, 5420 Hill 23 Drive\, Flint\, MI\, 48507\, United States
ATTACH;FMTTYPE=image/jpeg:https://www.leortc.com/wp-content/uploads/2017/10/report-review-2018.jpg
END:VEVENT
END:VCALENDAR