BEGIN:VCALENDAR
VERSION:2.0
PRODID:-//LEORTC - Law Enforcement Officers Regional Training Commission - ECPv6.15.20//NONSGML v1.0//EN
CALSCALE:GREGORIAN
METHOD:PUBLISH
X-ORIGINAL-URL:https://www.leortc.com
X-WR-CALDESC:Events for LEORTC - Law Enforcement Officers Regional Training Commission
REFRESH-INTERVAL;VALUE=DURATION:PT1H
X-Robots-Tag:noindex
X-PUBLISHED-TTL:PT1H
BEGIN:VTIMEZONE
TZID:America/Detroit
BEGIN:DAYLIGHT
TZOFFSETFROM:-0500
TZOFFSETTO:-0400
TZNAME:EDT
DTSTART:20220313T070000
END:DAYLIGHT
BEGIN:STANDARD
TZOFFSETFROM:-0400
TZOFFSETTO:-0500
TZNAME:EST
DTSTART:20221106T060000
END:STANDARD
BEGIN:DAYLIGHT
TZOFFSETFROM:-0500
TZOFFSETTO:-0400
TZNAME:EDT
DTSTART:20230312T070000
END:DAYLIGHT
BEGIN:STANDARD
TZOFFSETFROM:-0400
TZOFFSETTO:-0500
TZNAME:EST
DTSTART:20231105T060000
END:STANDARD
BEGIN:DAYLIGHT
TZOFFSETFROM:-0500
TZOFFSETTO:-0400
TZNAME:EDT
DTSTART:20240310T070000
END:DAYLIGHT
BEGIN:STANDARD
TZOFFSETFROM:-0400
TZOFFSETTO:-0500
TZNAME:EST
DTSTART:20241103T060000
END:STANDARD
END:VTIMEZONE
BEGIN:VEVENT
DTSTART;TZID=America/Detroit:20230502T083000
DTEND;TZID=America/Detroit:20230503T163000
DTSTAMP:20260424T183343
CREATED:20230117T143315Z
LAST-MODIFIED:20230215T221058Z
UID:10000381-1683016200-1683131400@www.leortc.com
SUMMARY:TACTICAL FIELD OPERATIONS Man-Tracking Procedures
DESCRIPTION:This training program focuses on perimeter containment of Fleeing Subjects while utilizing Man-Tracking skills\, deploying K-9\, utilization of aviation support\, and possibly LPOP’s (Listening Points / Observation Points). These techniques are also utilized for Lost and Missing Persons.\nThis training would be valuable for all officers\, supervisors\, and command staff.\n.\nTraining components of this program include:\n\nThe Psychological Profiles of Fleeing Subjects / Lost & Missing Persons issues are taught to assist in understanding early search variables.\n\nFor Fleeing Subjects\, the Leap Frogging technique is utilized to shorten the time /distance gap.\n\nOther areas to be covered would be utilization of a compass\, GPS\, Downed Officer Reaction/solutions\, and arrest procedure upon contact.\n.\nMost of the two-days of training will be outside in a variety of conditions and areas. There will also be a lot of physical activity in various terrains.\n.\nParticipants must be prepared by dressing appropriately for the conditions and physical activity (including footwear and headwear).\n.\nInstructors:  Rudi Nitschmann\, U.S. Army – S.R.T. and retired after 29 years of service with the M.S.P. MSP Emergency Support Team  Member for 26 years. Level II Certified Man-Tracking Instructor.\n                      Richard Casanova\, U.S.M.C. – Infantry / Intel Field – 10 years. MSP Emergency Support Team Member for 18 years.  Currently has 23 years of service with the MSP.\n.\nDate/Times: May 2-3\, 2023\, 8:30 am – 4:30 pm\n.\nLocation:  For Mar Nature Preserve\, 5359 E. Potter Road\, Burton\, MI 48509\n.\nClass size:  Limited to (14)\n.\nCost:  LEORTC Licensed Members – Prepaid\n                 All Others – $225 per person\n\n\n  \nClick HERE to Register \n“This training has been registered with MCOLES for the use of PA 302 Law Enforcement Distribution funds.”
URL:https://www.leortc.com/event/tactical-field-operations-man-tracking-procedures-2/
LOCATION:For Mar Nature Preserve\, 5359 E. Potter Road\, Burton\, MI\, 48509\, United States
ATTACH;FMTTYPE=image/jpeg:https://www.leortc.com/wp-content/uploads/2021/04/Tactical-Field-Operations.jpg
END:VEVENT
END:VCALENDAR