BEGIN:VCALENDAR
VERSION:2.0
PRODID:-//LEORTC - Law Enforcement Officers Regional Training Commission - ECPv6.15.20//NONSGML v1.0//EN
CALSCALE:GREGORIAN
METHOD:PUBLISH
X-WR-CALNAME:LEORTC - Law Enforcement Officers Regional Training Commission
X-ORIGINAL-URL:https://www.leortc.com
X-WR-CALDESC:Events for LEORTC - Law Enforcement Officers Regional Training Commission
REFRESH-INTERVAL;VALUE=DURATION:PT1H
X-Robots-Tag:noindex
X-PUBLISHED-TTL:PT1H
BEGIN:VTIMEZONE
TZID:America/Detroit
BEGIN:DAYLIGHT
TZOFFSETFROM:-0500
TZOFFSETTO:-0400
TZNAME:EDT
DTSTART:20160313T070000
END:DAYLIGHT
BEGIN:STANDARD
TZOFFSETFROM:-0400
TZOFFSETTO:-0500
TZNAME:EST
DTSTART:20161106T060000
END:STANDARD
BEGIN:DAYLIGHT
TZOFFSETFROM:-0500
TZOFFSETTO:-0400
TZNAME:EDT
DTSTART:20170312T070000
END:DAYLIGHT
BEGIN:STANDARD
TZOFFSETFROM:-0400
TZOFFSETTO:-0500
TZNAME:EST
DTSTART:20171105T060000
END:STANDARD
BEGIN:DAYLIGHT
TZOFFSETFROM:-0500
TZOFFSETTO:-0400
TZNAME:EDT
DTSTART:20180311T070000
END:DAYLIGHT
BEGIN:STANDARD
TZOFFSETFROM:-0400
TZOFFSETTO:-0500
TZNAME:EST
DTSTART:20181104T060000
END:STANDARD
END:VTIMEZONE
BEGIN:VTIMEZONE
TZID:UTC
BEGIN:STANDARD
TZOFFSETFROM:+0000
TZOFFSETTO:+0000
TZNAME:UTC
DTSTART:20160101T000000
END:STANDARD
END:VTIMEZONE
BEGIN:VEVENT
DTSTART;TZID=America/Detroit:20170109T083000
DTEND;TZID=America/Detroit:20170109T163000
DTSTAMP:20260424T130635
CREATED:20161111T092649Z
LAST-MODIFIED:20220908T132136Z
UID:10000050-1483950600-1483979400@www.leortc.com
SUMMARY:PPCT Instructor
DESCRIPTION:A five-day program designed to certify instructors in the PPCT Management System’s Pressure Point Control Tactics\, Defensive Tactics\, and Collapsible Baton programs. The force continuum concept\, proper moves\, takedowns\, control points\, striking points and weapons retention will be included. The administrative and course reporting duties of the instructor will also be covered. \nCourse Fee:\nLEORTC Licensed Personnel: Prepaid\nDelta College Consortium Members: $225.00 per person\nNon-Consortium: $300.00 per person \nCourse Instructor: Kevin Rize \nREGISTRATION FORM
URL:https://www.leortc.com/event/ppct-instructor-recirtification/
LOCATION:Delta College\, University Center\, MI\, 48710\, United States
ATTACH;FMTTYPE=image/jpeg:https://www.leortc.com/wp-content/uploads/2016/11/PPCT-1.jpg
GEO:43.5595162;-83.9944777
END:VEVENT
BEGIN:VEVENT
DTSTART;TZID=UTC:20170105T083000
DTEND;TZID=UTC:20170105T163000
DTSTAMP:20260424T130635
CREATED:20161111T091523Z
LAST-MODIFIED:20161123T011949Z
UID:10000049-1483605000-1483633800@www.leortc.com
SUMMARY:Beyond Sandy Hook
DESCRIPTION:Critical Analysis and Lessons Learned from the Sandy Hook School Shooting \n  \nThis one-day seminar is designed as both a presentation of the critical analysis of the Sandy Hook Elementary School shooting and a skill builder for Dispatch personnel\, 1st Responders\, Detectives\, Supervisors and School Officials. Lessons learned will focus on active shooter dispatch\, crisis response planning\, investigative considerations\, community recovery and the after action review process. \nOverview of Topics Include \n\nThe Definition of an Active Shooter\nThe Sandy Hook Elementary School shooting – What really happened\nActive Shooter Dispatch – Script Writing\n1st Priorities for 1st Responders\nThe Reunification Process\nAn Investigator’s Role\nCommand Post Operation\nSupporting Victims’ Families\nThe After Action Review Process\nPersonnel Wellness – The Big Picture\nMuch more\n\nTraining Facilitators:  \nDaniel Jewiss is a member of the Connecticut State Police currently assigned to the training academy. As a detective\, Dan was involved in many high profile cases and was the case officer for the 2012 Sandy Hook Elementary School Shooting. He is a Senior Associate with Team Training Associates (TTA). \nEric Murray is the President/Founder of TTA with over 29 years of law enforcement experience\, the past 25 with the Connecticut State Police. He has authored and published a number of Law Enforcement training DVD’s. \n  \nDate/Time:            Thursday\, January 5\, 2017\, 8:30 am – 4:30 pm \n  \nLocation:                  Delta College\, 1961 Delta Road\, Room G-160\, University Center\, MI   48710 \n  \nCost:                          LEORTC Member Agencies – Prepaid \nDelta Consortium Members – $75 p/p \nNon-Member Agencies (including school officials) – $95 p/p \nRegistration:           \nLEORTC Agencies & Non-Member Agencies:                  Call the LEORTC at (810)232-2654 or email registration to \nlofficers@aol.com.\nDelta Consortium Members:\nCall (989) 686-9176 to register. \nREGISTRATION FORM
URL:https://www.leortc.com/event/beyond-sandy-hook/
LOCATION:Delta College\, University Center\, MI\, 48710\, United States
ATTACH;FMTTYPE=image/jpeg:https://www.leortc.com/wp-content/uploads/2016/11/Sandy-Hook.jpg
GEO:43.5595162;-83.9944777
END:VEVENT
END:VCALENDAR