BEGIN:VCALENDAR
VERSION:2.0
PRODID:-//LEORTC - Law Enforcement Officers Regional Training Commission - ECPv6.15.20//NONSGML v1.0//EN
CALSCALE:GREGORIAN
METHOD:PUBLISH
X-ORIGINAL-URL:https://www.leortc.com
X-WR-CALDESC:Events for LEORTC - Law Enforcement Officers Regional Training Commission
REFRESH-INTERVAL;VALUE=DURATION:PT1H
X-Robots-Tag:noindex
X-PUBLISHED-TTL:PT1H
BEGIN:VTIMEZONE
TZID:America/Detroit
BEGIN:DAYLIGHT
TZOFFSETFROM:-0500
TZOFFSETTO:-0400
TZNAME:EDT
DTSTART:20160313T070000
END:DAYLIGHT
BEGIN:STANDARD
TZOFFSETFROM:-0400
TZOFFSETTO:-0500
TZNAME:EST
DTSTART:20161106T060000
END:STANDARD
BEGIN:DAYLIGHT
TZOFFSETFROM:-0500
TZOFFSETTO:-0400
TZNAME:EDT
DTSTART:20170312T070000
END:DAYLIGHT
BEGIN:STANDARD
TZOFFSETFROM:-0400
TZOFFSETTO:-0500
TZNAME:EST
DTSTART:20171105T060000
END:STANDARD
BEGIN:DAYLIGHT
TZOFFSETFROM:-0500
TZOFFSETTO:-0400
TZNAME:EDT
DTSTART:20180311T070000
END:DAYLIGHT
BEGIN:STANDARD
TZOFFSETFROM:-0400
TZOFFSETTO:-0500
TZNAME:EST
DTSTART:20181104T060000
END:STANDARD
BEGIN:DAYLIGHT
TZOFFSETFROM:-0500
TZOFFSETTO:-0400
TZNAME:EDT
DTSTART:20190310T070000
END:DAYLIGHT
BEGIN:STANDARD
TZOFFSETFROM:-0400
TZOFFSETTO:-0500
TZNAME:EST
DTSTART:20191103T060000
END:STANDARD
BEGIN:DAYLIGHT
TZOFFSETFROM:-0500
TZOFFSETTO:-0400
TZNAME:EDT
DTSTART:20200308T070000
END:DAYLIGHT
BEGIN:STANDARD
TZOFFSETFROM:-0400
TZOFFSETTO:-0500
TZNAME:EST
DTSTART:20201101T060000
END:STANDARD
BEGIN:DAYLIGHT
TZOFFSETFROM:-0500
TZOFFSETTO:-0400
TZNAME:EDT
DTSTART:20210314T070000
END:DAYLIGHT
BEGIN:STANDARD
TZOFFSETFROM:-0400
TZOFFSETTO:-0500
TZNAME:EST
DTSTART:20211107T060000
END:STANDARD
END:VTIMEZONE
BEGIN:VTIMEZONE
TZID:UTC
BEGIN:STANDARD
TZOFFSETFROM:+0000
TZOFFSETTO:+0000
TZNAME:UTC
DTSTART:20160101T000000
END:STANDARD
END:VTIMEZONE
BEGIN:VEVENT
DTSTART;TZID=America/Detroit:20201007T080000
DTEND;TZID=America/Detroit:20201007T170000
DTSTAMP:20260424T115319
CREATED:20200225T172641Z
LAST-MODIFIED:20200922T200744Z
UID:10000291-1602057600-1602090000@www.leortc.com
SUMMARY:Legally Justified But Was it Avoidable - THIS CLASS WAS CANCELED AND RESCHEDULED FOR MARCH 10\, 2021
DESCRIPTION:THIS CLASS WAS CANCELED AND RESCHEDULED FOR MARCH 10\, 2021 \nA crucial question at the core of every use of force incident is this:  \nWas it avoidable? This course helps you make that decision. \n  \nThe 1989 the Graham v. Connor case established that the moment an officer uses force is all that matters when determining if it was objectively reasonable. Further it determined that the moment could not be judged “with the 20/20 vision of hindsight.” In other words\, how that moment came to be matters not\, only what was happening during it. \nThat said\, this legal doctrine does not (and should not) preclude officers\, trainers and supervisors from examining cases with that 20/20 vision. With a goal of avoiding the avoidable\, we should look backward from the moment force was used and honestly assess whether the officer\, by action or lack of action\, contributed to its ultimate need. \nLegally Justified; But Was it Avoidable analyzes dozens of recent use of force videos and focuses on the totality of the interaction. We dissect the behavior of the offender and more importantly\, the thoughts and behavioral processes of the officer(s) involved. Specifically\, we consider if poor or ill-advised tactics\, ineffective communication\, a lack of personal control and/or a misunderstanding of acute stress led the officer(s) to escalate the event unintentionally and unconsciously. \nIn this course we will discuss:  \n\nForce: Can it be avoided? How? Can it be?\nPowerful research: how stress breaks down your ability to process information\nHandling pressure at the pivotal moment\nDid poor tactics contribute to the need to shoot?\nDon’t throw fuel on the fire! Controlling the inner “idiot”\nThe overall goal and how stress diverts from that mission\nSlowing things down can be your most powerful tactic\nA hard look at the reason mistakes are being made\nCognitive deterioration leads to “Decision Decline”\nAvoiding Behavioral and Content Loops\nThe Power of Mid-Event Disengagement\n\n  \nDate:               October 7\, 2020                   Time: 8am – 5pm \nLocation:         Delta College\, 1961 Delta Road\, Room G-160 \n                        University Center\, MI 48710 (GPS users may want to use Bay City)                                                 \nCost:                LEORTC licensed members-prepaid \n                        Delta Members – $165       \n                        All others-$195 \nClick HERE to Register \nDelta College Consortium members register at www.delta.edu/policeacademy or call (989) 686-9176    
URL:https://www.leortc.com/event/legally-justified-but-was-it-avoidable/
LOCATION:Delta College\, University Center\, MI\, 48710\, United States
ATTACH;FMTTYPE=image/png:https://www.leortc.com/wp-content/uploads/2017/04/calibre_press_logo_tall_wtag_rgb-207x327.png
GEO:43.5595162;-83.9944777
END:VEVENT
BEGIN:VEVENT
DTSTART;TZID=America/Detroit:20200106T083000
DTEND;TZID=America/Detroit:20200110T163000
DTSTAMP:20260424T115319
CREATED:20170822T203241Z
LAST-MODIFIED:20190814T170804Z
UID:10000064-1578299400-1578673800@www.leortc.com
SUMMARY:HFRG/PPCT Defensive Tactics Instructor Course
DESCRIPTION:Human Factor Research Group (HFRG) formerly known as Pressure Point Control Tactics (PPCT) \nDefensive Tactics Instructor Course \nThe HFRG Defensive Tactics System is the first subject control system developed through tactical\, legal and medical research. Tactically\, the system addresses the most common types of resistance that officers may encounter\, allowing the instructor to maximize training on job related techniques. Legally\, the HFRG System teaches a simple use of force continuum that clarifies the appropriate force level for every level of resistance. Medical research was conducted on every HFRG technique to refine technique efficiency and to ensure the medical implications were proportional to the level of resistance.  The force continuum concept\, proper moves\, take-downs\, control points\, striking points and weapons retention will be included. The administrative and course reporting duties of the instructor will also be covered. \nCourse Location:  Delta College Main Campus\, Room TBA \nCourse Fee:\nLEORTC Licensed Personnel: Prepaid\, limited seating\nDelta College Consortium Members: $350.00 per person\nNon-Consortium: $525.00 per person \nCourse Instructor: Kevin Rize \nRequired Equipment:  Loose athletic wear\, duty belt (no firearms)\, handcuffs \nRegistration Deadline:  December 19\, 2019 \nClick HERE to Register \n  \n 
URL:https://www.leortc.com/event/ppct-instructor-2019-01-07-2020-01-06/
LOCATION:Delta College\, University Center\, MI\, 48710\, United States
ATTACH;FMTTYPE=image/png:https://www.leortc.com/wp-content/uploads/2019/08/HFRG-logo-e1565798799560.png
GEO:43.5595162;-83.9944777
END:VEVENT
BEGIN:VEVENT
DTSTART;TZID=America/Detroit:20191209T083000
DTEND;TZID=America/Detroit:20191211T163000
DTSTAMP:20260424T115319
CREATED:20170302T201858Z
LAST-MODIFIED:20190814T160726Z
UID:10000016-1575880200-1576081800@www.leortc.com
SUMMARY:HFRG/PPCT Instructor Recertification
DESCRIPTION:Human Factor Research Group (HFRG) formerly known as Pressure Point Control Tactics (PPCT) \nInstructor Recertification \nA three-day program designed to re-certify instructors in the HFRG Management System’s Pressure Point Control Tactics\, Defensive Tactics\, and Collapsible Baton programs.  The force continuum concept\, proper moves\, takedowns\, control points\, striking points and weapons retention will be included.  The administrative and course reporting duties of the instructor will also be covered.\nParticipants need to bring loose athletic wear\, duty belt (no firearms)\, handcuffs.  New\, updated manuals have been written and are included in the price of this course. \nCourse Instructor:  Kevin Rize \nCourse Fee: LEORTC licensed members – Pre-paid\, seating is limited \nNon-Consortium: $340 per person\nDelta College Consortium: $250 per person \nMCOLES Registered \nRegistration Deadline:  December 2\, 2019 \nClick HERE to Register
URL:https://www.leortc.com/event/ppct-instructor-recertification-2-2018-12-17-2019-12-09/
LOCATION:Delta College\, University Center\, MI\, 48710\, United States
ATTACH;FMTTYPE=image/png:https://www.leortc.com/wp-content/uploads/2019/08/HFRG-logo-e1565798799560.png
GEO:43.5595162;-83.9944777
END:VEVENT
BEGIN:VEVENT
DTSTART;TZID=UTC:20190918T083000
DTEND;TZID=UTC:20190918T163000
DTSTAMP:20260424T115319
CREATED:20180611T224942Z
LAST-MODIFIED:20190304T182050Z
UID:10000184-1568795400-1568824200@www.leortc.com
SUMMARY:Animal Cruelty & Fighting Investigations
DESCRIPTION:Hosted by Delta College Police Academy\, LEORTC\, and The Humane Society of the United States \nThis free training is open to Law Enforcement\, Animal Control\, Humane Investigators\, Code Enforcement Officers\, Veterinarians\, and Prosecutors. \nTopics to be covered: \nBackground on animal fighting and illegal animal abuse in Michigan\, including relevant laws \nLink between animal abuse and other violent crimes \nInvestigating cruelty and fighting complaints\, from first response to filing charges \nRecognized key evidence\, warrants\, statements \nLocation:  Delta College – Room N007\, 1961 Delta Road\, University Center\, MI 48710 \nRegistration:  Delta Members Please register online at https://www.delta.edu/community/continuing-education/law-enforcement-training/in-service-training-professionals.html. \nAll others: Click HERE to Register \n  \n 
URL:https://www.leortc.com/event/animal-cruelty-fighting-investigations-2019-09-18/
LOCATION:Delta College\, University Center\, MI\, 48710\, United States
ATTACH;FMTTYPE=image/png:https://www.leortc.com/wp-content/uploads/2019/03/animal-cruelty-2019-e1551723441648.png
GEO:43.5595162;-83.9944777
END:VEVENT
BEGIN:VEVENT
DTSTART;TZID=America/Detroit:20190415T083000
DTEND;TZID=America/Detroit:20190419T173000
DTSTAMP:20260424T115319
CREATED:20171122T195441Z
LAST-MODIFIED:20190402T160722Z
UID:10000130-1555317000-1555695000@www.leortc.com
SUMMARY:PPCT GAGE & SKD Instructor Course
DESCRIPTION:THIS CLASS WAS CANCELLED BY HUMAN FACTORS RESEARCH GROUP (FORMERLY KNOWN AS PPCT) NATIONWIDE.  THEY ARE AWAITING NEW TRAINING MANUALS AND WILL NOT BE OFFERING THIS CLASS UNTIL THEY ARE PRINTED. \n  \nThis week long course of instruction will teach Instructor Level Ground Avoidance Ground Escape (GAGE) and Spontaneous Knife Defense (SKD). All officers will be trained in Threat Pattern Recognition\, how to avoid being taken to the ground and how to effectively escape if they are grounded. Course Topics: Use of Force Human Factors\, Instructor Development and Training Protocols\, HFRG (PPCT) Control Principles\, Ground Avoidance Ground Escape Techniques\, Principles of Edge Weapon Assaults\, Vital Edge Weapon Targets\, HFRG Spontaneous Knife Defense System. \nCourse Time: 8:30am – 4:30pm \nCourse Instructor: Kevin Rize \nCourse Location: Delta College Main Campus\, Room TBA \nCourse Fee: Non-Consortium: $525 per person\, Delta College Consortium: $350 per person\, LEORTC Licensed Members prepaid (limited seating) \nRequired Equipment: Loose athletic wear\, duty belt (no firearms) and handcuffs\nMCOLES Registered \n\nRegistration Deadline: April 9\, 2019 \nClick HERE to Register
URL:https://www.leortc.com/event/ppct-gage-skd-instructor-course-2019-04-15/
LOCATION:Delta College\, University Center\, MI\, 48710\, United States
ATTACH;FMTTYPE=image/jpeg:https://www.leortc.com/wp-content/uploads/2017/11/PPCT-gage.jpg
GEO:43.5595162;-83.9944777
END:VEVENT
BEGIN:VEVENT
DTSTART;TZID=UTC:20180919T083000
DTEND;TZID=UTC:20180919T163000
DTSTAMP:20260424T115319
CREATED:20180611T224942Z
LAST-MODIFIED:20220908T141701Z
UID:10000183-1537345800-1537374600@www.leortc.com
SUMMARY:Animal Cruelty & Fighting Investigations
DESCRIPTION:Hosted by Delta College Police Academy\, LEORTC\, and The Humane Society of the United States \nThis free training is open to Law Enforcement\, Animal Control\, Humane Investigators\, Code Enforcement Officers\, Veterinarians\, and Prosecutors. \nTopics to be covered: \nBackground on animal fighting and illegal animal abuse in Michigan\, including relevant laws \nLink between animal abuse and other violent crimes \nInvestigating cruelty and fighting complaints\, from first response to filing charges \nRecognized key evidence\, warrants\, statements \nLocation:  Delta College – Room N007\, 1961 Delta Road\, University Center \nRegistration:  Please register online at https://www.delta.edu/community/continuing-education/law-enforcement-training/in-service-training-professionals.html. \n 
URL:https://www.leortc.com/event/animal-cruelty-fighting-investigations/
LOCATION:Delta College\, University Center\, MI\, 48710\, United States
ATTACH;FMTTYPE=image/png:https://www.leortc.com/wp-content/uploads/2018/06/animal-cruelty.png
GEO:43.5595162;-83.9944777
END:VEVENT
BEGIN:VEVENT
DTSTART;TZID=America/Detroit:20170109T083000
DTEND;TZID=America/Detroit:20170109T163000
DTSTAMP:20260424T115319
CREATED:20161111T092649Z
LAST-MODIFIED:20220908T132136Z
UID:10000050-1483950600-1483979400@www.leortc.com
SUMMARY:PPCT Instructor
DESCRIPTION:A five-day program designed to certify instructors in the PPCT Management System’s Pressure Point Control Tactics\, Defensive Tactics\, and Collapsible Baton programs. The force continuum concept\, proper moves\, takedowns\, control points\, striking points and weapons retention will be included. The administrative and course reporting duties of the instructor will also be covered. \nCourse Fee:\nLEORTC Licensed Personnel: Prepaid\nDelta College Consortium Members: $225.00 per person\nNon-Consortium: $300.00 per person \nCourse Instructor: Kevin Rize \nREGISTRATION FORM
URL:https://www.leortc.com/event/ppct-instructor-recirtification/
LOCATION:Delta College\, University Center\, MI\, 48710\, United States
ATTACH;FMTTYPE=image/jpeg:https://www.leortc.com/wp-content/uploads/2016/11/PPCT-1.jpg
GEO:43.5595162;-83.9944777
END:VEVENT
BEGIN:VEVENT
DTSTART;TZID=UTC:20170105T083000
DTEND;TZID=UTC:20170105T163000
DTSTAMP:20260424T115319
CREATED:20161111T091523Z
LAST-MODIFIED:20161123T011949Z
UID:10000049-1483605000-1483633800@www.leortc.com
SUMMARY:Beyond Sandy Hook
DESCRIPTION:Critical Analysis and Lessons Learned from the Sandy Hook School Shooting \n  \nThis one-day seminar is designed as both a presentation of the critical analysis of the Sandy Hook Elementary School shooting and a skill builder for Dispatch personnel\, 1st Responders\, Detectives\, Supervisors and School Officials. Lessons learned will focus on active shooter dispatch\, crisis response planning\, investigative considerations\, community recovery and the after action review process. \nOverview of Topics Include \n\nThe Definition of an Active Shooter\nThe Sandy Hook Elementary School shooting – What really happened\nActive Shooter Dispatch – Script Writing\n1st Priorities for 1st Responders\nThe Reunification Process\nAn Investigator’s Role\nCommand Post Operation\nSupporting Victims’ Families\nThe After Action Review Process\nPersonnel Wellness – The Big Picture\nMuch more\n\nTraining Facilitators:  \nDaniel Jewiss is a member of the Connecticut State Police currently assigned to the training academy. As a detective\, Dan was involved in many high profile cases and was the case officer for the 2012 Sandy Hook Elementary School Shooting. He is a Senior Associate with Team Training Associates (TTA). \nEric Murray is the President/Founder of TTA with over 29 years of law enforcement experience\, the past 25 with the Connecticut State Police. He has authored and published a number of Law Enforcement training DVD’s. \n  \nDate/Time:            Thursday\, January 5\, 2017\, 8:30 am – 4:30 pm \n  \nLocation:                  Delta College\, 1961 Delta Road\, Room G-160\, University Center\, MI   48710 \n  \nCost:                          LEORTC Member Agencies – Prepaid \nDelta Consortium Members – $75 p/p \nNon-Member Agencies (including school officials) – $95 p/p \nRegistration:           \nLEORTC Agencies & Non-Member Agencies:                  Call the LEORTC at (810)232-2654 or email registration to \nlofficers@aol.com.\nDelta Consortium Members:\nCall (989) 686-9176 to register. \nREGISTRATION FORM
URL:https://www.leortc.com/event/beyond-sandy-hook/
LOCATION:Delta College\, University Center\, MI\, 48710\, United States
ATTACH;FMTTYPE=image/jpeg:https://www.leortc.com/wp-content/uploads/2016/11/Sandy-Hook.jpg
GEO:43.5595162;-83.9944777
END:VEVENT
END:VCALENDAR