BEGIN:VCALENDAR
VERSION:2.0
PRODID:-//LEORTC - Law Enforcement Officers Regional Training Commission - ECPv6.15.20//NONSGML v1.0//EN
CALSCALE:GREGORIAN
METHOD:PUBLISH
X-ORIGINAL-URL:https://www.leortc.com
X-WR-CALDESC:Events for LEORTC - Law Enforcement Officers Regional Training Commission
REFRESH-INTERVAL;VALUE=DURATION:PT1H
X-Robots-Tag:noindex
X-PUBLISHED-TTL:PT1H
BEGIN:VTIMEZONE
TZID:America/Detroit
BEGIN:DAYLIGHT
TZOFFSETFROM:-0500
TZOFFSETTO:-0400
TZNAME:EDT
DTSTART:20170312T070000
END:DAYLIGHT
BEGIN:STANDARD
TZOFFSETFROM:-0400
TZOFFSETTO:-0500
TZNAME:EST
DTSTART:20171105T060000
END:STANDARD
BEGIN:DAYLIGHT
TZOFFSETFROM:-0500
TZOFFSETTO:-0400
TZNAME:EDT
DTSTART:20180311T070000
END:DAYLIGHT
BEGIN:STANDARD
TZOFFSETFROM:-0400
TZOFFSETTO:-0500
TZNAME:EST
DTSTART:20181104T060000
END:STANDARD
BEGIN:DAYLIGHT
TZOFFSETFROM:-0500
TZOFFSETTO:-0400
TZNAME:EDT
DTSTART:20190310T070000
END:DAYLIGHT
BEGIN:STANDARD
TZOFFSETFROM:-0400
TZOFFSETTO:-0500
TZNAME:EST
DTSTART:20191103T060000
END:STANDARD
BEGIN:DAYLIGHT
TZOFFSETFROM:-0500
TZOFFSETTO:-0400
TZNAME:EDT
DTSTART:20200308T070000
END:DAYLIGHT
BEGIN:STANDARD
TZOFFSETFROM:-0400
TZOFFSETTO:-0500
TZNAME:EST
DTSTART:20201101T060000
END:STANDARD
BEGIN:DAYLIGHT
TZOFFSETFROM:-0500
TZOFFSETTO:-0400
TZNAME:EDT
DTSTART:20210314T070000
END:DAYLIGHT
BEGIN:STANDARD
TZOFFSETFROM:-0400
TZOFFSETTO:-0500
TZNAME:EST
DTSTART:20211107T060000
END:STANDARD
BEGIN:DAYLIGHT
TZOFFSETFROM:-0500
TZOFFSETTO:-0400
TZNAME:EDT
DTSTART:20220313T070000
END:DAYLIGHT
BEGIN:STANDARD
TZOFFSETFROM:-0400
TZOFFSETTO:-0500
TZNAME:EST
DTSTART:20221106T060000
END:STANDARD
BEGIN:DAYLIGHT
TZOFFSETFROM:-0500
TZOFFSETTO:-0400
TZNAME:EDT
DTSTART:20230312T070000
END:DAYLIGHT
BEGIN:STANDARD
TZOFFSETFROM:-0400
TZOFFSETTO:-0500
TZNAME:EST
DTSTART:20231105T060000
END:STANDARD
END:VTIMEZONE
BEGIN:VEVENT
DTSTART;TZID=America/Detroit:20220920T080000
DTEND;TZID=America/Detroit:20220921T160000
DTSTAMP:20260424T105123
CREATED:20180829T164317Z
LAST-MODIFIED:20220908T130215Z
UID:10000215-1663660800-1663776000@www.leortc.com
SUMMARY:Tactical Field Operations - Man Tracking
DESCRIPTION:This training program focuses on perimeter containment of Fleeing Subjects while utilizing Man-Tracking skills\, deploying K-9\, utilization of aviation support\, and possibly LPOP’s (Listening Points / Observation Points). These techniques are also utilized for Lost and Missing Persons. \nThis training would be valuable for all officers\, supervisors\, and command staff. Training components of this program include: \n\nThe Psychological Profiles of Fleeing Subjects / Lost & Missing Persons issues are taught to assist in understanding early search variables.\nFor Fleeing Subjects\, the Leap Frogging technique is utilized to shorten the time / distance gap.\nOther areas to be covered would be utilization of a compass\, GPS\, Downed Officer Reaction/solutions\, and arrest procedure upon contact.\n\nMost of the two-days of training will be outside in a variety of conditions and areas. There will also be a lot of physical activity in various terrains. Participants must be prepared by dressing appropriately for the conditions and physical activity (including footwear and headwear). \nInstructors:    Rudi Nitschmann\, U.S. Army – S.R.T. and retired after 29 years of service with \nthe M.S.P.  MSP Emergency Support Team Member for 26 years.  Level II \nCertified Man-Tracking Instructor. \nRichard Casanova\, U.S.M.C. – Infantry / Intel Field – 10 years.  MSP \nEmergency Support Team Member for 18 years.  Currently has 23 years of \nservice with the MSP. \nClass size:                 Limited to 12\, additional registrations will be placed on a waiting list. \nLocation:                   Crossroads Village\, 6140 Bray Road\, Flint\, MI   48505 \nCost:                           LEORTC Licensed Members – Prepaid \nAll Others – $190 per person \nClick HERE to Register \n“This training has been registered with MCOLES for the use of PA 302 Law Enforcement Distribution funds.”
URL:https://www.leortc.com/event/tactical-field-operations-man-tracking-3-2020-04-21-2020-09-22-2021-04-06-2021-10-12-2022-04-27-2022-09-20/
LOCATION:Crossroads Village\, 6140 Bray Rd.\, Flint\, MI\, 48505\, United States
GEO:43.0935238;-83.6515189
X-APPLE-STRUCTURED-LOCATION;VALUE=URI;X-ADDRESS=Crossroads Village 6140 Bray Rd. Flint MI 48505 United States;X-APPLE-RADIUS=500;X-TITLE=6140 Bray Rd.:geo:-83.6515189,43.0935238
END:VEVENT
BEGIN:VEVENT
DTSTART;TZID=America/Detroit:20220427T080000
DTEND;TZID=America/Detroit:20220428T160000
DTSTAMP:20260424T105123
CREATED:20180829T164317Z
LAST-MODIFIED:20220908T132208Z
UID:10000214-1651046400-1651161600@www.leortc.com
SUMMARY:Tactical Field Operations - Man Tracking
DESCRIPTION:This training program focuses on perimeter containment of Fleeing Subjects while utilizing Man-Tracking skills\, deploying K-9\, utilization of aviation support\, and possibly LPOP’s (Listening Points / Observation Points). These techniques are also utilized for Lost and Missing Persons. \nThis training would be valuable for all officers\, supervisors\, and command staff. Training components of this program include: \n\nThe Psychological Profiles of Fleeing Subjects / Lost & Missing Persons issues are taught to assist in understanding early search variables.\nFor Fleeing Subjects\, the Leap Frogging technique is utilized to shorten the time / distance gap.\nOther areas to be covered would be utilization of a compass\, GPS\, Downed Officer Reaction/solutions\, and arrest procedure upon contact.\n\nMost of the two-days of training will be outside in a variety of conditions and areas. There will also be a lot of physical activity in various terrains. Participants must be prepared by dressing appropriately for the conditions and physical activity (including footwear and headwear). \nInstructors:    Rudi Nitschmann\, U.S. Army – S.R.T. and retired after 29 years of service with \nthe M.S.P.  MSP Emergency Support Team Member for 26 years.  Level II \nCertified Man-Tracking Instructor. \nRichard Casanova\, U.S.M.C. – Infantry / Intel Field – 10 years.  MSP \nEmergency Support Team Member for 18 years.  Currently has 23 years of \nservice with the MSP. \nClass size:                 Limited to 12\, additional registrations will be placed on a waiting list. \nLocation:                   Crossroads Village\, 6140 Bray Road\, Flint\, MI   48505 \nCost:                           LEORTC Licensed Members – Prepaid \nAll Others – $190 per person \nClick HERE to Register \n“This training has been registered with MCOLES for the use of PA 302 Law Enforcement Distribution funds.”
URL:https://www.leortc.com/event/tactical-field-operations-man-tracking-3-2020-04-21-2020-09-22-2021-04-06-2021-10-12-2022-04-27/
LOCATION:Crossroads Village\, 6140 Bray Rd.\, Flint\, MI\, 48505\, United States
GEO:43.0935238;-83.6515189
X-APPLE-STRUCTURED-LOCATION;VALUE=URI;X-ADDRESS=Crossroads Village 6140 Bray Rd. Flint MI 48505 United States;X-APPLE-RADIUS=500;X-TITLE=6140 Bray Rd.:geo:-83.6515189,43.0935238
END:VEVENT
BEGIN:VEVENT
DTSTART;TZID=America/Detroit:20211012T080000
DTEND;TZID=America/Detroit:20211013T160000
DTSTAMP:20260424T105123
CREATED:20180829T164317Z
LAST-MODIFIED:20220120T171115Z
UID:10000213-1634025600-1634140800@www.leortc.com
SUMMARY:Tactical Field Operations - Man Tracking
DESCRIPTION:This training program focuses on perimeter containment of Fleeing Subjects while utilizing Man-Tracking skills\, deploying K-9\, utilization of aviation support\, and possibly LPOP’s (Listening Points / Observation Points). These techniques are also utilized for Lost and Missing Persons. \nThis training would be valuable for all officers\, supervisors\, and command staff. Training components of this program include: \n\nThe Psychological Profiles of Fleeing Subjects / Lost & Missing Persons issues are taught to assist in understanding early search variables.\nFor Fleeing Subjects\, the Leap Frogging technique is utilized to shorten the time / distance gap.\nOther areas to be covered would be utilization of a compass\, GPS\, Downed Officer Reaction/solutions\, and arrest procedure upon contact.\n\nMost of the two-days of training will be outside in a variety of conditions and areas. There will also be a lot of physical activity in various terrains. Participants must be prepared by dressing appropriately for the conditions and physical activity (including footwear and headwear). \nInstructors:    Rudi Nitschmann\, U.S. Army – S.R.T. and retired after 29 years of service with \nthe M.S.P.  MSP Emergency Support Team Member for 26 years.  Level II \nCertified Man-Tracking Instructor. \nRichard Casanova\, U.S.M.C. – Infantry / Intel Field – 10 years.  MSP \nEmergency Support Team Member for 18 years.  Currently has 23 years of \nservice with the MSP. \nClass size:                 Limited to 12\,  additional registrations will be placed on a waiting list. \nLocation:                   Crossroads Village\, 6140 Bray Road\, Flint\, MI   48505 \nCost:                           LEORTC Licensed Members – Prepaid \nAll Others – $190 per person \nClick HERE to Register \n“This training has been registered with MCOLES for the use of PA 302 Law Enforcement Distribution funds.”
URL:https://www.leortc.com/event/tactical-field-operations-man-tracking-3-2020-04-21-2020-09-22-2021-04-06-2021-10-12/
LOCATION:Crossroads Village\, 6140 Bray Rd.\, Flint\, MI\, 48505\, United States
GEO:43.0935238;-83.6515189
X-APPLE-STRUCTURED-LOCATION;VALUE=URI;X-ADDRESS=Crossroads Village 6140 Bray Rd. Flint MI 48505 United States;X-APPLE-RADIUS=500;X-TITLE=6140 Bray Rd.:geo:-83.6515189,43.0935238
END:VEVENT
BEGIN:VEVENT
DTSTART;TZID=America/Detroit:20210406T080000
DTEND;TZID=America/Detroit:20210407T160000
DTSTAMP:20260424T105123
CREATED:20180829T164317Z
LAST-MODIFIED:20210405T175749Z
UID:10000212-1617696000-1617811200@www.leortc.com
SUMMARY:Tactical Field Operations - Man Tracking
DESCRIPTION:This training program focuses on perimeter containment of Fleeing Subjects while utilizing Man-Tracking skills\, deploying K-9\, utilization of aviation support\, and possibly LPOP’s (Listening Points / Observation Points). These techniques are also utilized for Lost and Missing Persons. \nThis training would be valuable for all officers\, supervisors\, and command staff. Training components of this program include: \n\nThe Psychological Profiles of Fleeing Subjects / Lost & Missing Persons issues are taught to assist in understanding early search variables.\nFor Fleeing Subjects\, the Leap Frogging technique is utilized to shorten the time / distance gap.\nOther areas to be covered would be utilization of a compass\, GPS\, Downed Officer Reaction/solutions\, and arrest procedure upon contact.\n\nMost of the two-days of training will be outside in a variety of conditions and areas. There will also be a lot of physical activity in various terrains. Participants must be prepared by dressing appropriately for the conditions and physical activity (including footwear and headwear). \nInstructors:    Rudi Nitschmann\, U.S. Army – S.R.T. and retired after 29 years of service with \nthe M.S.P.  MSP Emergency Support Team Member for 26 years.  Level II \nCertified Man-Tracking Instructor. \nRichard Casanova\, U.S.M.C. – Infantry / Intel Field – 10 years.  MSP \nEmergency Support Team Member for 18 years.  Currently has 23 years of \nservice with the MSP. \nClass size:                 Limited to 12\,  additional registrations will be placed on a waiting list. \nLocation:                   Crossroads Village\, 6140 Bray Road\, Flint\, MI   48505 \nCost:                           LEORTC Licensed Members – Prepaid \nAll Others – $190 per person \nClick HERE to Register \n“This training has been registered with MCOLES for the use of PA 302 Law Enforcement Distribution funds.”
URL:https://www.leortc.com/event/tactical-field-operations-man-tracking-3-2020-04-21-2020-09-22-2021-04-06/
LOCATION:Crossroads Village\, 6140 Bray Rd.\, Flint\, MI\, 48505\, United States
ATTACH;FMTTYPE=image/jpeg:https://www.leortc.com/wp-content/uploads/2021/04/Critical-Incident-Management.jpg
GEO:43.0935238;-83.6515189
X-APPLE-STRUCTURED-LOCATION;VALUE=URI;X-ADDRESS=Crossroads Village 6140 Bray Rd. Flint MI 48505 United States;X-APPLE-RADIUS=500;X-TITLE=6140 Bray Rd.:geo:-83.6515189,43.0935238
END:VEVENT
BEGIN:VEVENT
DTSTART;TZID=America/Detroit:20200922T080000
DTEND;TZID=America/Detroit:20200923T160000
DTSTAMP:20260424T105123
CREATED:20180829T164317Z
LAST-MODIFIED:20210127T154309Z
UID:10000211-1600761600-1600876800@www.leortc.com
SUMMARY:Tactical Field Operations - Man Tracking
DESCRIPTION:This training program focuses on perimeter containment of Fleeing Subjects while utilizing Man-Tracking skills\, deploying K-9\, utilization of aviation support\, and possibly LPOP’s (Listening Points / Observation Points). These techniques are also utilized for Lost and Missing Persons. \nThis training would be valuable for all officers\, supervisors\, and command staff. Training components of this program include: \n\nThe Psychological Profiles of Fleeing Subjects / Lost & Missing Persons issues are taught to assist in understanding early search variables.\nFor Fleeing Subjects\, the Leap Frogging technique is utilized to shorten the time / distance gap.\nOther areas to be covered would be utilization of a compass\, GPS\, Downed Officer Reaction/solutions\, and arrest procedure upon contact.\n\nMost of the two-days of training will be outside in a variety of conditions and areas. There will also be a lot of physical activity in various terrains. Participants must be prepared by dressing appropriately for the conditions and physical activity (including footwear and headwear). \nInstructors:    Rudi Nitschmann\, U.S. Army – S.R.T. and retired after 29 years of service with \nthe M.S.P.  MSP Emergency Support Team Member for 26 years.  Level II \nCertified Man-Tracking Instructor. \nRichard Casanova\, U.S.M.C. – Infantry / Intel Field – 10 years.  MSP \nEmergency Support Team Member for 18 years.  Currently has 23 years of \nservice with the MSP. \nClass size:                 Limited to 12\,  additional registrations will be placed on a waiting list. \nLocation:                   Crossroads Village\, 6140 Bray Road\, Flint\, MI   48505 \nCost:                           LEORTC Licensed Members – Prepaid \nAll Others – $150 per person \nClick HERE to Register \n“This training has been registered with MCOLES for the use of PA 302 Law Enforcement Distribution funds.”
URL:https://www.leortc.com/event/tactical-field-operations-man-tracking-3-2020-04-21-2020-09-22/
LOCATION:Crossroads Village\, 6140 Bray Rd.\, Flint\, MI\, 48505\, United States
GEO:43.0935238;-83.6515189
X-APPLE-STRUCTURED-LOCATION;VALUE=URI;X-ADDRESS=Crossroads Village 6140 Bray Rd. Flint MI 48505 United States;X-APPLE-RADIUS=500;X-TITLE=6140 Bray Rd.:geo:-83.6515189,43.0935238
END:VEVENT
BEGIN:VEVENT
DTSTART;TZID=America/Detroit:20200421T080000
DTEND;TZID=America/Detroit:20200422T160000
DTSTAMP:20260424T105123
CREATED:20180829T164317Z
LAST-MODIFIED:20200331T142334Z
UID:10000210-1587456000-1587571200@www.leortc.com
SUMMARY:Tactical Field Operations - Man Tracking - THIS CLASS IS CANCELED
DESCRIPTION:This training program focuses on perimeter containment of Fleeing Subjects while utilizing Man-Tracking skills\, deploying K-9\, utilization of aviation support\, and possibly LPOP’s (Listening Points / Observation Points). These techniques are also utilized for Lost and Missing Persons. \nThis training would be valuable for all officers\, supervisors\, and command staff. Training components of this program include: \n\nThe Psychological Profiles of Fleeing Subjects / Lost & Missing Persons issues are taught to assist in understanding early search variables.\nFor Fleeing Subjects\, the Leap Frogging technique is utilized to shorten the time / distance gap.\nOther areas to be covered would be utilization of a compass\, GPS\, Downed Officer Reaction/solutions\, and arrest procedure upon contact.\n\nMost of the two-days of training will be outside in a variety of conditions and areas. There will also be a lot of physical activity in various terrains. Participants must be prepared by dressing appropriately for the conditions and physical activity (including footwear and headwear). \n  \nInstructors:    Rudi Nitschmann\, U.S. Army – S.R.T. and retired after 29 years of service with \nthe M.S.P.  MSP Emergency Support Team Member for 26 years.  Level II \nCertified Man-Tracking Instructor. \nRichard Casanova\, U.S.M.C. – Infantry / Intel Field – 10 years.  MSP \nEmergency Support Team Member for 18 years.  Currently has 23 years of \nservice with the MSP. \nClass size:                 Limited to 12\,  additional registrations will be placed on a waiting list. \nLocation:                   Crossroads Village\, 6140 Bray Road\, Flint\, MI   48505 \nCost:                           LEORTC Licensed Members – Prepaid \nAll Others – $150 per person \nClick HERE to Register \n“This training has been registered with MCOLES for the use of PA 302 Law Enforcement Distribution funds.”
URL:https://www.leortc.com/event/tactical-field-operations-man-tracking-3-2020-04-21/
LOCATION:Crossroads Village\, 6140 Bray Rd.\, Flint\, MI\, 48505\, United States
GEO:43.0935238;-83.6515189
X-APPLE-STRUCTURED-LOCATION;VALUE=URI;X-ADDRESS=Crossroads Village 6140 Bray Rd. Flint MI 48505 United States;X-APPLE-RADIUS=500;X-TITLE=6140 Bray Rd.:geo:-83.6515189,43.0935238
END:VEVENT
BEGIN:VEVENT
DTSTART;TZID=America/Detroit:20190430T083000
DTEND;TZID=America/Detroit:20190502T163000
DTSTAMP:20260424T105123
CREATED:20180209T002640Z
LAST-MODIFIED:20190221T164832Z
UID:10000164-1556613000-1556814600@www.leortc.com
SUMMARY:Basic Patrol Rifle
DESCRIPTION:This course is designed to train participants in the operation of the Patrol Rifle / Carbine. Safety concerns of the rifle armed officer\, basic fundamental techniques\, sufficient practice shooting drills\, nomenclature\, and marksmanship will give participants the knowledge and skills for the proper use of the patrol rifle. \nRequired Equipment: \n\nDepartment Issued/Approved Body Armor & Inclement Weather Gear\nEye & Ear Protection\nDepartment Issued/Approved Rifle\nRifle Cleaning Kit\n500 Rounds of Rifle Ammunition & 50 Rounds of Handgun Ammunition\nDuty Weapon & Belt\n\nInstructors: Bruce Coxworth is a retired Flint Police Rangemaster and Firearms Training Coordinator. He is a Sigarm’s qualified rangemaster and a law enforcement rifle instructor. He is currently an adjunct weapons trainer for Delta Community Collge and Oakland Community College. \nClass Size:   Limited to 15 \nCost:              LEORTC Member Licensed Officers – Prepaid             LEORTC Non-Licensed Personnel – $85.00 p/p \nNon-Member Agencies – $170.00 p/p \nLocation:  Crossroads Village\, 6140 Bray Flint\, MI 48506.  The first day will be held in the classroom located at the Millstreet Warehouse.  Days 2 & 3 will be at the range within the Genesee County Parks system (instructor will direct the participants to the range). \n“This training has been registered with MCOLES for the use of PA 302 Law Enforcement Distribution funds.” \nClick HERE to Register
URL:https://www.leortc.com/event/basic-patrol-rifle-2-2019-04-30/
LOCATION:Crossroads Village\, 6140 Bray Rd.\, Flint\, MI\, 48505\, United States
GEO:43.0935238;-83.6515189
X-APPLE-STRUCTURED-LOCATION;VALUE=URI;X-ADDRESS=Crossroads Village 6140 Bray Rd. Flint MI 48505 United States;X-APPLE-RADIUS=500;X-TITLE=6140 Bray Rd.:geo:-83.6515189,43.0935238
END:VEVENT
BEGIN:VEVENT
DTSTART;TZID=America/Detroit:20190416T080000
DTEND;TZID=America/Detroit:20190417T163000
DTSTAMP:20260424T105123
CREATED:20180829T162808Z
LAST-MODIFIED:20180829T162808Z
UID:10000209-1555401600-1555518600@www.leortc.com
SUMMARY:Tactical Field Operations - Man Tracking
DESCRIPTION:This training program focuses on perimeter containment of Fleeing Subjects while utilizing Man-Tracking skills\, deploying K-9\, utilization of aviation support\, and possibly LPOP’s (Listening Points / Observation Points). These techniques are also utilized for Lost and Missing Persons. \nThis training would be valuable for all officers\, supervisors\, and command staff. Training components of this program include: \n\nThe Psychological Profiles of Fleeing Subjects / Lost & Missing Persons issues are taught to assist in understanding early search variables.\nFor Fleeing Subjects\, the Leap Frogging technique is utilized to shorten the time / distance gap.\nOther areas to be covered would be utilization of a compass\, GPS\, Downed Officer Reaction/solutions\, and arrest procedure upon contact.\n\nMost of the two-days of training will be outside in a variety of conditions and areas. There will also be a lot of physical activity in various terrains. Participants must be prepared by dressing appropriately for the conditions and physical activity (including footwear and headwear). \n  \nInstructors:    Rudi Nitschmann\, U.S. Army – S.R.T. and retired after 29 years of service with \nthe M.S.P.  MSP Emergency Support Team Member for 26 years.  Level II \nCertified Man-Tracking Instructor. \nRichard Casanova\, U.S.M.C. – Infantry / Intel Field – 10 years.  MSP \nEmergency Support Team Member for 18 years.  Currently has 23 years of \nservice with the MSP. \nClass size:                 Limited to (14) \nRegistration:             Initial registrations limited to (1) per agency – Additional registrations to be placed on a waiting list. \nCost:                           LEORTC Licensed Members – Prepaid \nAll Others – $150 per person \nClick HERE to Register \n“This training has been registered with MCOLES for the use of PA 302 Law Enforcement Distribution funds.”
URL:https://www.leortc.com/event/tactical-field-operations-man-tracking-2/
LOCATION:Crossroads Village\, 6140 Bray Rd.\, Flint\, MI\, 48505\, United States
GEO:43.0935238;-83.6515189
X-APPLE-STRUCTURED-LOCATION;VALUE=URI;X-ADDRESS=Crossroads Village 6140 Bray Rd. Flint MI 48505 United States;X-APPLE-RADIUS=500;X-TITLE=6140 Bray Rd.:geo:-83.6515189,43.0935238
END:VEVENT
BEGIN:VEVENT
DTSTART;TZID=America/Detroit:20180910T080000
DTEND;TZID=America/Detroit:20180911T163000
DTSTAMP:20260424T105123
CREATED:20170817T230352Z
LAST-MODIFIED:20180416T224944Z
UID:10000062-1536566400-1536683400@www.leortc.com
SUMMARY:Tactical Field Operations - Man-Tracking
DESCRIPTION:Man-Tracking Procedures \nThis training program focuses on perimeter containment of Fleeing Subjects while utilizing Man-Tracking skills\, deploying K-9\, utilization of aviation support\, and possibly LPOP’s (Listening Points / Observation Points). These techniques are also utilized for Lost and Missing Persons. \nThis training would be valuable for all officers\, supervisors\, and command staff. Training components of this program include: \n\nThe Psychological Profiles of Fleeing Subjects / Lost & Missing Persons issues are taught to assist in understanding early search variables.\nFor Fleeing Subjects\, the Leap Frogging technique is utilized to shorten the time / distance gap.\nOther areas to be covered would be utilization of a compass\, GPS\, Downed Officer Reaction/solutions\, and arrest procedure upon contact.\n\nMost of the two-days of training will be outside in a variety of conditions and areas. There will also be a lot of physical activity in various terrains. Participants must be prepared by dressing appropriately for the conditions and physical activity (including footwear and headwear). \n  \nInstructors:    Rudi Nitschmann\, U.S. Army – S.R.T. and retired after 29 years of service with \nthe M.S.P.  MSP Emergency Support Team Member for 26 years.  Level II \nCertified Man-Tracking Instructor. \nRichard Casanova\, U.S.M.C. – Infantry / Intel Field – 10 years.  MSP \nEmergency Support Team Member for 18 years.  Currently has 23 years of \nservice with the MSP. \n  \nClass size:                 Limited to (14) \nRegistration:             Initial registrations limited to (1) per agency – Additional registrations to be placed on a waiting list. \nCost:                           LEORTC Licensed Members – Prepaid \nAll Others – $150 per person \n  \nREGISTRATION FORM \n 
URL:https://www.leortc.com/event/tactical-field-operations-man-tracking-2018-09-10/
LOCATION:Crossroads Village\, 6140 Bray Rd.\, Flint\, MI\, 48505\, United States
GEO:43.0935238;-83.6515189
X-APPLE-STRUCTURED-LOCATION;VALUE=URI;X-ADDRESS=Crossroads Village 6140 Bray Rd. Flint MI 48505 United States;X-APPLE-RADIUS=500;X-TITLE=6140 Bray Rd.:geo:-83.6515189,43.0935238
END:VEVENT
END:VCALENDAR