BEGIN:VCALENDAR
VERSION:2.0
PRODID:-//LEORTC - Law Enforcement Officers Regional Training Commission - ECPv6.15.20//NONSGML v1.0//EN
CALSCALE:GREGORIAN
METHOD:PUBLISH
X-WR-CALNAME:LEORTC - Law Enforcement Officers Regional Training Commission
X-ORIGINAL-URL:https://www.leortc.com
X-WR-CALDESC:Events for LEORTC - Law Enforcement Officers Regional Training Commission
REFRESH-INTERVAL;VALUE=DURATION:PT1H
X-Robots-Tag:noindex
X-PUBLISHED-TTL:PT1H
BEGIN:VTIMEZONE
TZID:America/Detroit
BEGIN:DAYLIGHT
TZOFFSETFROM:-0500
TZOFFSETTO:-0400
TZNAME:EDT
DTSTART:20200308T070000
END:DAYLIGHT
BEGIN:STANDARD
TZOFFSETFROM:-0400
TZOFFSETTO:-0500
TZNAME:EST
DTSTART:20201101T060000
END:STANDARD
BEGIN:DAYLIGHT
TZOFFSETFROM:-0500
TZOFFSETTO:-0400
TZNAME:EDT
DTSTART:20210314T070000
END:DAYLIGHT
BEGIN:STANDARD
TZOFFSETFROM:-0400
TZOFFSETTO:-0500
TZNAME:EST
DTSTART:20211107T060000
END:STANDARD
BEGIN:DAYLIGHT
TZOFFSETFROM:-0500
TZOFFSETTO:-0400
TZNAME:EDT
DTSTART:20220313T070000
END:DAYLIGHT
BEGIN:STANDARD
TZOFFSETFROM:-0400
TZOFFSETTO:-0500
TZNAME:EST
DTSTART:20221106T060000
END:STANDARD
END:VTIMEZONE
BEGIN:VEVENT
DTSTART;TZID=America/Detroit:20211006T180000
DTEND;TZID=America/Detroit:20211006T220000
DTSTAMP:20260424T161658
CREATED:20210324T153739Z
LAST-MODIFIED:20220908T133450Z
UID:10000311-1633543200-1633557600@www.leortc.com
SUMMARY:Railroad Investigation & Safety Course/Operation Lifesaver
DESCRIPTION:Approximately every three hours a train collision occurs in the United States often requiring the assistance of first responders at the scene of an incident.  The Railroad Investigation and Safety Course provides first responders with critical information allowing them to effectively respond to and safely investigate incidents involving the railroad. \nTopics discussed include: \n\nRail safety\nOn-Scene safety and situational awareness\nRail resources and initial report information\nRail incident conclusion\n\nAttendees will learn personal safety techniques while they are investigating a grade crossing or trespasser incident\, in addition to maintaining on-scene safety unique to the railroad environment. \nInstructors:  Robert (Butch) Brancheau retired from the Shiawassee County Sheriff’s Office and is currently the Chief of Police for Great Lakes Central Railroad. Chief Brancheau graduated from Grand Valley State University with a BS in Criminal Justice and has 28 years of LE experience. He is a master trainer for the National Association of Professional Canine Handlers (NAPCH) and an Operation Lifesaver Railroad Investigation and Safety Course (RISC) presenter.  Dave Salamas\, Officer with the Canadian National Railroad Police with a BS in Criminal Justice from Lake Superior State University.  He had been an officer for the City of Pleasant Ridge and City of Romulus Police.  He is a Firearms Instructor\, Speed Measurement Instructor\, and Operation Lifesaver Instructor. \nLocation:  Corunna Community Center\, 421 Emma Drive\, Corunna\, MI  48817 \nCost:  This class is free \nClick HERE to Register \n“This training has been registered with MCOLES for the use of PA 302 Law Enforcement Distribution funds.”
URL:https://www.leortc.com/event/railroad-investigation-safety-course-2021-04-28-2021-10-06-2021-10-06/
LOCATION:Corunna Community Center\, 421 Emma Drive\, Corunna\, MI\, 48817\, United States
ATTACH;FMTTYPE=image/jpeg:https://www.leortc.com/wp-content/uploads/2021/03/Operation-Lifesaver.jpg
END:VEVENT
BEGIN:VEVENT
DTSTART;TZID=America/Detroit:20211006T090000
DTEND;TZID=America/Detroit:20211006T130000
DTSTAMP:20260424T161658
CREATED:20210324T153739Z
LAST-MODIFIED:20220908T133513Z
UID:10000310-1633510800-1633525200@www.leortc.com
SUMMARY:Railroad Investigation & Safety Course/Operation Lifesaver
DESCRIPTION:Approximately every three hours a train collision occurs in the United States often requiring the assistance of first responders at the scene of an incident.  The Railroad Investigation and Safety Course provides first responders with critical information allowing them to effectively respond to and safely investigate incidents involving the railroad. \nTopics discussed include: \n\nRail safety\nOn-Scene safety and situational awareness\nRail resources and initial report information\nRail incident conclusion\n\nAttendees will learn personal safety techniques while they are investigating a grade crossing or trespasser incident\, in addition to maintaining on-scene safety unique to the railroad environment. \nInstructors:  Robert (Butch) Brancheau retired from the Shiawassee County Sheriff’s Office and is currently the Chief of Police for Great Lakes Central Railroad. Chief Brancheau graduated from Grand Valley State University with a BS in Criminal Justice and has 28 years of LE experience. He is a master trainer for the National Association of Professional Canine Handlers (NAPCH) and an Operation Lifesaver Railroad Investigation and Safety Course (RISC) presenter.  Dave Salamas\, Officer with the Canadian National Railroad Police with a BS in Criminal Justice from Lake Superior State University.  He had been an officer for the City of Pleasant Ridge and City of Romulus Police.  He is a Firearms Instructor\, Speed Measurement Instructor\, and Operation Lifesaver Instructor. \nLocation:  Corunna Community Center\, 421 Emma Drive\, Corunna\, MI  48817 \nCost:  This class is free \nClick HERE to Register \n“This training has been registered with MCOLES for the use of PA 302 Law Enforcement Distribution funds.”
URL:https://www.leortc.com/event/railroad-investigation-safety-course-2021-04-28-2021-10-06/
LOCATION:Corunna Community Center\, 421 Emma Drive\, Corunna\, MI\, 48817\, United States
ATTACH;FMTTYPE=image/jpeg:https://www.leortc.com/wp-content/uploads/2021/03/Operation-Lifesaver.jpg
END:VEVENT
END:VCALENDAR