BEGIN:VCALENDAR
VERSION:2.0
PRODID:-//LEORTC - Law Enforcement Officers Regional Training Commission - ECPv6.15.20//NONSGML v1.0//EN
CALSCALE:GREGORIAN
METHOD:PUBLISH
X-WR-CALNAME:LEORTC - Law Enforcement Officers Regional Training Commission
X-ORIGINAL-URL:https://www.leortc.com
X-WR-CALDESC:Events for LEORTC - Law Enforcement Officers Regional Training Commission
REFRESH-INTERVAL;VALUE=DURATION:PT1H
X-Robots-Tag:noindex
X-PUBLISHED-TTL:PT1H
BEGIN:VTIMEZONE
TZID:America/Detroit
BEGIN:DAYLIGHT
TZOFFSETFROM:-0500
TZOFFSETTO:-0400
TZNAME:EDT
DTSTART:20170312T070000
END:DAYLIGHT
BEGIN:STANDARD
TZOFFSETFROM:-0400
TZOFFSETTO:-0500
TZNAME:EST
DTSTART:20171105T060000
END:STANDARD
BEGIN:DAYLIGHT
TZOFFSETFROM:-0500
TZOFFSETTO:-0400
TZNAME:EDT
DTSTART:20180311T070000
END:DAYLIGHT
BEGIN:STANDARD
TZOFFSETFROM:-0400
TZOFFSETTO:-0500
TZNAME:EST
DTSTART:20181104T060000
END:STANDARD
BEGIN:DAYLIGHT
TZOFFSETFROM:-0500
TZOFFSETTO:-0400
TZNAME:EDT
DTSTART:20190310T070000
END:DAYLIGHT
BEGIN:STANDARD
TZOFFSETFROM:-0400
TZOFFSETTO:-0500
TZNAME:EST
DTSTART:20191103T060000
END:STANDARD
BEGIN:DAYLIGHT
TZOFFSETFROM:-0500
TZOFFSETTO:-0400
TZNAME:EDT
DTSTART:20200308T070000
END:DAYLIGHT
BEGIN:STANDARD
TZOFFSETFROM:-0400
TZOFFSETTO:-0500
TZNAME:EST
DTSTART:20201101T060000
END:STANDARD
BEGIN:DAYLIGHT
TZOFFSETFROM:-0500
TZOFFSETTO:-0400
TZNAME:EDT
DTSTART:20210314T070000
END:DAYLIGHT
BEGIN:STANDARD
TZOFFSETFROM:-0400
TZOFFSETTO:-0500
TZNAME:EST
DTSTART:20211107T060000
END:STANDARD
BEGIN:DAYLIGHT
TZOFFSETFROM:-0500
TZOFFSETTO:-0400
TZNAME:EDT
DTSTART:20220313T070000
END:DAYLIGHT
BEGIN:STANDARD
TZOFFSETFROM:-0400
TZOFFSETTO:-0500
TZNAME:EST
DTSTART:20221106T060000
END:STANDARD
BEGIN:DAYLIGHT
TZOFFSETFROM:-0500
TZOFFSETTO:-0400
TZNAME:EDT
DTSTART:20230312T070000
END:DAYLIGHT
BEGIN:STANDARD
TZOFFSETFROM:-0400
TZOFFSETTO:-0500
TZNAME:EST
DTSTART:20231105T060000
END:STANDARD
BEGIN:DAYLIGHT
TZOFFSETFROM:-0500
TZOFFSETTO:-0400
TZNAME:EDT
DTSTART:20240310T070000
END:DAYLIGHT
BEGIN:STANDARD
TZOFFSETFROM:-0400
TZOFFSETTO:-0500
TZNAME:EST
DTSTART:20241103T060000
END:STANDARD
END:VTIMEZONE
BEGIN:VEVENT
DTSTART;TZID=America/Detroit:20231213T083000
DTEND;TZID=America/Detroit:20231213T163000
DTSTAMP:20260424T173456
CREATED:20230918T133745Z
LAST-MODIFIED:20230918T133746Z
UID:10000387-1702456200-1702485000@www.leortc.com
SUMMARY:Shooting Incident Reconstruction
DESCRIPTION:This is one of the classes in our Evidence Specialist Series and is an extremely important topic in Contemporary Police Forensics.  Topics in this course include: \n\nBallistics\, Trajectories and Ricochets\nAmmunition Components\nVehicle Processing\nDocumentation and Evidence Recovery\nTrace Evidence\nSuicides\nEjection Patterns\nPolice Shootings\nTrigonometry (Using Trigonometry to determine angles and distances)\nCase Studies (Case study presentations showing application of the instructed topics)\n\nInstructor:       James Horn\, Specialist/Sergeant.\, MSP Bridgeport Laboratory.  Currently Spl/ Sgt. Horn is a Firearms/Toolmark/Crime Scene Examiner in the Forensic Science Division.   \nDate/Time:     Wednesday\, April 12\, 2023\, 8:30am – 4:30pm or Wednesday\, December 13\, 2023 8:30am – 4:30pm. \nLocation:         Burton Police Department\, 4090 Manor Drive\, Burton\, MI 48519 \nCost:                LEORTC Member Licensed Officers – Prepaid     LEORTC Non-Licensed –                     $65.00 \nNon-Member Agencies –                   $120.00 \nClick HERE to Register \n“This training has been registered with MCOLES for the use of PA 302 Law Enforcement Distribution funds.”
URL:https://www.leortc.com/event/shooting-incident-reconstruction-2/
LOCATION:Burton Police Department\, 4090 Manor Drive\, Burton\, MI\, 48519\, United States
GEO:42.9654618;-83.6318278
X-APPLE-STRUCTURED-LOCATION;VALUE=URI;X-ADDRESS=Burton Police Department 4090 Manor Drive Burton MI 48519 United States;X-APPLE-RADIUS=500;X-TITLE=4090 Manor Drive:geo:-83.6318278,42.9654618
END:VEVENT
BEGIN:VEVENT
DTSTART;TZID=America/Detroit:20230412T083000
DTEND;TZID=America/Detroit:20230412T163000
DTSTAMP:20260424T173456
CREATED:20230111T182049Z
LAST-MODIFIED:20230118T183950Z
UID:10000374-1681288200-1681317000@www.leortc.com
SUMMARY:Shooting Incident Reconstruction
DESCRIPTION:This is one of the classes in our Evidence Specialist Series and is an extremely important topic in Contemporary Police Forensics.  Topics in this course include: \n\nBallistics\, Trajectories and Ricochets\nAmmunition Components\nVehicle Processing\nDocumentation and Evidence Recovery\nTrace Evidence\nSuicides\nEjection Patterns\nPolice Shootings\nTrigonometry (Using Trigonometry to determine angles and distances)\nCase Studies (Case study presentations showing application of the instructed topics)\n\nInstructor:       James Horn\, Specialist/Sergeant.\, MSP Bridgeport Laboratory.  Currently Spl/ Sgt. Horn is a Firearms/Toolmark/Crime Scene Examiner in the Forensic Science Division.   \nDate/Time:     Wednesday\, April 12\, 2023\, 8:30am – 4:30pm or Wednesday\, December 13\, 2023 8:30am – 4:30pm. \nLocation:         Burton Police Department\, 4090 Manor Drive\, Burton\, MI 48519 \nCost:                LEORTC Member Licensed Officers – Prepaid     LEORTC Non-Licensed –                     $65.00 \nNon-Member Agencies –                   $120.00 \nClick HERE to Register \n“This training has been registered with MCOLES for the use of PA 302 Law Enforcement Distribution funds.”
URL:https://www.leortc.com/event/shooting-incident-reconstruction/
LOCATION:Burton Police Department\, 4090 Manor Drive\, Burton\, MI\, 48519\, United States
GEO:42.9654618;-83.6318278
X-APPLE-STRUCTURED-LOCATION;VALUE=URI;X-ADDRESS=Burton Police Department 4090 Manor Drive Burton MI 48519 United States;X-APPLE-RADIUS=500;X-TITLE=4090 Manor Drive:geo:-83.6318278,42.9654618
END:VEVENT
BEGIN:VEVENT
DTSTART;TZID=America/Detroit:20221214T083000
DTEND;TZID=America/Detroit:20221214T163000
DTSTAMP:20260424T173456
CREATED:20170808T182213Z
LAST-MODIFIED:20221213T164935Z
UID:10000039-1671006600-1671035400@www.leortc.com
SUMMARY:Shooting Incident Reconstruction - THIS CLASS IS FULL
DESCRIPTION:This is one of the classes in our Evidence Specialist Series and is an extremely important topic in Contemporary Police Forensics.  Topics in this course include: \n\nBallistics\, Trajectories and Ricochets\nAmmunition Components\nVehicle Processing\nDocumentation and Evidence Recovery\nTrace Evidence\nSuicides\nEjection Patterns\nPolice Shootings\nTrigonometry (Using Trigonometry to determine angles and distances)\nCase Studies (Case study presentations showing application of the instructed topics)\n\nLocation:         City of Burton Police Department\, 4090 Manor Drive Burton\, MI 48519 \nCost:                LEORTC Member Licensed Officers –            Prepaid \nLEORTC Non-Licensed –                     $45.00 \nNon-Member Agencies –                   $95.00 \nInstructor:       James Horn\, Specialist/Sergeant.\, MSP Bridgeport Laboratory. Currently Spl/ Sgt. Horn is a Firearms/Toolmark/Crime Scene Examiner in the Forensic Science Division \nClick HERE to Register \n“This training has been registered with MCOLES for the use of PA 302 Law Enforcement Distribution funds.”
URL:https://www.leortc.com/event/shooting-incident-reconstruction-2018-10-26-2019-11-12-2020-11-10-2021-11-10-2022-12-14/
LOCATION:Burton Police Department\, 4090 Manor Drive\, Burton\, MI\, 48519\, United States
GEO:42.9654618;-83.6318278
X-APPLE-STRUCTURED-LOCATION;VALUE=URI;X-ADDRESS=Burton Police Department 4090 Manor Drive Burton MI 48519 United States;X-APPLE-RADIUS=500;X-TITLE=4090 Manor Drive:geo:-83.6318278,42.9654618
END:VEVENT
BEGIN:VEVENT
DTSTART;TZID=America/Detroit:20211110T083000
DTEND;TZID=America/Detroit:20211110T163000
DTSTAMP:20260424T173456
CREATED:20170808T182213Z
LAST-MODIFIED:20220119T162602Z
UID:10000038-1636533000-1636561800@www.leortc.com
SUMMARY:Shooting Incident Reconstruction
DESCRIPTION:This is one of the classes in our Evidence Specialist Series and is an extremely important topic in Contemporary Police Forensics.  Topics in this course include: \n\nBallistics\, Trajectories and Ricochets\nAmmunition Components\nVehicle Processing\nDocumentation and Evidence Recovery\nTrace Evidence\nSuicides\nEjection Patterns\nPolice Shootings\nTrigonometry (Using Trigonometry to determine angles and distances)\nCase Studies (Case study presentations showing application of the instructed topics)\n\nLocation:         City of Burton Police Department\, 4090 Manor Drive Burton\, MI 48519 \nCost:                LEORTC Member Licensed Officers –            Prepaid \nLEORTC Non-Licensed –                     $40.00 \nNon-Member Agencies –                   $95.00 \nInstructor:       James Horn\, Specialist/Sergeant.\, MSP Bridgeport Laboratory. Currently Spl/ Sgt. Horn is a Firearms/Toolmark/Crime Scene Examiner in the Forensic Science Division \nClick HERE to Register \n“This training has been registered with MCOLES for the use of PA 302 Law Enforcement Distribution funds.”
URL:https://www.leortc.com/event/shooting-incident-reconstruction-2018-10-26-2019-11-12-2020-11-10-2021-11-10/
LOCATION:Burton Police Department\, 4090 Manor Drive\, Burton\, MI\, 48519\, United States
GEO:42.9654618;-83.6318278
X-APPLE-STRUCTURED-LOCATION;VALUE=URI;X-ADDRESS=Burton Police Department 4090 Manor Drive Burton MI 48519 United States;X-APPLE-RADIUS=500;X-TITLE=4090 Manor Drive:geo:-83.6318278,42.9654618
END:VEVENT
BEGIN:VEVENT
DTSTART;TZID=America/Detroit:20210331T083000
DTEND;TZID=America/Detroit:20210331T163000
DTSTAMP:20260424T173456
CREATED:20180830T150753Z
LAST-MODIFIED:20201021T145852Z
UID:10000220-1617179400-1617208200@www.leortc.com
SUMMARY:Introduction to Latent Fingerprinting
DESCRIPTION:This 8-hour seminar is a combination of instructor presentation and instructor supervised practical exercises to provide students with the ability to successfully develop and preserve latent fingerprints using the basic brush and powder method. Topics covered in this course include: \nThe History of Fingerprints                               Terms & Definition \nSkin Structure & Latent Prints                          Types of Latent Prints \nBasic Fingerprint Patterns                                 Fingerprint Details Used for Identification \nTypes of Powders and Brushes                        Brush & Powder Development Techniques \nPractical Exercises                                             Introduction to AFIS \nAdvanced Development Techniques (magnetic powders\, small particle reagents\, superglue\, ninhydrin) \nClass Size:       Limited to 15 \nLocation:  Burton Police Department\, 4090 Manor Drive Burton\, MI 48519 \nCost:                LEORTC Certified Members – Prepaid\, All Others – $75.00 p/p \nInstructor:  Ken Binder is a Specialist Sergeant Latent Print Unit Michigan State Police Forensic Science Division Bridgeport Laboratory.  He has testified as an expert witness in many court cases tying individuals to their crimes through latent fingerprints left at the scene. \nClick HERE to Register \n“This training has been registered with MCOLES for the use of PA 302 Law Enforcement Distribution funds.”
URL:https://www.leortc.com/event/introduction-to-latent-fingerprinting-8-2020-03-24-2020-09-29-2021-03-31/
LOCATION:Burton Police Department\, 4090 Manor Drive\, Burton\, MI\, 48519\, United States
ATTACH;FMTTYPE=image/jpeg:https://www.leortc.com/wp-content/uploads/2017/03/Fingerprint.jpg
GEO:42.9654618;-83.6318278
X-APPLE-STRUCTURED-LOCATION;VALUE=URI;X-ADDRESS=Burton Police Department 4090 Manor Drive Burton MI 48519 United States;X-APPLE-RADIUS=500;X-TITLE=4090 Manor Drive:geo:-83.6318278,42.9654618
END:VEVENT
BEGIN:VEVENT
DTSTART;TZID=America/Detroit:20200929T083000
DTEND;TZID=America/Detroit:20200929T163000
DTSTAMP:20260424T173456
CREATED:20180830T150753Z
LAST-MODIFIED:20201015T170600Z
UID:10000219-1601368200-1601397000@www.leortc.com
SUMMARY:Introduction to Latent Fingerprinting
DESCRIPTION:This 8-hour seminar is a combination of instructor presentation and instructor supervised practical exercises to provide students with the ability to successfully develop and preserve latent fingerprints using the basic brush and powder method. Topics covered in this course include: \nThe History of Fingerprints                               Terms & Definition \nSkin Structure & Latent Prints                          Types of Latent Prints \nBasic Fingerprint Patterns                                 Fingerprint Details Used for Identification \nTypes of Powders and Brushes                        Brush & Powder Development Techniques \nPractical Exercises                                             Introduction to AFIS \nAdvanced Development Techniques (magnetic powders\, small particle reagents\, superglue\, ninhydrin) \nClass Size:       Limited to 15 \nCost:                LEORTC Certified Members – Prepaid\, All Others – $60.00 p/p \nInstructor:  Ken Binder is a Specialist Sergeant Latent Print Unit Michigan State Police Forensic Science Division Bridgeport Laboratory.  He has testified as an expert witness in many court cases tying individuals to their crimes through latent fingerprints left at the scene. \nClick HERE to Register \n“This training has been registered with MCOLES for the use of PA 302 Law Enforcement Distribution funds.”
URL:https://www.leortc.com/event/introduction-to-latent-fingerprinting-8-2020-03-24-2020-09-29/
LOCATION:Burton Police Department\, 4090 Manor Drive\, Burton\, MI\, 48519\, United States
ATTACH;FMTTYPE=image/jpeg:https://www.leortc.com/wp-content/uploads/2017/03/Fingerprint.jpg
GEO:42.9654618;-83.6318278
X-APPLE-STRUCTURED-LOCATION;VALUE=URI;X-ADDRESS=Burton Police Department 4090 Manor Drive Burton MI 48519 United States;X-APPLE-RADIUS=500;X-TITLE=4090 Manor Drive:geo:-83.6318278,42.9654618
END:VEVENT
BEGIN:VEVENT
DTSTART;TZID=America/Detroit:20200610T083000
DTEND;TZID=America/Detroit:20200611T163000
DTSTAMP:20260424T173456
CREATED:20170404T031008Z
LAST-MODIFIED:20200526T181507Z
UID:10000021-1591777800-1591893000@www.leortc.com
SUMMARY:Basic Police Surveillance - THIS CLASS IS CANCELED
DESCRIPTION:THIS CLASS IS CANCELED \nThe use of surveillance’s can be a much overlooked tool in criminal identification and investigation process. Objectives and types of surveillance’s will be discussed along with the use of appropriate techniques and pitfalls of surveillance’s. \n\nParticipants will develop an understanding of the objectives and types of police surveillance.\nParticipants will learn the four levels of and techniques of moving surveillance.\nParticipants will learn the importance of surveillance notes and what should be on them.\nParticipants will take what was learned in the classroom and utilize this knowledge in practical exercise.\n\n  \nRequired equipment: unmarked police vehicle (2 participants per)\, GPS if available\, binoculars. \nInstructors:  \nLt. Brian Warden is currently with the City of Burton Police Department. He has extensive undercover\, investigative\, and surveillance experience.  He has experience as a field training facilitator and completed previous surveillance training. \nLt. Charles Iddins has been in law enforcement for over 20 years\, currently with the City of Burton Police Department. He has been involved with the Flint Area Narcotics Group (FANG)\, experience as a field training facilitator and surveillance training. \nCosts:  \nLEORTC members pre-paid \nNon-member agencies $150.00 p/p \nClick HERE to Register \n“This training has been registered with MCOLES for the use of PA 302 Law Enforcement Distribution funds.”
URL:https://www.leortc.com/event/basic-police-surveillance-2020-06-10/
LOCATION:Burton Police Department\, 4090 Manor Drive\, Burton\, MI\, 48519\, United States
GEO:42.9654618;-83.6318278
X-APPLE-STRUCTURED-LOCATION;VALUE=URI;X-ADDRESS=Burton Police Department 4090 Manor Drive Burton MI 48519 United States;X-APPLE-RADIUS=500;X-TITLE=4090 Manor Drive:geo:-83.6318278,42.9654618
END:VEVENT
BEGIN:VEVENT
DTSTART;TZID=America/Detroit:20200324T083000
DTEND;TZID=America/Detroit:20200324T163000
DTSTAMP:20260424T173456
CREATED:20180830T150753Z
LAST-MODIFIED:20200323T173626Z
UID:10000218-1585038600-1585067400@www.leortc.com
SUMMARY:Introduction to Latent Fingerprinting - THIS CLASS IS CANCELED
DESCRIPTION:THIS CLASS IS CANCELED \nThis 8-hour seminar is a combination of instructor presentation and instructor supervised practical exercises to provide students with the ability to successfully develop and preserve latent fingerprints using the basic brush and powder method. Topics covered in this course include: \nThe History of Fingerprints                               Terms & Definition \nSkin Structure & Latent Prints                          Types of Latent Prints \nBasic Fingerprint Patterns                                 Fingerprint Details Used for Identification \nTypes of Powders and Brushes                        Brush & Powder Development Techniques \nPractical Exercises                                             Introduction to AFIS \nAdvanced Development Techniques (magnetic powders\, small particle reagents\, superglue\, ninhydrin) \nClass Size:       Limited to 15 \nCost:                LEORTC Licensed Members – Prepaid  All Others – $60.00 p/p \nInstructor:  Ken Binder is a Specialist Sergeant Latent Print Unit Michigan State Police Forensic Science Division Bridgeport Laboratory.  He has testified as an expert witness in many court cases tying individuals to their crimes through latent fingerprints left at the scene. \nClick HERE to Register \n“This training has been registered with MCOLES for the use of PA 302 Law Enforcement Distribution funds.”
URL:https://www.leortc.com/event/introduction-to-latent-fingerprinting-8-2020-03-24/
LOCATION:Burton Police Department\, 4090 Manor Drive\, Burton\, MI\, 48519\, United States
ATTACH;FMTTYPE=image/jpeg:https://www.leortc.com/wp-content/uploads/2017/03/Fingerprint.jpg
GEO:42.9654618;-83.6318278
X-APPLE-STRUCTURED-LOCATION;VALUE=URI;X-ADDRESS=Burton Police Department 4090 Manor Drive Burton MI 48519 United States;X-APPLE-RADIUS=500;X-TITLE=4090 Manor Drive:geo:-83.6318278,42.9654618
END:VEVENT
BEGIN:VEVENT
DTSTART;TZID=America/Detroit:20181010T083000
DTEND;TZID=America/Detroit:20181011T163000
DTSTAMP:20260424T173456
CREATED:20170404T031008Z
LAST-MODIFIED:20180416T230006Z
UID:10000020-1539160200-1539275400@www.leortc.com
SUMMARY:Basic Police Surveillance
DESCRIPTION:The use of surveillance can be a much overlooked tool in criminal identification and investigation process. Objectives and types of surveillance will be discussed along with the use of appropriate techniques and pitfalls of surveillance. \n\nParticipants will develop an understanding of the objectives and types of police surveillance.\nParticipants will learn the four levels of and techniques of moving surveillance.\nParticipants will learn the importance of surveillance notes and what should be on them.\nParticipants will take what was learned in the classroom and utilize this knowledge in practical exercise.\n\nRequired equipment: unmarked police vehicle (2 participants per)\, GPS if available\, binoculars. \nInstructors:  \nLt. Brian Warden is currently with the City of Burton Police Department. He has extensive undercover\, investigative\, and surveillance experience.  He has experience as a field training facilitator and completed previous surveillance training. \nSgt. Charles Iddins has been in law enforcement for over 20 years\, currently with the City of Burton Police Department. He has been involved with the Flint Area Narcotics Group (FANG)\, experience as a field training facilitator and surveillance training. \nLt. Michael Odette is currently with the City of Burton Police Department. He has extensive undercover\, investigative\, and surveillance experience.  He has taught this topic in an extended three day course. \nCosts:  \nLEORTC members pre-paid \nNon-member agencies $150.00 p/p \nREGISTRATION FORM
URL:https://www.leortc.com/event/basic-police-surveillance-2018-10-10/
LOCATION:Burton Police Department\, 4090 Manor Drive\, Burton\, MI\, 48519\, United States
GEO:42.9654618;-83.6318278
X-APPLE-STRUCTURED-LOCATION;VALUE=URI;X-ADDRESS=Burton Police Department 4090 Manor Drive Burton MI 48519 United States;X-APPLE-RADIUS=500;X-TITLE=4090 Manor Drive:geo:-83.6318278,42.9654618
END:VEVENT
END:VCALENDAR