BEGIN:VCALENDAR
VERSION:2.0
PRODID:-//LEORTC - Law Enforcement Officers Regional Training Commission - ECPv6.15.20//NONSGML v1.0//EN
CALSCALE:GREGORIAN
METHOD:PUBLISH
X-ORIGINAL-URL:https://www.leortc.com
X-WR-CALDESC:Events for LEORTC - Law Enforcement Officers Regional Training Commission
REFRESH-INTERVAL;VALUE=DURATION:PT1H
X-Robots-Tag:noindex
X-PUBLISHED-TTL:PT1H
BEGIN:VTIMEZONE
TZID:America/Detroit
BEGIN:DAYLIGHT
TZOFFSETFROM:-0500
TZOFFSETTO:-0400
TZNAME:EDT
DTSTART:20190310T070000
END:DAYLIGHT
BEGIN:STANDARD
TZOFFSETFROM:-0400
TZOFFSETTO:-0500
TZNAME:EST
DTSTART:20191103T060000
END:STANDARD
BEGIN:DAYLIGHT
TZOFFSETFROM:-0500
TZOFFSETTO:-0400
TZNAME:EDT
DTSTART:20200308T070000
END:DAYLIGHT
BEGIN:STANDARD
TZOFFSETFROM:-0400
TZOFFSETTO:-0500
TZNAME:EST
DTSTART:20201101T060000
END:STANDARD
BEGIN:DAYLIGHT
TZOFFSETFROM:-0500
TZOFFSETTO:-0400
TZNAME:EDT
DTSTART:20210314T070000
END:DAYLIGHT
BEGIN:STANDARD
TZOFFSETFROM:-0400
TZOFFSETTO:-0500
TZNAME:EST
DTSTART:20211107T060000
END:STANDARD
END:VTIMEZONE
BEGIN:VEVENT
DTSTART;TZID=America/Detroit:20200527T083000
DTEND;TZID=America/Detroit:20200527T163000
DTSTAMP:20260424T222036
CREATED:20200220T191221Z
LAST-MODIFIED:20200508T150104Z
UID:10000290-1590568200-1590597000@www.leortc.com
SUMMARY:Advanced Sex Trafficking Investigation & Interdiction for Law Enforcement - THIS CLASS IS CANCELED
DESCRIPTION:THIS  CLASS IS CANCELED \nMichigan is a four season destination that brings in millions of visitors each year; including criminals from outside the area to conduct their business enterprise.   Learn how your departments can work alongside each other\, duplicate success in your jurisdiction and work to prevent & enforce sex trafficking crimes against persons throughout our state. \nThis curriculum was built with the aid of fellow LE officers and victim advocates of whom have successfully conducted numerous undercover sex trafficking sting operations\, identified sex trafficking perpetrators\, recovered both child and adult victims and then assist in victim services. \nUpon completion of the course\, law enforcement personnel will have the ability to efficiently and promptly investigate\, interdict and enforce Michigan laws pertaining to sex trafficking. \nCOURSE OUTLINE: Define sex trafficking\, identify sex buyers\, sex traffickers & their victims\, learn the indicators\, and identify locations known to carry out Sex Trafficking specifically. Investigation Techniques\, Forensic Examination of Cell Phones\, Disruption Methods\, Countermeasures\, Legislative Updates\, Victim Safety\, Evidence Gathering\, and Report Protocol. \nInstructor:  Stephanie Kreiger\, Anti-Human Trafficking Engagement Specialist.  Stephanie is a certified child forensic Interviewer\, owner of S7 Consulting LLC.  She has developed anti-human trafficking curriculum for public safety\, law enforcement\, healthcare\, education\, faith based\, tribal\, commerce\, tourism and hospitality sectors. \nDate/Time:     Wednesday\, May 27\, 2020\, 8:30am – 4:30pm        \nLocation:         Bishop International Airport\, Sharp Conference Room\, 2nd Floor\, Main Terminal\, \nG-3425 W. Bristol Road\, Flint\, MI 48507 (Park in Short Term Lot\, Bring Ticket in for Validation) \nCost:                LEORTC Licensed – Free \nAll Others- $95.00 per person \nClick HERE to Register \n 
URL:https://www.leortc.com/event/advanced-sex-trafficking-investigation-interdiction-for-law-enforcement/
LOCATION:Bishop International Airport\, G-3425 W. Bristol Road\, Flint\, MI\, 48507\, United States
ATTACH;FMTTYPE=image/jpeg:https://www.leortc.com/wp-content/uploads/2020/02/sex-trafficking-2020-1-e1582225834683.jpg
END:VEVENT
END:VCALENDAR