BEGIN:VCALENDAR
VERSION:2.0
PRODID:-//LEORTC - Law Enforcement Officers Regional Training Commission - ECPv6.15.20//NONSGML v1.0//EN
CALSCALE:GREGORIAN
METHOD:PUBLISH
X-ORIGINAL-URL:https://www.leortc.com
X-WR-CALDESC:Events for LEORTC - Law Enforcement Officers Regional Training Commission
REFRESH-INTERVAL;VALUE=DURATION:PT1H
X-Robots-Tag:noindex
X-PUBLISHED-TTL:PT1H
BEGIN:VTIMEZONE
TZID:America/Detroit
BEGIN:DAYLIGHT
TZOFFSETFROM:-0500
TZOFFSETTO:-0400
TZNAME:EDT
DTSTART:20180311T070000
END:DAYLIGHT
BEGIN:STANDARD
TZOFFSETFROM:-0400
TZOFFSETTO:-0500
TZNAME:EST
DTSTART:20181104T060000
END:STANDARD
BEGIN:DAYLIGHT
TZOFFSETFROM:-0500
TZOFFSETTO:-0400
TZNAME:EDT
DTSTART:20190310T070000
END:DAYLIGHT
BEGIN:STANDARD
TZOFFSETFROM:-0400
TZOFFSETTO:-0500
TZNAME:EST
DTSTART:20191103T060000
END:STANDARD
BEGIN:DAYLIGHT
TZOFFSETFROM:-0500
TZOFFSETTO:-0400
TZNAME:EDT
DTSTART:20200308T070000
END:DAYLIGHT
BEGIN:STANDARD
TZOFFSETFROM:-0400
TZOFFSETTO:-0500
TZNAME:EST
DTSTART:20201101T060000
END:STANDARD
END:VTIMEZONE
BEGIN:VEVENT
DTSTART;TZID=America/Detroit:20191017T090000
DTEND;TZID=America/Detroit:20191017T160000
DTSTAMP:20260424T222816
CREATED:20190815T152223Z
LAST-MODIFIED:20191016T143222Z
UID:10000272-1571302800-1571328000@www.leortc.com
SUMMARY:NTAC-National Threat Assessment Center/CPAG-Critical Protective Analysis Group Training
DESCRIPTION:INFORMATION: \nPeter Schloop\, the Resident Agent in Charge of the Saginaw Resident Office has arranged for presentations from the National Threat Assessment Center (NTAC) and from the Critical Protective Analysis Group (CPAG) based out of Washington\, D.C. to come to Frankenmuth for a one day training opportunity.  With active violence incidents continuing to threaten our communities\, we must familiarize ourselves with threat assessment strategies and protective analysis techniques to improve our ability to detect and identify potential threats. \nCOURSE INFORMATION: \nThe NTAC presentation covers issues relating to the identification of threats\, investigating unusual behaviors\, assessing threats\, managing risks\, and uses case studies.  The CPAG presentation covers terrorist trends and tactics that affect the protection of soft targets (schools)\, hard targets (court houses)\, and VIPs. \nLOCATION:  UPDATED LOCATION \nBAY-ARENAC ISD CAREER CENTER\, 4155 Monitor Road\, Bay City\, MI 48706 \nAGENDA: \n9am – noon; NTAC presentation \nNoon – 1pm; Lunch \n1pm – 4pm; CPAG presentation \nTO SIGN UP: \nRegistration is open to all law enforcement personnel\, school administrators\, and others on a case by case basis.  To register you need to email:  Megan Zurvalec at mzurvalec@frankenmuthcity.com with your name\, title\, and agency. \nTHIS TRAINING IS FREE.
URL:https://www.leortc.com/event/ntac-national-threat-assessment-center-cpag-critical-protective-analysis-group-training/
LOCATION:Bay-Arenac ISD Career Center\, 4155 Monitor Road\, Bay City\, MI\, 48706
ATTACH;FMTTYPE=image/jpeg:https://www.leortc.com/wp-content/uploads/2019/08/Secret-Service-logo.jpg
END:VEVENT
END:VCALENDAR