BEGIN:VCALENDAR
VERSION:2.0
PRODID:-//LEORTC - Law Enforcement Officers Regional Training Commission - ECPv6.15.20//NONSGML v1.0//EN
CALSCALE:GREGORIAN
METHOD:PUBLISH
X-WR-CALNAME:LEORTC - Law Enforcement Officers Regional Training Commission
X-ORIGINAL-URL:https://www.leortc.com
X-WR-CALDESC:Events for LEORTC - Law Enforcement Officers Regional Training Commission
REFRESH-INTERVAL;VALUE=DURATION:PT1H
X-Robots-Tag:noindex
X-PUBLISHED-TTL:PT1H
BEGIN:VTIMEZONE
TZID:America/Detroit
BEGIN:DAYLIGHT
TZOFFSETFROM:-0500
TZOFFSETTO:-0400
TZNAME:EDT
DTSTART:20170312T070000
END:DAYLIGHT
BEGIN:STANDARD
TZOFFSETFROM:-0400
TZOFFSETTO:-0500
TZNAME:EST
DTSTART:20171105T060000
END:STANDARD
BEGIN:DAYLIGHT
TZOFFSETFROM:-0500
TZOFFSETTO:-0400
TZNAME:EDT
DTSTART:20180311T070000
END:DAYLIGHT
BEGIN:STANDARD
TZOFFSETFROM:-0400
TZOFFSETTO:-0500
TZNAME:EST
DTSTART:20181104T060000
END:STANDARD
BEGIN:DAYLIGHT
TZOFFSETFROM:-0500
TZOFFSETTO:-0400
TZNAME:EDT
DTSTART:20190310T070000
END:DAYLIGHT
BEGIN:STANDARD
TZOFFSETFROM:-0400
TZOFFSETTO:-0500
TZNAME:EST
DTSTART:20191103T060000
END:STANDARD
BEGIN:DAYLIGHT
TZOFFSETFROM:-0500
TZOFFSETTO:-0400
TZNAME:EDT
DTSTART:20200308T070000
END:DAYLIGHT
BEGIN:STANDARD
TZOFFSETFROM:-0400
TZOFFSETTO:-0500
TZNAME:EST
DTSTART:20201101T060000
END:STANDARD
BEGIN:DAYLIGHT
TZOFFSETFROM:-0500
TZOFFSETTO:-0400
TZNAME:EDT
DTSTART:20210314T070000
END:DAYLIGHT
BEGIN:STANDARD
TZOFFSETFROM:-0400
TZOFFSETTO:-0500
TZNAME:EST
DTSTART:20211107T060000
END:STANDARD
BEGIN:DAYLIGHT
TZOFFSETFROM:-0500
TZOFFSETTO:-0400
TZNAME:EDT
DTSTART:20220313T070000
END:DAYLIGHT
BEGIN:STANDARD
TZOFFSETFROM:-0400
TZOFFSETTO:-0500
TZNAME:EST
DTSTART:20221106T060000
END:STANDARD
BEGIN:DAYLIGHT
TZOFFSETFROM:-0500
TZOFFSETTO:-0400
TZNAME:EDT
DTSTART:20230312T070000
END:DAYLIGHT
BEGIN:STANDARD
TZOFFSETFROM:-0400
TZOFFSETTO:-0500
TZNAME:EST
DTSTART:20231105T060000
END:STANDARD
END:VTIMEZONE
BEGIN:VEVENT
DTSTART;TZID=America/Detroit:20220913T080000
DTEND;TZID=America/Detroit:20220913T120000
DTSTAMP:20260424T165831
CREATED:20180131T215531Z
LAST-MODIFIED:20211207T132635Z
UID:10000154-1663056000-1663070400@www.leortc.com
SUMMARY:High in Plain Sight
DESCRIPTION:CURRENT ALCOHOL\, DRUG\, AND CONCEALMENT TRENDS AND IDENTIFIERS \nThis workshop covers alcohol and drug clothing\, drug paraphernalia\, drug related music and groups\, logos\, stickers\, new technology\, youth party tendencies\, synthetic drugs\, OTC drugs\, inhalants and popular party drugs. This session will also cover common stash compartments that can be used to hide weapons inside everyday clothing containers and other items.  Officer Jermaine Galloway will also discuss traffic safety issues related to alcohol and drugs. \nThis session is unique\, in that it provides over 120 visual aids for attendees to hold and become familiar with.  In today’s culture\, everything is person-specific and has different meanings to different people.  Officer Galloway tailors the session to each community that he is in.  Once in your community\, Officer Galloway conducts a community scan spending time walking through local malls\, convenience stores and retail stores identifying popular culture alcohol and other items that promote drug abuse.  This allows the community to know what is going on locally\, in their own retail stores.  Galloway also covers the impact of legalization.  For each person to help prevent youth and adult substance abuse\, you MUST know what is going on in your community. \nThis workshop is geared toward all law enforcement officers\, school resource officers\, school officials and others. \nInstructor:  Jermaine Galloway.  Standing at 6’9″\, Jermaine can look intimidating.  But in fact\, he’s a devoted\, passionate man who cares about America’s youth and communities.  He has been a law enforcement officer for over 18 years and is currently serving as the Alcohol Compliance/Enforcement Officer for the City of Boise\, Idaho.  He is responsible for coordinating alcohol and drug education and enforcement programs throughout the City of Idaho.  Jermaine has been President of J. Chad Professional Training (Tall Cop Says Stop) since 2007 and has trained over 8\,500 people throughout the country.  He instructs law enforcement officers\, school resource officers\, school officials\, judges\, medical personnel and others.  The topics include Youth Alcohol & Drug Trends\, Party Patrols\, Drug Concentrates\, Paraphernalia and Edibles OTC Drugs\, Fake ID Training\, Designer Drugs and much more. Please visit his website at www.tallcopsaysstop.com. \nClass Size:  Limited to 150 \nCost:  LEORTC Member Licensed Officers – Prepaid \nAll Others:  $55.00 p/p \nVenue:  Baker College – Owosso\, Welcome Center Conference Room B\, 1309 S. M-52\, Owosso\, Michigan 48867 \nClick HERE to Register \nFor more information you can visit the Tall Cop’s website by clicking here: \nTall Cop
URL:https://www.leortc.com/event/high-in-plain-sight-2-2020-10-08-2022-09-13/
LOCATION:Baker College – Owosso\, 1309 S. M-52\, Owosso\, MI\, 48867\, United States
ATTACH;FMTTYPE=image/jpeg:https://www.leortc.com/wp-content/uploads/2017/03/Tall-Cop-2017.jpg
GEO:42.9808968;-84.1785488
X-APPLE-STRUCTURED-LOCATION;VALUE=URI;X-ADDRESS=Baker College – Owosso 1309 S. M-52 Owosso MI 48867 United States;X-APPLE-RADIUS=500;X-TITLE=1309 S. M-52:geo:-84.1785488,42.9808968
END:VEVENT
BEGIN:VEVENT
DTSTART;TZID=America/Detroit:20201008T083000
DTEND;TZID=America/Detroit:20201008T123000
DTSTAMP:20260424T165831
CREATED:20180131T215531Z
LAST-MODIFIED:20220908T135256Z
UID:10000153-1602145800-1602160200@www.leortc.com
SUMMARY:High in Plain Sight - THIS CLASS IS CANCELED - TO BE RESCHEDULED IN 2021
DESCRIPTION:THIS CLASS IS CANCELED – TO BE RESCHEDULED IN 2021 \nCURRENT ALCOHOL\, DRUG\, AND CONCEALMENT TRENDS AND IDENTIFIERS \nThis workshop covers alcohol and drug clothing\, drug paraphernalia\, drug related music and groups\, logos\, stickers\, new technology\, youth party tendencies\, synthetic drugs\, OTC drugs\, inhalants and popular party drugs. This session will also cover common stash compartments that can be used to hide weapons inside everyday clothing containers and other items.  Officer Jermaine Galloway will also discuss traffic safety issues related to alcohol and drugs. \nThis session is unique\, in that it provides over 120 visual aids for attendees to hold and become familiar with.  In today’s culture\, everything is person-specific and has different meanings to different people.  Officer Galloway tailors the session to each community that he is in.  Once in your community\, Officer Galloway conducts a community scan spending time walking through local malls\, convenience stores and retail stores identifying popular culture alcohol and other items that promote drug abuse.  This allows the community to know what is going on locally\, in their own retail stores.  Galloway also covers the impact of legalization.  For each person to help prevent youth and adult substance abuse\, you MUST know what is going on in your community. \nThis workshop is geared toward all law enforcement officers\, school resource officers\, school officials and others. \nInstructor:  Jermaine Galloway.  Standing at 6’9″\, Jermaine can look intimidating.  But in fact\, he’s a devoted\, passionate man who cares about America’s youth and communities.  He has been a law enforcement officer for over 18 years and is currently serving as the Alcohol Compliance/Enforcement Officer for the City of Boise\, Idaho.  He is responsible for coordinating alcohol and drug education and enforcement programs throughout the City of Idaho.  Jermaine has been President of J. Chad Professional Training (Tall Cop Says Stop) since 2007 and has trained over 8\,500 people throughout the country.  He instructs law enforcement officers\, school resource officers\, school officials\, judges\, medical personnel and others.  The topics include Youth Alcohol & Drug Trends\, Party Patrols\, Drug Concentrates\, Paraphernalia and Edibles OTC Drugs\, Fake ID Training\, Designer Drugs and much more. Please visit his website at www.tallcopsaysstop.com. \nClass Size:  Limited to 150 \nCost:  LEORTC Member Licensed Officers – Prepaid \nAll Others:  $55.00 p/p \nVenue:  Baker College – Owosso\, Welcome Center Conference Room B\, 1309 S. M-52\, Owosso\, Michigan 48867 \nClick HERE to Register \nFor more information you can visit the Tall Cop’s website by clicking here: \nTall Cop
URL:https://www.leortc.com/event/high-in-plain-sight-2-2020-10-08/
LOCATION:Baker College – Owosso\, 1309 S. M-52\, Owosso\, MI\, 48867\, United States
ATTACH;FMTTYPE=image/jpeg:https://www.leortc.com/wp-content/uploads/2017/03/Tall-Cop-2017.jpg
GEO:42.9808968;-84.1785488
X-APPLE-STRUCTURED-LOCATION;VALUE=URI;X-ADDRESS=Baker College – Owosso 1309 S. M-52 Owosso MI 48867 United States;X-APPLE-RADIUS=500;X-TITLE=1309 S. M-52:geo:-84.1785488,42.9808968
END:VEVENT
BEGIN:VEVENT
DTSTART;TZID=America/Detroit:20190927T080000
DTEND;TZID=America/Detroit:20190927T120000
DTSTAMP:20260424T165831
CREATED:20180131T215531Z
LAST-MODIFIED:20190214T190415Z
UID:10000152-1569571200-1569585600@www.leortc.com
SUMMARY:High in Plain Sight
DESCRIPTION:CURRENT ALCOHOL\, DRUG\, AND CONCEALMENT TRENDS AND IDENTIFIERS \nThis workshop covers alcohol and drug clothing\, drug paraphernalia\, drug related music and groups\, logos\, stickers\, new technology\, youth party tendencies\, synthetic drugs\, OTC drugs\, inhalants and popular party drugs. This session will also cover common stash compartments that can be used to hide weapons inside everyday clothing containers and other items.  Officer Jermaine Galloway will also discuss traffic safety issues related to alcohol and drugs. \nThis session is unique\, in that it provides over 120 visual aids for attendees to hold and become familiar with.  In today’s culture\, everything is person-specific and has different meanings to different people.  Officer Galloway tailors the session to each community that he is in.  Once in your community\, Officer Galloway conducts a community scan spending time walking through local malls\, convenience stores and retail stores identifying popular culture alcohol and other items that promote drug abuse.  This allows the community to know what is going on locally\, in their own retail stores.  Galloway also covers the impact of legalization.  For each person to help prevent youth and adult substance abuse\, you MUST know what is going on in your community. \nThis workshop is geared toward all law enforcement officers\, school resource officers\, school officials and others. \nInstructor:  Jermaine Galloway.  Standing at 6’9″\, Jermaine can look intimidating.  But in fact\, he’s a devoted\, passionate man who cares about America’s youth and communities.  He has been a law enforcement officer for over 18 years and is currently serving as the Alcohol Compliance/Enforcement Officer for the City of Boise\, Idaho.  He is responsible for coordinating alcohol and drug education and enforcement programs throughout the City of Idaho.  Jermaine has been President of J. Chad Professional Training (Tall Cop Says Stop) since 2007 and has trained over 8\,500 people throughout the country.  He instructs law enforcement officers\, school resource officers\, school officials\, judges\, medical personnel and others.  The topics include Youth Alcohol & Drug Trends\, Party Patrols\, Drug Concentrates\, Paraphernalia and Edibles OTC Drugs\, Fake ID Training\, Designer Drugs and much more. Please visit his website at www.tallcopsaysstop.com. \nClass Size:  Limited to 150 \nCost:  LEORTC Member Licensed Officers – Prepaid \nAll Others:  $55.00 p/p \nVenue:  Baker College – Owosso\, Welcome Center Conference Room B\, 1309 S. M-52\, Owosso\, Michigan 48867 \nClick HERE to Register
URL:https://www.leortc.com/event/high-in-plain-sight-2-2019-09-27/
LOCATION:Baker College – Owosso\, 1309 S. M-52\, Owosso\, MI\, 48867\, United States
ATTACH;FMTTYPE=image/jpeg:https://www.leortc.com/wp-content/uploads/2017/03/Tall-Cop-2017.jpg
GEO:42.9808968;-84.1785488
X-APPLE-STRUCTURED-LOCATION;VALUE=URI;X-ADDRESS=Baker College – Owosso 1309 S. M-52 Owosso MI 48867 United States;X-APPLE-RADIUS=500;X-TITLE=1309 S. M-52:geo:-84.1785488,42.9808968
END:VEVENT
BEGIN:VEVENT
DTSTART;TZID=America/Detroit:20190919T080000
DTEND;TZID=America/Detroit:20190919T170000
DTSTAMP:20260424T165831
CREATED:20171128T235402Z
LAST-MODIFIED:20190620T174809Z
UID:10000135-1568880000-1568912400@www.leortc.com
SUMMARY:Tactical Emergency Casualty Care (TECC)
DESCRIPTION:The Tactical Emergency Casualty Care (TECC) course was developed from the military Tactical Combat Casualty Care (TCCC) training. TECC is adapted to provide operators with battlefield proven trauma care information and techniques due to hostile action\, particularly penetrating trauma. \nStudents will be emailed study material prior to the course.  Students will be provided with an electronic version of the military TCCC Tactical Combat Casualty Care handbook to study.  The TCCC skill set for “Deploying Combatants” information will be presented in the TECC course.  The TCCC handbook covers both basic and advanced level material.  The TECC course will only address the basic level material related to “Deploying Combatants.”  Please study only that material.  Students are encouraged to bring any medical gear they carry on duty and they may also bring ballistic or tactical vests. \nTHIS IS A HANDS-ON TRAINING COURSE…… \nClass Size:  Limited to 14 \nCost:  LEORTC member licensed officers – Prepaid \nAll Others – $95.00 p/p \nInstructor:  Rick Holland\, Tactical Combat Casualty Care Instructor.  Rick has provided training to a multitude of agencies on a local\, state\, and national level.  \nLocation:  Baker College – Owosso Welcome Center\, 1309 S. M-52\, Owosso\, MI 48867 \nThis class is registered with MCOLES for 302 funding. \nClick HERE to Register
URL:https://www.leortc.com/event/tactical-emergency-casualty-care-tecc-5-2018-11-28-2019-09-19/
LOCATION:Baker College – Owosso\, 1309 S. M-52\, Owosso\, MI\, 48867\, United States
ATTACH;FMTTYPE=image/png:https://www.leortc.com/wp-content/uploads/2017/04/Tactical-Emergency-Care.png
GEO:42.9808968;-84.1785488
X-APPLE-STRUCTURED-LOCATION;VALUE=URI;X-ADDRESS=Baker College – Owosso 1309 S. M-52 Owosso MI 48867 United States;X-APPLE-RADIUS=500;X-TITLE=1309 S. M-52:geo:-84.1785488,42.9808968
END:VEVENT
BEGIN:VEVENT
DTSTART;TZID=America/Detroit:20181207T090000
DTEND;TZID=America/Detroit:20181207T130000
DTSTAMP:20260424T165831
CREATED:20170816T210006Z
LAST-MODIFIED:20180502T215015Z
UID:10000061-1544173200-1544187600@www.leortc.com
SUMMARY:Below 100
DESCRIPTION:THIS AWARENESS PROGRAM SHOULD BE A MUST FOR ALL LEORTC MEMBER OFFICERS \nTHE 5 TENETS THAT SAVE LIVES \nThe Below 100 Program is designed to drastically reduce law enforcement Line of Duty Deaths (LODD’s).  The Below 100 Program specifically addresses the operational areas of law enforcement that contribute to the greatest number of LODD’s\, but are in large part preventable.  The Below 100 Program is an effort to instill a culture of safety in law enforcement agencies that will progressively reduce national LODD’s to Below 100 annually.  Instructional methods include lecture\, guided discussion\, and video case studies. \n  \nLearning Objectives: \n\nExamine Line of Duty Deaths and Strategies for Reduction\nIdentify the 5 Basic Tenants of Below 100\nIdentify Agency Implementation Strategies of the Below 100 Program\n\n  \nInstructor:  Tom Gillman\, Criminal Justice Training Coordinator at Delta College.  Tom spent 28 years with the Bay County Sheriff Department.  He is a Certified Firearm’s Instructor\, R.A.D. Defense Systems Instructor\, NRA Certified Rifle Instructor and a member of ILEETA – International Law Enforcement Educators and Trainers Association. \nClass Size:  Limited to 50 \nCost:           LEORTC Licensed Members – None \nAll Others – None \nREGISTRATION FORM \n 
URL:https://www.leortc.com/event/below-100-2-2018-05-17-2018-12-07/
LOCATION:Baker College – Owosso\, 1309 S. M-52\, Owosso\, MI\, 48867\, United States
ATTACH;FMTTYPE=image/jpeg:https://www.leortc.com/wp-content/uploads/2017/03/Below-100.jpg
GEO:42.9808968;-84.1785488
X-APPLE-STRUCTURED-LOCATION;VALUE=URI;X-ADDRESS=Baker College – Owosso 1309 S. M-52 Owosso MI 48867 United States;X-APPLE-RADIUS=500;X-TITLE=1309 S. M-52:geo:-84.1785488,42.9808968
END:VEVENT
BEGIN:VEVENT
DTSTART;TZID=America/Detroit:20181128T080000
DTEND;TZID=America/Detroit:20181128T170000
DTSTAMP:20260424T165831
CREATED:20171128T235402Z
LAST-MODIFIED:20220908T141635Z
UID:10000132-1543392000-1543424400@www.leortc.com
SUMMARY:Tactical Emergency Casualty Care (TECC)
DESCRIPTION:The Tactical Emergency Casualty Care (TECC) course was developed from the military Tactical Combat Casualty Care (TCCC) training. TECC is adapted to provide operators with battlefield proven trauma care information and techniques due to hostile action\, particularly penetrating trauma. \nStudents will be emailed study material prior to the course.  Students will be provided with an electronic version of the military TCCC Tactical Combat Casualty Care handbook to study.  The TCCC skill set for “Deploying Combatants” information will be presented in the TECC course.  The TCCC handbook covers both basic and advanced level material.  The TECC course will only address the basic level material related to “Deploying Combatants.”  Please study only that material.  Students are encouraged to bring any medical gear they carry on duty and they may also bring ballistic or tactical vests. \nTHIS IS A HANDS-ON TRAINING COURSE…… \nClass Size:  Limited to 14 \nCost:  LEORTC member licensed officers – Prepaid \nAll Others – $95.00 p/p \nInstructor:  Rick Holland\, Tactical Combat Casualty Care Instructor.  Rick has provided training to a multitude of agencies on a local\, state\, and national level.  \nThis class is registered with MCOLES for 302 funding. \nClick HERE to Register
URL:https://www.leortc.com/event/tactical-emergency-casualty-care-tecc-5-2018-11-28/
LOCATION:Baker College – Owosso\, 1309 S. M-52\, Owosso\, MI\, 48867\, United States
ATTACH;FMTTYPE=image/png:https://www.leortc.com/wp-content/uploads/2017/04/Tactical-Emergency-Care.png
GEO:42.9808968;-84.1785488
X-APPLE-STRUCTURED-LOCATION;VALUE=URI;X-ADDRESS=Baker College – Owosso 1309 S. M-52 Owosso MI 48867 United States;X-APPLE-RADIUS=500;X-TITLE=1309 S. M-52:geo:-84.1785488,42.9808968
END:VEVENT
BEGIN:VEVENT
DTSTART;TZID=America/Detroit:20181004T080000
DTEND;TZID=America/Detroit:20181004T120000
DTSTAMP:20260424T165831
CREATED:20180131T215531Z
LAST-MODIFIED:20200325T142022Z
UID:10000151-1538640000-1538654400@www.leortc.com
SUMMARY:High in Plain Sight
DESCRIPTION:THERE HAS BEEN A TIME CHANGE FOR THIS CLASS \n 8am – 12noon \n \nCURRENT ALCOHOL\, DRUG\, AND CONCEALMENT TRENDS AND IDENTIFIERS \nThis workshop covers alcohol and drug clothing\, drug paraphernalia\, drug related music and groups\, logos\, stickers\, new technology\, youth party tendencies\, synthetic drugs\, OTC drugs\, inhalants and popular party drugs. This session will also cover common stash compartments that can be used to hide weapons inside everyday clothing containers and other items.  Officer Jermaine Galloway will also discuss traffic safety issues related to alcohol and drugs. \nThis session is unique\, in that it provides over 120 visual aids for attendees to hold and become familiar with.  In today’s culture\, everything is person-specific and has different meanings to different people.  Officer Galloway tailors the session to each community that he is in.  Once in your community\, Officer Galloway conducts a community scan spending time walking through local malls\, convenience stores and retail stores identifying popular culture alcohol and other items that promote drug abuse.  This allows the community to know what is going on locally\, in their own retail stores.  Galloway also covers the impact of legalization.  For each person to help prevent youth and adult substance abuse\, you MUST know what is going on in your community. \nThis workshop is geared toward all law enforcement officers\, school resource officers\, school officials and others. \nInstructor:  Jermaine Galloway.  Standing at 6’9″\, Jermaine can look intimidating.  But in fact\, he’s a devoted\, passionate man who cares about America’s youth and communities.  He has been a law enforcement officer for over 18 years and is currently serving as the Alcohol Compliance/Enforcement Officer for the City of Boise\, Idaho.  He is responsible for coordinating alcohol and drug education and enforcement programs throughout the City of Idaho.  Jermaine has been President of J. Chad Professional Training (Tall Cop Says Stop) since 2007 and has trained over 8\,500 people throughout the country.  He instructs law enforcement officers\, school resource officers\, school officials\, judges\, medical personnel and others.  The topics include Youth Alcohol & Drug Trends\, Party Patrols\, Drug Concentrates\, Paraphernalia and Edibles OTC Drugs\, Fake ID Training\, Designer Drugs and much more. Please visit his website at www.tallcopsaysstop.com. \nClass Size:  Limited to 150 \nCost:  LEORTC Member Licensed Officers – Prepaid \nAll Others:  $55.00 p/p \nVenue:  Baker College – Owosso\, Welcome Center Conference Room B\, 1309 S. M-52\, Owosso\, Michigan 48867 \nClick HERE to Register
URL:https://www.leortc.com/event/high-in-plain-sight-2/
LOCATION:Baker College – Owosso\, 1309 S. M-52\, Owosso\, MI\, 48867\, United States
ATTACH;FMTTYPE=image/jpeg:https://www.leortc.com/wp-content/uploads/2017/03/Tall-Cop-2017.jpg
GEO:42.9808968;-84.1785488
X-APPLE-STRUCTURED-LOCATION;VALUE=URI;X-ADDRESS=Baker College – Owosso 1309 S. M-52 Owosso MI 48867 United States;X-APPLE-RADIUS=500;X-TITLE=1309 S. M-52:geo:-84.1785488,42.9808968
END:VEVENT
END:VCALENDAR