BEGIN:VCALENDAR
VERSION:2.0
PRODID:-//LEORTC - Law Enforcement Officers Regional Training Commission - ECPv6.15.20//NONSGML v1.0//EN
CALSCALE:GREGORIAN
METHOD:PUBLISH
X-WR-CALNAME:LEORTC - Law Enforcement Officers Regional Training Commission
X-ORIGINAL-URL:https://www.leortc.com
X-WR-CALDESC:Events for LEORTC - Law Enforcement Officers Regional Training Commission
REFRESH-INTERVAL;VALUE=DURATION:PT1H
X-Robots-Tag:noindex
X-PUBLISHED-TTL:PT1H
BEGIN:VTIMEZONE
TZID:America/Detroit
BEGIN:DAYLIGHT
TZOFFSETFROM:-0500
TZOFFSETTO:-0400
TZNAME:EDT
DTSTART:20160313T070000
END:DAYLIGHT
BEGIN:STANDARD
TZOFFSETFROM:-0400
TZOFFSETTO:-0500
TZNAME:EST
DTSTART:20161106T060000
END:STANDARD
BEGIN:DAYLIGHT
TZOFFSETFROM:-0500
TZOFFSETTO:-0400
TZNAME:EDT
DTSTART:20170312T070000
END:DAYLIGHT
BEGIN:STANDARD
TZOFFSETFROM:-0400
TZOFFSETTO:-0500
TZNAME:EST
DTSTART:20171105T060000
END:STANDARD
BEGIN:DAYLIGHT
TZOFFSETFROM:-0500
TZOFFSETTO:-0400
TZNAME:EDT
DTSTART:20180311T070000
END:DAYLIGHT
BEGIN:STANDARD
TZOFFSETFROM:-0400
TZOFFSETTO:-0500
TZNAME:EST
DTSTART:20181104T060000
END:STANDARD
END:VTIMEZONE
BEGIN:VEVENT
DTSTART;TZID=America/Detroit:20170425T083000
DTEND;TZID=America/Detroit:20170425T163000
DTSTAMP:20260424T195226
CREATED:20170129T022122Z
LAST-MODIFIED:20170406T173857Z
UID:10000004-1493109000-1493137800@www.leortc.com
SUMMARY:Budgeting Strategies for Criminal Justice Professionals
DESCRIPTION:A TRAINING FORCE USA SEMINAR \nNationally\, many criminal justice agencies have experienced serious funding reductions while our communities’ expectations for services have increased.  This class is designed to prepare criminal justice professionals to meet current budget requirements and challenges.  The participants will learn how to prepare\, monitor and implement the budget.  This class will examine and discuss data sources that effectively identify costs and reduction adjustments when necessary.  This is an engaging course that includes practical exercises\, visual aids and group discussions throughout the class. \n  \nTraining will cover: \n\nReview; Performance Measurement in the Budget Process\nIdentify statistical and Data Sources\nStructuring the Budget\nHow the Various Budget Systems Work\nUnderstanding Performance Standards and Why they Must Meet our Communities’ Needs\nDeveloping an Efficient Staffing Model\nEffectively Dealing with Current Budget Reductions and Forecasting Future Reductions\nBudget Justification and Presentation\n\nINSTRUCTOR:  Chief Jeff Pearson is employed by the Satellite Beach Police Department. He is responsible for all department operations\, policies and budgeting. He began his career in 1988 working his way through the ranks. He graduated from the FBINA (224 session)\, has a Bachelor Degree in Criminal Justice and a Master’s Degree in Public Administration from the University of Central Florida. \n. \nLocation:             Baker College\, Center for Undergraduate Studies Building (Room E101/E103) \n1050 W. Bristol Road \n                              Flint\, Michigan   48507              (Park in employee parking lot) \n  \nCost:   LEORTC Member Licensed Officer – Prepaid \nLEORTC Non-Licensed Personnel – $65 p/p \nNon-Member Agencies – $95 p/p \nREGISTRATION FORM
URL:https://www.leortc.com/event/budgeting-strategies-for-criminal-justice-professionals/
LOCATION:Baker College – Flint\, 1050 W. Bristol Road\, Flint\, MI\, 48507\, United States
GEO:42.9754572;-83.6961214
X-APPLE-STRUCTURED-LOCATION;VALUE=URI;X-ADDRESS=Baker College – Flint 1050 W. Bristol Road Flint MI 48507 United States;X-APPLE-RADIUS=500;X-TITLE=1050 W. Bristol Road:geo:-83.6961214,42.9754572
END:VEVENT
END:VCALENDAR