BEGIN:VCALENDAR
VERSION:2.0
PRODID:-//LEORTC - Law Enforcement Officers Regional Training Commission - ECPv6.15.20//NONSGML v1.0//EN
CALSCALE:GREGORIAN
METHOD:PUBLISH
X-WR-CALNAME:LEORTC - Law Enforcement Officers Regional Training Commission
X-ORIGINAL-URL:https://www.leortc.com
X-WR-CALDESC:Events for LEORTC - Law Enforcement Officers Regional Training Commission
REFRESH-INTERVAL;VALUE=DURATION:PT1H
X-Robots-Tag:noindex
X-PUBLISHED-TTL:PT1H
BEGIN:VTIMEZONE
TZID:America/Detroit
BEGIN:DAYLIGHT
TZOFFSETFROM:-0500
TZOFFSETTO:-0400
TZNAME:EDT
DTSTART:20160313T070000
END:DAYLIGHT
BEGIN:STANDARD
TZOFFSETFROM:-0400
TZOFFSETTO:-0500
TZNAME:EST
DTSTART:20161106T060000
END:STANDARD
BEGIN:DAYLIGHT
TZOFFSETFROM:-0500
TZOFFSETTO:-0400
TZNAME:EDT
DTSTART:20170312T070000
END:DAYLIGHT
BEGIN:STANDARD
TZOFFSETFROM:-0400
TZOFFSETTO:-0500
TZNAME:EST
DTSTART:20171105T060000
END:STANDARD
BEGIN:DAYLIGHT
TZOFFSETFROM:-0500
TZOFFSETTO:-0400
TZNAME:EDT
DTSTART:20180311T070000
END:DAYLIGHT
BEGIN:STANDARD
TZOFFSETFROM:-0400
TZOFFSETTO:-0500
TZNAME:EST
DTSTART:20181104T060000
END:STANDARD
BEGIN:DAYLIGHT
TZOFFSETFROM:-0500
TZOFFSETTO:-0400
TZNAME:EDT
DTSTART:20190310T070000
END:DAYLIGHT
BEGIN:STANDARD
TZOFFSETFROM:-0400
TZOFFSETTO:-0500
TZNAME:EST
DTSTART:20191103T060000
END:STANDARD
END:VTIMEZONE
BEGIN:VTIMEZONE
TZID:UTC
BEGIN:STANDARD
TZOFFSETFROM:+0000
TZOFFSETTO:+0000
TZNAME:UTC
DTSTART:20160101T000000
END:STANDARD
END:VTIMEZONE
BEGIN:VEVENT
DTSTART;TZID=America/Detroit:20180920T080000
DTEND;TZID=America/Detroit:20180920T170000
DTSTAMP:20260424T183302
CREATED:20180203T004249Z
LAST-MODIFIED:20180724T220736Z
UID:10000155-1537430400-1537462800@www.leortc.com
SUMMARY:Beyond the Cones
DESCRIPTION:Beyond the Cones is a training program addressing officer safety and relating to vehicle operation.  This course is designed to radically change the police driving culture.  Line of Duty Deaths from vehicle related incidents have claimed more than 1200 lives in the past 20 years. \nThis Seminar will Address: \n\nLine of duty deaths related to vehicle crashes;\nDuty related crashes injuring/killing civilians;\nTraining “responsive” drivers to limit their individual and organizational exposure to liability.\n\nBeyond the Cones will impact the way Street Cops respond to emergencies.  Most\, if not all\, single-vehicle police crashes involving officers responding to critical incidents could be avoided or eliminated.  One of the key training objectives of this course is to develop an understanding of how decisions are made through either the “rational v. emotional” process.  This course will provide information that is current and fact-based on the realities of emergency responders.  Its purpose is to ultimately change the police driving culture thus saving lives. \nInstructor/Creator:   After a tour with the U.S. Marine Corps\, Sergeant Keith Wenzel began his law enforcement career with a mid-size police department.  Four years later he was hired as an officer with the Dallas\, Texas Police Department.  He has worked various assignments\, including patrol\, covert deployment\, and as an academy advisor.  In 2007\, Keith left patrol and began supervising in-service training at the Dallas Police Academy\, developing new curriculum for his 3\,600 member department.  His responsibilities include vehicle operation\, defensive tactics\, reality based training and use of force. \nEvaluation Comments from previous Seminar hosted by the LEORTC \n\nExcellent and current presentation – Our service had an on-duty collision death in March. More of our people need to hear this message.\nExcellent presentation on a very live topic. Everything was very relevant.\nGreat Course\, Great Instructor\, Very Pertinent Course Material.\nThis information/video would be very useful for my presentation to my officers. I like the follow up interviews with officers involved in these incidents.\nThis course should be taught at Academies and In-Service Schools. Too many young officers feel they are invincible.\n\n  \nLocation:               Baker College\, Center for Undergraduate Studies Building\, Rooms E101/E103 \n1050 W. Bristol Road\, Flint\, MI   48507 (park in employee lot) \nCost:                       LEORTC Licensed Members – Prepaid             All Others – $95 per person \nDelta Consortium Members – $50 per person \n“This training has been registered with MCOLES for the use of PA 302 Law Enforcement Distribution funds.” \nClick HERE to Register
URL:https://www.leortc.com/event/beyond-the-cones/
LOCATION:Baker College – Flint\, 1050 W. Bristol Road\, Flint\, MI\, 48507\, United States
GEO:42.9754572;-83.6961214
X-APPLE-STRUCTURED-LOCATION;VALUE=URI;X-ADDRESS=Baker College – Flint 1050 W. Bristol Road Flint MI 48507 United States;X-APPLE-RADIUS=500;X-TITLE=1050 W. Bristol Road:geo:-83.6961214,42.9754572
END:VEVENT
BEGIN:VEVENT
DTSTART;TZID=America/Detroit:20180522T080000
DTEND;TZID=America/Detroit:20180524T170000
DTSTAMP:20260424T183302
CREATED:20180411T215143Z
LAST-MODIFIED:20180411T215143Z
UID:10000170-1526976000-1527181200@www.leortc.com
SUMMARY:Basic Training for Street Gang Investigators
DESCRIPTION:This training is made possible through funding from the Bureau of Justice Assistance (BJA)\, Office of Justice Programs\, U.S. Department of Justice. The three-day class offers basic\, entry-level training to sworn officers newly assigned to work with street gangs or those with limited experience and/or no formal training in street gang investigations. Course topics may include: \n Basic Gang Awareness: Recognition\, Identification\, and Documentation \n Developing and Managing Confidential Sources \n Regional Gang Overview \n Prevention/Intervention and the Role of Law Enforcement \n Gang Investigations in the New Era of Policing \n Interviewing Gang Members \n Gang Suppression Strategies \n Prosecution Strategies \n Social Media Investigations \nInstructors:  Experts\, many with national recognition in the subject area\, will provide instruction. A regional overview of gangs will be provided by local gang authorities. \nCost:  There is no registration fee. Travel\, lodging\, and per diem expenses are the responsibility of the attendee. Please let us know if you would like a lodging recommendation. Class size is limited\, and it is recommended that you register early. \nRegistration:  Register online at www.nationalgangcenter.gov/Register/Basic.  For security reasons\, only those individuals having a confirmed advance registration will be admitted to the training\, and no registrations will be accepted on-site without prior approval. Law enforcement credentials will be required at check-in. Training check-in will begin at 7:30 a.m. on May 22. The training schedule is 8:00 a.m. to 5:00 p.m. each day. \nPrerequisite Training:  The Street Gang Intelligence module of this basic training is available online and must be completed prior to the on-site training. Material from the online course will be referenced but not covered during the in-class portion of the training. This training is an 80- minute\, self-paced course. To register for and complete the online Street Gang Intelligence training\, go to www.nationalgangcenter.gov/Online-Training. \nThis course is Cohosted by:   \nMiddle Atlantic-Great Lakes Organized Crime Law Enforcement Network (MAGLOCLEN)\, Midwest Gang Investigators Association\, U.S. Attorney’s Office-Eastern District of Michigan.
URL:https://www.leortc.com/event/basic-training-for-street-gang-investigators/
LOCATION:Baker College – Flint\, 1050 W. Bristol Road\, Flint\, MI\, 48507\, United States
ATTACH;FMTTYPE=image/png:https://www.leortc.com/wp-content/uploads/2018/04/Nat.-Gang-Center.png
GEO:42.9754572;-83.6961214
X-APPLE-STRUCTURED-LOCATION;VALUE=URI;X-ADDRESS=Baker College – Flint 1050 W. Bristol Road Flint MI 48507 United States;X-APPLE-RADIUS=500;X-TITLE=1050 W. Bristol Road:geo:-83.6961214,42.9754572
END:VEVENT
BEGIN:VEVENT
DTSTART;TZID=America/Detroit:20180517T080000
DTEND;TZID=America/Detroit:20180518T173000
DTSTAMP:20260424T183302
CREATED:20180321T215218Z
LAST-MODIFIED:20180418T200631Z
UID:10000165-1526544000-1526664600@www.leortc.com
SUMMARY:Drug Interdiction & Conducting Complete Traffic Stops
DESCRIPTION:REGISTRATIONS ARE CLOSED AS THIS CLASS IS FULL \n  \nHosted by: \nNORTHEAST COUNTERDRUG TRAINING CENTER \nU.S. ATTORNEY’S OFFICE – EASTERN AND WESTERN DISTRICTS OF MICHIGAN \nThis two day course provides an in-depth look at the latest criminal patrol techniques being utilized by successful interdiction units.  We will discuss how to recognize potential criminal indicators and what these indicators could mean.  The course will encompass the professional roadside interview and officer safety issues.  Furthermore\, our staff will showcase the latest concealment methods used by drug trafficking organizations.  We will walk you through each step\, from the initial traffic stop to the post-seizure arrest.  This professional lecture is an eye-opening experience that you won’t want to miss! \nTo Register: \n\nVisit the Northeast Counterdrug Training Center’s website at counterdrug.org\nClick on “Course Registration”\nClick on “Click Here to Register for Courses”\nScroll to find the training that you would like to register for and click on the training name\nScroll to the bottom of the page and click on “details” of the desired location & date\nClick on “Select\,” and then click on “Register”\n\nIf you have questions\, please contact NCTC at 717-861-2070 or Mitchell Kittle\, U.S. Attorney’s Office at Mitchell.kittle@usdoj.gov (313) 226-9689 \nLocation of course: \nBaker College – Center for Undergraduate Studies\, 1050 W. Bristol Road\, Flint\, MI 48507 \nCost: \nThere is no cost for this training.  This training is registered with MCOLES. \n 
URL:https://www.leortc.com/event/drug-interdiction-conducting-complete-traffic-stops/
LOCATION:Baker College – Flint\, 1050 W. Bristol Road\, Flint\, MI\, 48507\, United States
GEO:42.9754572;-83.6961214
X-APPLE-STRUCTURED-LOCATION;VALUE=URI;X-ADDRESS=Baker College – Flint 1050 W. Bristol Road Flint MI 48507 United States;X-APPLE-RADIUS=500;X-TITLE=1050 W. Bristol Road:geo:-83.6961214,42.9754572
END:VEVENT
BEGIN:VEVENT
DTSTART;TZID=America/Detroit:20180315T080000
DTEND;TZID=America/Detroit:20180316T170000
DTSTAMP:20260424T183302
CREATED:20180131T010322Z
LAST-MODIFIED:20210405T123800Z
UID:10000150-1521100800-1521219600@www.leortc.com
SUMMARY:Narcotics Enforcement & Trafficking Investigations
DESCRIPTION:This course focuses on hotel/motel and parcel/freight interdiction and provides an update on legal and constitutional issues related to each interdiction technique.  Students will identify each of the seven exceptions to the search warrant rule with emphasis upon stop & frisk\, search incident to arrest\, probable cause\, plain view\, plain feel\, inventory\, and consent.  The class will express a working knowledge of the parcel and freight carrier system and the labeling practices for each. \n  \nUpon successful completion of the course\, students will be able to: \n\nList reasons why parcel carriers are used by the criminal element to ship narcotics and monies.\nList and identify some of the patrol saints of the “drug underworld” and their impact on narcotics enforcement.\nIdentify the test used by the courts to justify the length of an investigative detention.\nIdentify how trash searches of abandoned property can be used.\nIdentify how audio or video recordings can be used in hotel/motel interdiction.\nIdentify how a post-eviction search of a hotel room can be an effective tool.\nIdentify the method(s) for using a canine to sniff packages in a parcel or freight carrier facility that comply with Fourth Amendment standards.\nList each of the tow different theories on how to start a hotel and motel interdiction unit.\nExpress four steps on how to conduct an investigation related to hotel/motel interdiction.\nIdentify indicators of narcotic activities that can be used by hotel/motel employees to determine if an individual may be engaged in suspicious activity related to drug trafficking behavior.\nList the techniques to establish a working relationship with parcel or freight carriers.\nIdentify indicators that can be used by law enforcement personnel to determine if packages or parcels may contain narcotics.\nIdentify each of the nine steps that should be conducted to ensure a successful and professional “controlled delivery” of the suspected package to its destination.\nIdentify how to work alternative locations\, such as mail boxes\, U Box\, We Ship\, and The Box Place.\n\n***Participants must be law enforcement officers or narcotics enforcement agents. \n***There is no charge for this training. \nHosted on behalf of the U.S. Attorney’s Office \nLocation:  Baker College – Flint\, Center for Undergraduate Studies Rooms E101/E103\, 1050 W. Bristol Rd. Flint 48507 \nClick HERE to Register
URL:https://www.leortc.com/event/narcotics-enforcement-trafficking-investigations/
LOCATION:Baker College – Flint\, 1050 W. Bristol Road\, Flint\, MI\, 48507\, United States
GEO:42.9754572;-83.6961214
X-APPLE-STRUCTURED-LOCATION;VALUE=URI;X-ADDRESS=Baker College – Flint 1050 W. Bristol Road Flint MI 48507 United States;X-APPLE-RADIUS=500;X-TITLE=1050 W. Bristol Road:geo:-83.6961214,42.9754572
END:VEVENT
BEGIN:VEVENT
DTSTART;TZID=America/Detroit:20180118T090000
DTEND;TZID=America/Detroit:20180118T130000
DTSTAMP:20260424T183302
CREATED:20170822T173802Z
LAST-MODIFIED:20170822T173802Z
UID:10000063-1516266000-1516280400@www.leortc.com
SUMMARY:Lone Wolf Terrorism
DESCRIPTION:Jeffrey D. Simon is an internationally recognized author\, lecturer\, and consultant on terrorism and political violence.  A former RAND analyst\, Dr. Simon has conducted research and analysis on terrorism for more than thirty years.  He is the author of two critically acclaimed books on terrorism\, The Terrorist Trap: America’s Experience with Terrorism and Lone Wolf Terrorism:  Understanding the Growing Threat.  His writings on terrorism\, political violence\, and political risk have appeared in many publications\, including the Journal of the American Medical Association\, Foreign Policy\, Jane’s Intelligence Review\, and the New York Times. \nDr. Simon’s training session involves four detailed PowerPoint presentations\, each approximately one hour in length.  They include: \n\nThe historical roots of terrorism.\nThe growing threat of Lone Wolf Terrorism.\nAn analysis of the psychological dimension of terrorism.\nThe threat of bioterrorism and what we should be doing to prepare for this contingency.\n\nLocation:  Baker College\, Center for Undergraduate Studies Building rooms E101/E103\, 1050 W. Bristol Road\, Flint\, MI 48507 \nCost:  LEORTC Licensed members – prepaid\,  Delta Consortium members – $40.00 p/p \nAll others – $65.00 p/p \nAdditional Information:  Registration starts at 8:30am.  All Delta Consortium members should register with Dawn at (989) 686-9176. \n  \nREGISTRATION FORM \n 
URL:https://www.leortc.com/event/lone-wolf-terrorism/
LOCATION:Baker College – Flint\, 1050 W. Bristol Road\, Flint\, MI\, 48507\, United States
ATTACH;FMTTYPE=image/jpeg:https://www.leortc.com/wp-content/uploads/2017/08/lone-wolf-terror.jpg
GEO:42.9754572;-83.6961214
X-APPLE-STRUCTURED-LOCATION;VALUE=URI;X-ADDRESS=Baker College – Flint 1050 W. Bristol Road Flint MI 48507 United States;X-APPLE-RADIUS=500;X-TITLE=1050 W. Bristol Road:geo:-83.6961214,42.9754572
END:VEVENT
BEGIN:VEVENT
DTSTART;TZID=UTC:20170622T080000
DTEND;TZID=UTC:20170622T160000
DTSTAMP:20260424T183302
CREATED:20170328T223318Z
LAST-MODIFIED:20170619T213645Z
UID:10000019-1498118400-1498147200@www.leortc.com
SUMMARY:Building Complex Case Investigation Training for Law Enforcement
DESCRIPTION:THIS CLASS HAS BEEN CANCELED\, WE WILL ATTEMPT TO BRING IT BACK TO THE AREA IN THE FALL. \nHOSTED BY: \nUnited States Attorney’s Office\, Eastern District & Western District of Michigan Bureau of Alcohol Tobacco and Explosives\, Law Enforcement Officers Regional Training Commission\, MAGLOCLEN \nThis one-day training seminar covers topics including: \n\nEnterprise Theory of Investigation\nDiscovery\nSocial Media\nRICO (Case Study-Phantom MC/Vice Lords)\nFinancial Aspects\nCase Management\nGang Snapshot\n\nLocation:  Baker College\, Center for Undergraduate Studies Building (Room E101/E103) \n1050 W. Bristol Road\, Flint\, Michigan 48507 (Park in employee parking lot) \nCost:  No Cost to attend \nFor security reasons\, only those individuals having advance approval will be admitted to the training\, and no applications will be accepted at the door. The training is law enforcement sensitive and is intended for federal\, state\, local and tribal law enforcement. Departmental identification will be required for admittance. \nTo Apply: \nLEORTC members: registration@leortc.com or call (810) 232-2654 \nAll others: Select this Link;  HTTPS://USAOMIETRAINING.ORG/COMPLEXCASEINVFLINT \nYou are not registered until your online application has been approved. Confirmation of acceptance will be sent by email.
URL:https://www.leortc.com/event/building-complex-case-investigation-training-for-law-enforcement/
LOCATION:Baker College – Flint\, 1050 W. Bristol Road\, Flint\, MI\, 48507\, United States
ATTACH;FMTTYPE=image/jpeg:https://www.leortc.com/wp-content/uploads/2017/05/DOJ.jpg
GEO:42.9754572;-83.6961214
X-APPLE-STRUCTURED-LOCATION;VALUE=URI;X-ADDRESS=Baker College – Flint 1050 W. Bristol Road Flint MI 48507 United States;X-APPLE-RADIUS=500;X-TITLE=1050 W. Bristol Road:geo:-83.6961214,42.9754572
END:VEVENT
BEGIN:VEVENT
DTSTART;TZID=America/Detroit:20170425T083000
DTEND;TZID=America/Detroit:20170425T163000
DTSTAMP:20260424T183302
CREATED:20170129T022122Z
LAST-MODIFIED:20170406T173857Z
UID:10000004-1493109000-1493137800@www.leortc.com
SUMMARY:Budgeting Strategies for Criminal Justice Professionals
DESCRIPTION:A TRAINING FORCE USA SEMINAR \nNationally\, many criminal justice agencies have experienced serious funding reductions while our communities’ expectations for services have increased.  This class is designed to prepare criminal justice professionals to meet current budget requirements and challenges.  The participants will learn how to prepare\, monitor and implement the budget.  This class will examine and discuss data sources that effectively identify costs and reduction adjustments when necessary.  This is an engaging course that includes practical exercises\, visual aids and group discussions throughout the class. \n  \nTraining will cover: \n\nReview; Performance Measurement in the Budget Process\nIdentify statistical and Data Sources\nStructuring the Budget\nHow the Various Budget Systems Work\nUnderstanding Performance Standards and Why they Must Meet our Communities’ Needs\nDeveloping an Efficient Staffing Model\nEffectively Dealing with Current Budget Reductions and Forecasting Future Reductions\nBudget Justification and Presentation\n\nINSTRUCTOR:  Chief Jeff Pearson is employed by the Satellite Beach Police Department. He is responsible for all department operations\, policies and budgeting. He began his career in 1988 working his way through the ranks. He graduated from the FBINA (224 session)\, has a Bachelor Degree in Criminal Justice and a Master’s Degree in Public Administration from the University of Central Florida. \n. \nLocation:             Baker College\, Center for Undergraduate Studies Building (Room E101/E103) \n1050 W. Bristol Road \n                              Flint\, Michigan   48507              (Park in employee parking lot) \n  \nCost:   LEORTC Member Licensed Officer – Prepaid \nLEORTC Non-Licensed Personnel – $65 p/p \nNon-Member Agencies – $95 p/p \nREGISTRATION FORM
URL:https://www.leortc.com/event/budgeting-strategies-for-criminal-justice-professionals/
LOCATION:Baker College – Flint\, 1050 W. Bristol Road\, Flint\, MI\, 48507\, United States
GEO:42.9754572;-83.6961214
X-APPLE-STRUCTURED-LOCATION;VALUE=URI;X-ADDRESS=Baker College – Flint 1050 W. Bristol Road Flint MI 48507 United States;X-APPLE-RADIUS=500;X-TITLE=1050 W. Bristol Road:geo:-83.6961214,42.9754572
END:VEVENT
END:VCALENDAR