BEGIN:VCALENDAR
VERSION:2.0
PRODID:-//LEORTC - Law Enforcement Officers Regional Training Commission - ECPv6.15.20//NONSGML v1.0//EN
CALSCALE:GREGORIAN
METHOD:PUBLISH
X-WR-CALNAME:LEORTC - Law Enforcement Officers Regional Training Commission
X-ORIGINAL-URL:https://www.leortc.com
X-WR-CALDESC:Events for LEORTC - Law Enforcement Officers Regional Training Commission
REFRESH-INTERVAL;VALUE=DURATION:PT1H
X-Robots-Tag:noindex
X-PUBLISHED-TTL:PT1H
BEGIN:VTIMEZONE
TZID:America/Detroit
BEGIN:DAYLIGHT
TZOFFSETFROM:-0500
TZOFFSETTO:-0400
TZNAME:EDT
DTSTART:20170312T070000
END:DAYLIGHT
BEGIN:STANDARD
TZOFFSETFROM:-0400
TZOFFSETTO:-0500
TZNAME:EST
DTSTART:20171105T060000
END:STANDARD
BEGIN:DAYLIGHT
TZOFFSETFROM:-0500
TZOFFSETTO:-0400
TZNAME:EDT
DTSTART:20180311T070000
END:DAYLIGHT
BEGIN:STANDARD
TZOFFSETFROM:-0400
TZOFFSETTO:-0500
TZNAME:EST
DTSTART:20181104T060000
END:STANDARD
BEGIN:DAYLIGHT
TZOFFSETFROM:-0500
TZOFFSETTO:-0400
TZNAME:EDT
DTSTART:20190310T070000
END:DAYLIGHT
BEGIN:STANDARD
TZOFFSETFROM:-0400
TZOFFSETTO:-0500
TZNAME:EST
DTSTART:20191103T060000
END:STANDARD
BEGIN:DAYLIGHT
TZOFFSETFROM:-0500
TZOFFSETTO:-0400
TZNAME:EDT
DTSTART:20200308T070000
END:DAYLIGHT
BEGIN:STANDARD
TZOFFSETFROM:-0400
TZOFFSETTO:-0500
TZNAME:EST
DTSTART:20201101T060000
END:STANDARD
BEGIN:DAYLIGHT
TZOFFSETFROM:-0500
TZOFFSETTO:-0400
TZNAME:EDT
DTSTART:20210314T070000
END:DAYLIGHT
BEGIN:STANDARD
TZOFFSETFROM:-0400
TZOFFSETTO:-0500
TZNAME:EST
DTSTART:20211107T060000
END:STANDARD
BEGIN:DAYLIGHT
TZOFFSETFROM:-0500
TZOFFSETTO:-0400
TZNAME:EDT
DTSTART:20220313T070000
END:DAYLIGHT
BEGIN:STANDARD
TZOFFSETFROM:-0400
TZOFFSETTO:-0500
TZNAME:EST
DTSTART:20221106T060000
END:STANDARD
BEGIN:DAYLIGHT
TZOFFSETFROM:-0500
TZOFFSETTO:-0400
TZNAME:EDT
DTSTART:20230312T070000
END:DAYLIGHT
BEGIN:STANDARD
TZOFFSETFROM:-0400
TZOFFSETTO:-0500
TZNAME:EST
DTSTART:20231105T060000
END:STANDARD
BEGIN:DAYLIGHT
TZOFFSETFROM:-0500
TZOFFSETTO:-0400
TZNAME:EDT
DTSTART:20240310T070000
END:DAYLIGHT
BEGIN:STANDARD
TZOFFSETFROM:-0400
TZOFFSETTO:-0500
TZNAME:EST
DTSTART:20241103T060000
END:STANDARD
BEGIN:DAYLIGHT
TZOFFSETFROM:-0500
TZOFFSETTO:-0400
TZNAME:EDT
DTSTART:20250309T070000
END:DAYLIGHT
BEGIN:STANDARD
TZOFFSETFROM:-0400
TZOFFSETTO:-0500
TZNAME:EST
DTSTART:20251102T060000
END:STANDARD
END:VTIMEZONE
BEGIN:VEVENT
DTSTART;TZID=America/Detroit:20240729T080000
DTEND;TZID=America/Detroit:20240731T170000
DTSTAMP:20260424T165902
CREATED:20240516T164048Z
LAST-MODIFIED:20240610T164446Z
UID:10000515-1722240000-1722445200@www.leortc.com
SUMMARY:Standardized Field Sobriety Testing (SFST) Practitioner
DESCRIPTION:This full Standardized Field Sobriety Testing (SFST) course is required for officers that participate in many of the grant funded traffic enforcement measures.  Additionally\, this course will provide all officers a standardized\, court recognized process that will enhance the reporting process and lead to higher conviction rates.  This training is the National Highway Traffic Safety Administration approved course. \nClass Size:           Minimum of 8 \n                             Maximum of 16 \nCost:                    This course is grant funded for all licensed officers. \nInstructor:             Chief William Renye\, Grand Blanc Township PD. \nLocation:          Grand Blanc Township Police Department\, 5405 S. Saginaw Street\, Grand Blanc\, MI 48439. \nALL INTERESTED IN ATTENDING MUST REGISTER ONLINE THROUGH MITRAIN\, course code is 1034200 or key search word ‘SFST’.  \nMITRAIN   Click here to Register                           
URL:https://www.leortc.com/event/standardized-field-sobriety-testing-sfst-practitioner/
LOCATION:Grand Blanc Twp. Police Dept.\, 5405 S. Saginaw Street\, Grand Blanc\, MI\, 48439\, United States
ATTACH;FMTTYPE=image/jpeg:https://www.leortc.com/wp-content/uploads/2017/05/OWI_Pyramid_400136_7.jpg
GEO:42.9517587;-83.6570074
X-APPLE-STRUCTURED-LOCATION;VALUE=URI;X-ADDRESS=Grand Blanc Twp. Police Dept. 5405 S. Saginaw Street Grand Blanc MI 48439 United States;X-APPLE-RADIUS=500;X-TITLE=5405 S. Saginaw Street:geo:-83.6570074,42.9517587
END:VEVENT
BEGIN:VEVENT
DTSTART;TZID=America/Detroit:20240603T080000
DTEND;TZID=America/Detroit:20240604T160000
DTSTAMP:20260424T165902
CREATED:20240425T193105Z
LAST-MODIFIED:20240425T193105Z
UID:10000511-1717401600-1717516800@www.leortc.com
SUMMARY:Advanced Roadside Impaired Driving Enforcement (ARIDE)
DESCRIPTION:The purpose of the 16-hour Advanced Roadside Impaired Driving Enforcement (ARIDE) course is to increase officer ability to observe\, identify\, and articulate the signs of impairment related to drugs\, alcohol\, or a combination of both. This training also encompasses the 4 hour Standardized Field Sobriety Testing (SFST) Refresher training. \nRequirements to attend: \n\nPolice Officers\, Motor Carrier Officers\, or Prosecutors only.  **Other individuals will not be allowed to attend**\nStudents must provide on day one valid documentation of 24 hour SFST Practitioner Training to attend. Acceptable documentation includes: SFST card\, certificate of training\, police academy graduate after January 1\, 2010.\nStudents must demonstrate proficiency in HGN\, walk and turn\, and one leg stand at the conclusion of the SFST refresher segment. Students unable to demonstrate SFST proficiency will be dismissed from the training. Students are strongly encouraged to review SFST procedure prior to training.\n\n**Demand for ARIDE training is high. No shows on the day of training may impact enrollment for you and your agency in future ARIDE training opportunities** \nNOTE: MCOLES number is required for law enforcement registration \nInstructor:  Chief William Renye\, IACP Certified Drug Recognition Expert Instructor from Grand Blanc Township Police Department. \nCost:  There is no cost for this training. \nRegistration:  You must register through MI-Train.  The class number is ID1030629. \nClick here to Register                                     for MITRAIN \n**To receive your e-mail confirmation\, you must opt-in to receive e-mail messages from MI-TRAIN**
URL:https://www.leortc.com/event/advanced-roadside-impaired-driving-enforcement-aride-3/
LOCATION:Grand Blanc Twp. Police Dept.\, 5405 S. Saginaw Street\, Grand Blanc\, MI\, 48439\, United States
ATTACH;FMTTYPE=image/png:https://www.leortc.com/wp-content/uploads/2018/09/ARIDE.png
GEO:42.9517587;-83.6570074
X-APPLE-STRUCTURED-LOCATION;VALUE=URI;X-ADDRESS=Grand Blanc Twp. Police Dept. 5405 S. Saginaw Street Grand Blanc MI 48439 United States;X-APPLE-RADIUS=500;X-TITLE=5405 S. Saginaw Street:geo:-83.6570074,42.9517587
END:VEVENT
BEGIN:VEVENT
DTSTART;TZID=America/Detroit:20221129T083000
DTEND;TZID=America/Detroit:20221129T163000
DTSTAMP:20260424T165902
CREATED:20221005T135335Z
LAST-MODIFIED:20221108T160630Z
UID:10000351-1669710600-1669739400@www.leortc.com
SUMMARY:Speed Measurement Devices - THIS CLASS IS CANCELED
DESCRIPTION:THIS CLASS IS CANCELED \nThis class is the required training for officers who have not been certified in Speed Measurement Devices.  Additionally\, it is highly recommended for those that\, as a matter of agency assignment\, have not operated a RADAR unit for the past year or more.  If any personnel only need the LIDAR portion of the training\, they can register separately for the class which is the first four hours of day 3. \nParticipants will need to bring a department vehicle equipped with a RADAR unit and/or LIDAR.  Upon completion participants in the 3-day training will be certified in the operation of both RADAR units and LIDAR which is valid for five (5) years. \nInstructor:  Jon Strom\, MCOLES Approved Radar/Lidar instructor. \nDates:  November 10-11\, and 29\, 2022\, 8:30am – 4:30pm \nLocation:  Grand Blanc Township Police Department\, 5405 S. Saginaw Street\, Grand Blanc\, Michigan\, 48439 \nClass Size:           Limited to 12 \nCost:                      LEORTC Member Licensed Officers – Prepaid \nNon-Member Agencies –   $125.00 p/p \n“This training has been registered with MCOLES for the use of PA 302 Law Enforcement Distribution funds.” \nClick HERE to Register \n“This training has been registered with MCOLES for the use of PA 302 Law Enforcement Distribution funds.”
URL:https://www.leortc.com/event/speed-measurement-devices/2022-11-29/
LOCATION:Grand Blanc Twp. Police Dept.\, 5405 S. Saginaw Street\, Grand Blanc\, MI\, 48439\, United States
ATTACH;FMTTYPE=image/jpeg:https://www.leortc.com/wp-content/uploads/2018/02/speed-measurement-device-e1533919860796.jpg
GEO:42.9517587;-83.6570074
X-APPLE-STRUCTURED-LOCATION;VALUE=URI;X-ADDRESS=Grand Blanc Twp. Police Dept. 5405 S. Saginaw Street Grand Blanc MI 48439 United States;X-APPLE-RADIUS=500;X-TITLE=5405 S. Saginaw Street:geo:-83.6570074,42.9517587
END:VEVENT
BEGIN:VEVENT
DTSTART;TZID=America/Detroit:20221110T083000
DTEND;TZID=America/Detroit:20221111T163000
DTSTAMP:20260424T165902
CREATED:20221005T135335Z
LAST-MODIFIED:20221108T160630Z
UID:10000350-1668069000-1668184200@www.leortc.com
SUMMARY:Speed Measurement Devices - THIS CLASS IS CANCELED
DESCRIPTION:THIS CLASS IS CANCELED \nThis class is the required training for officers who have not been certified in Speed Measurement Devices.  Additionally\, it is highly recommended for those that\, as a matter of agency assignment\, have not operated a RADAR unit for the past year or more.  If any personnel only need the LIDAR portion of the training\, they can register separately for the class which is the first four hours of day 3. \nParticipants will need to bring a department vehicle equipped with a RADAR unit and/or LIDAR.  Upon completion participants in the 3-day training will be certified in the operation of both RADAR units and LIDAR which is valid for five (5) years. \nInstructor:  Jon Strom\, MCOLES Approved Radar/Lidar instructor. \nDates:  November 10-11\, and 29\, 2022\, 8:30am – 4:30pm \nLocation:  Grand Blanc Township Police Department\, 5405 S. Saginaw Street\, Grand Blanc\, Michigan\, 48439 \nClass Size:           Limited to 12 \nCost:                      LEORTC Member Licensed Officers – Prepaid \nNon-Member Agencies –   $125.00 p/p \n“This training has been registered with MCOLES for the use of PA 302 Law Enforcement Distribution funds.” \nClick HERE to Register \n“This training has been registered with MCOLES for the use of PA 302 Law Enforcement Distribution funds.”
URL:https://www.leortc.com/event/speed-measurement-devices/2022-11-10/
LOCATION:Grand Blanc Twp. Police Dept.\, 5405 S. Saginaw Street\, Grand Blanc\, MI\, 48439\, United States
ATTACH;FMTTYPE=image/jpeg:https://www.leortc.com/wp-content/uploads/2018/02/speed-measurement-device-e1533919860796.jpg
GEO:42.9517587;-83.6570074
X-APPLE-STRUCTURED-LOCATION;VALUE=URI;X-ADDRESS=Grand Blanc Twp. Police Dept. 5405 S. Saginaw Street Grand Blanc MI 48439 United States;X-APPLE-RADIUS=500;X-TITLE=5405 S. Saginaw Street:geo:-83.6570074,42.9517587
END:VEVENT
BEGIN:VEVENT
DTSTART;TZID=America/Detroit:20220727T080000
DTEND;TZID=America/Detroit:20220728T170000
DTSTAMP:20260424T165902
CREATED:20180911T141400Z
LAST-MODIFIED:20220613T171336Z
UID:10000233-1658908800-1659027600@www.leortc.com
SUMMARY:Advanced Roadside Impaired Driving Enforcement (ARIDE) Program
DESCRIPTION:The purpose of the 16-hour Advanced Roadside Impaired Driving Enforcement (ARIDE) course is to increase officer ability to observe\, identify\, and articulate the signs of impairment related to drugs\, alcohol\, or a combination of both. This training also encompasses the 4 hour Standardized Field Sobriety Testing (SFST) Refresher training. \nRequirements to attend: \n\nPolice Officers\, Motor Carrier Officers\, or Prosecutors only.  **Other individuals will not be allowed to attend**\nStudents must provide on day one valid documentation of 24 hour SFST Practitioner Training to attend. Acceptable documentation includes: SFST card\, certificate of training\, police academy graduate after January 1\, 2010.\nStudents must demonstrate proficiency in HGN\, walk and turn\, and one leg stand at the conclusion of the SFST refresher segment. Students unable to demonstrate SFST proficiency will be dismissed from the training. Students are strongly encouraged to review SFST procedure prior to training.\n\n**Demand for ARIDE training is high. No shows on the day of training may impact enrollment for you and your agency in future ARIDE training opportunities** \nNOTE: MCOLES number is required for law enforcement registration \nInstructor: Lt. William Renye\, IACP Certified Drug Recognition Expert Instructor from Grand Blanc Township Police Department. \nCost:  There is no cost for this training. \nRegistration:  You must register through MI-Train.  The class number is ID1030629. \nClick here to Register                                     for MITRAIN \n**To receive your e-mail confirmation\, you must opt-in to receive e-mail messages from MI-TRAIN**
URL:https://www.leortc.com/event/advanced-roadside-impaired-driving-enforcement-aride-program-2018-10-11-2019-01-03-2022-07-27/
LOCATION:Grand Blanc Twp. Police Dept.\, 5405 S. Saginaw Street\, Grand Blanc\, MI\, 48439\, United States
ATTACH;FMTTYPE=image/png:https://www.leortc.com/wp-content/uploads/2018/09/ARIDE.png
GEO:42.9517587;-83.6570074
X-APPLE-STRUCTURED-LOCATION;VALUE=URI;X-ADDRESS=Grand Blanc Twp. Police Dept. 5405 S. Saginaw Street Grand Blanc MI 48439 United States;X-APPLE-RADIUS=500;X-TITLE=5405 S. Saginaw Street:geo:-83.6570074,42.9517587
END:VEVENT
BEGIN:VEVENT
DTSTART;TZID=America/Detroit:20190103T080000
DTEND;TZID=America/Detroit:20190104T170000
DTSTAMP:20260424T165902
CREATED:20180911T141400Z
LAST-MODIFIED:20220908T131828Z
UID:10000232-1546502400-1546621200@www.leortc.com
SUMMARY:Advanced Roadside Impaired Driving Enforcement (ARIDE) Program
DESCRIPTION:The purpose of the 16-hour Advanced Roadside Impaired Driving Enforcement (ARIDE) course is to increase officer ability to observe\, identify\, and articulate the signs of impairment related to drugs\, alcohol\, or a combination of both. This training also encompasses the 4 hour Standardized Field Sobriety Testing (SFST) Refresher training. \nRequirements to attend: \n\nPolice Officers\, Motor Carrier Officers\, or Prosecutors only.  **Other individuals will not be allowed to attend**\nStudents must provide on day one valid documentation of 24 hour SFST Practitioner Training to attend. Acceptable documentation includes: SFST card\, certificate of training\, police academy graduate after January 1\, 2010.\nStudents must demonstrate proficiency in HGN\, walk and turn\, and one leg stand at the conclusion of the SFST refresher segment. Students unable to demonstrate SFST proficiency will be dismissed from the training. Students are strongly encouraged to review SFST procedure prior to training.\n\n**Demand for ARIDE training is high. No shows on the day of training may impact enrollment for you and your agency in future ARIDE training opportunities** \nNOTE: MCOLES number is required for law enforcement registration \nInstructor: Wes Evans\, IACP Certified Drug Recognition Expert Instructor from Grand Blanc Township Police Department. \nCost:  There is no cost for this training. \nRegistration:  You must register through MI-Train at:  https://www.train.org/mi-train/welcome.  The course ID number is 1030629. \n**To receive your e-mail confirmation\, you must opt-in to receive e-mail messages from MI-TRAIN**
URL:https://www.leortc.com/event/advanced-roadside-impaired-driving-enforcement-aride-program-2018-10-11-2019-01-03/
LOCATION:Grand Blanc Twp. Police Dept.\, 5405 S. Saginaw Street\, Grand Blanc\, MI\, 48439\, United States
ATTACH;FMTTYPE=image/png:https://www.leortc.com/wp-content/uploads/2018/09/ARIDE.png
GEO:42.9517587;-83.6570074
X-APPLE-STRUCTURED-LOCATION;VALUE=URI;X-ADDRESS=Grand Blanc Twp. Police Dept. 5405 S. Saginaw Street Grand Blanc MI 48439 United States;X-APPLE-RADIUS=500;X-TITLE=5405 S. Saginaw Street:geo:-83.6570074,42.9517587
END:VEVENT
BEGIN:VEVENT
DTSTART;TZID=America/Detroit:20181003T080000
DTEND;TZID=America/Detroit:20181004T170000
DTSTAMP:20260424T165902
CREATED:20180911T141400Z
LAST-MODIFIED:20180927T163333Z
UID:10000231-1538553600-1538672400@www.leortc.com
SUMMARY:Advanced Roadside Impaired Driving Enforcement (ARIDE) Program
DESCRIPTION:The purpose of the 16-hour Advanced Roadside Impaired Driving Enforcement (ARIDE) course is to increase officer ability to observe\, identify\, and articulate the signs of impairment related to drugs\, alcohol\, or a combination of both. This training also encompasses the 4 hour Standardized Field Sobriety Testing (SFST) Refresher training. \nRequirements to attend: \n\nPolice Officers\, Motor Carrier Officers\, or Prosecutors only.  **Other individuals will not be allowed to attend**\nStudents must provide on day one valid documentation of 24 hour SFST Practitioner Training to attend. Acceptable documentation includes: SFST card\, certificate of training\, police academy graduate after January 1\, 2010.\nStudents must demonstrate proficiency in HGN\, walk and turn\, and one leg stand at the conclusion of the SFST refresher segment. Students unable to demonstrate SFST proficiency will be dismissed from the training. Students are strongly encouraged to review SFST procedure prior to training.\n\n**Demand for ARIDE training is high. No shows on the day of training may impact enrollment for you and your agency in future ARIDE training opportunities** \nNOTE: MCOLES number is required for law enforcement registration \nInstructor: Wes Evans\, IACP Certified Drug Recognition Expert Instructor from Grand Blanc Township Police Department. \nCost:  There is no cost for this training. \nRegistration:  You must register through MI-Train at:  https://www.train.org/mi-train/welcome.  The course number is 1030629. \n**To receive your e-mail confirmation\, you must opt-in to receive e-mail messages from MI-TRAIN**
URL:https://www.leortc.com/event/advanced-roadside-impaired-driving-enforcement-aride-program/
LOCATION:Grand Blanc Twp. Police Dept.\, 5405 S. Saginaw Street\, Grand Blanc\, MI\, 48439\, United States
ATTACH;FMTTYPE=image/png:https://www.leortc.com/wp-content/uploads/2018/09/ARIDE.png
GEO:42.9517587;-83.6570074
X-APPLE-STRUCTURED-LOCATION;VALUE=URI;X-ADDRESS=Grand Blanc Twp. Police Dept. 5405 S. Saginaw Street Grand Blanc MI 48439 United States;X-APPLE-RADIUS=500;X-TITLE=5405 S. Saginaw Street:geo:-83.6570074,42.9517587
END:VEVENT
END:VCALENDAR