BEGIN:VCALENDAR
VERSION:2.0
PRODID:-//LEORTC - Law Enforcement Officers Regional Training Commission - ECPv6.15.20//NONSGML v1.0//EN
CALSCALE:GREGORIAN
METHOD:PUBLISH
X-WR-CALNAME:LEORTC - Law Enforcement Officers Regional Training Commission
X-ORIGINAL-URL:https://www.leortc.com
X-WR-CALDESC:Events for LEORTC - Law Enforcement Officers Regional Training Commission
REFRESH-INTERVAL;VALUE=DURATION:PT1H
X-Robots-Tag:noindex
X-PUBLISHED-TTL:PT1H
BEGIN:VTIMEZONE
TZID:UTC
BEGIN:STANDARD
TZOFFSETFROM:+0000
TZOFFSETTO:+0000
TZNAME:UTC
DTSTART:20170101T000000
END:STANDARD
END:VTIMEZONE
BEGIN:VTIMEZONE
TZID:America/Detroit
BEGIN:DAYLIGHT
TZOFFSETFROM:-0500
TZOFFSETTO:-0400
TZNAME:EDT
DTSTART:20170312T070000
END:DAYLIGHT
BEGIN:STANDARD
TZOFFSETFROM:-0400
TZOFFSETTO:-0500
TZNAME:EST
DTSTART:20171105T060000
END:STANDARD
BEGIN:DAYLIGHT
TZOFFSETFROM:-0500
TZOFFSETTO:-0400
TZNAME:EDT
DTSTART:20180311T070000
END:DAYLIGHT
BEGIN:STANDARD
TZOFFSETFROM:-0400
TZOFFSETTO:-0500
TZNAME:EST
DTSTART:20181104T060000
END:STANDARD
BEGIN:DAYLIGHT
TZOFFSETFROM:-0500
TZOFFSETTO:-0400
TZNAME:EDT
DTSTART:20190310T070000
END:DAYLIGHT
BEGIN:STANDARD
TZOFFSETFROM:-0400
TZOFFSETTO:-0500
TZNAME:EST
DTSTART:20191103T060000
END:STANDARD
END:VTIMEZONE
BEGIN:VEVENT
DTSTART;TZID=UTC:20180919T083000
DTEND;TZID=UTC:20180919T163000
DTSTAMP:20260424T145711
CREATED:20180611T224942Z
LAST-MODIFIED:20220908T141701Z
UID:10000183-1537345800-1537374600@www.leortc.com
SUMMARY:Animal Cruelty & Fighting Investigations
DESCRIPTION:Hosted by Delta College Police Academy\, LEORTC\, and The Humane Society of the United States \nThis free training is open to Law Enforcement\, Animal Control\, Humane Investigators\, Code Enforcement Officers\, Veterinarians\, and Prosecutors. \nTopics to be covered: \nBackground on animal fighting and illegal animal abuse in Michigan\, including relevant laws \nLink between animal abuse and other violent crimes \nInvestigating cruelty and fighting complaints\, from first response to filing charges \nRecognized key evidence\, warrants\, statements \nLocation:  Delta College – Room N007\, 1961 Delta Road\, University Center \nRegistration:  Please register online at https://www.delta.edu/community/continuing-education/law-enforcement-training/in-service-training-professionals.html. \n 
URL:https://www.leortc.com/event/animal-cruelty-fighting-investigations/
LOCATION:Delta College\, University Center\, MI\, 48710\, United States
ATTACH;FMTTYPE=image/png:https://www.leortc.com/wp-content/uploads/2018/06/animal-cruelty.png
GEO:43.5595162;-83.9944777
END:VEVENT
BEGIN:VEVENT
DTSTART;TZID=America/Detroit:20180514T080000
DTEND;TZID=America/Detroit:20180518T170000
DTSTAMP:20260424T145711
CREATED:20180206T214342Z
LAST-MODIFIED:20190110T170727Z
UID:10000157-1526284800-1526662800@www.leortc.com
SUMMARY:Patrol Rifle Instructor Course
DESCRIPTION:Patrol Rifle Instructor\n\n\nThe student of this training will gain the knowledge of how to articulate and instruct the safe carry and storage; care and maintenance; sighting; setting up and engaging in live-fire drills; functions of the rifle and more to future operators of semi-auto patrol rifles. Pre-requisites for this class:  this course is for already certified firearms (pistol) instructors with basic AR15 user/operator course certification.  These certificates need to be presented to the instructors on the first day of class.  Only iron sights are permitted during the course with electronic sights familiarization on the last day.  This course follows the military model of marksmanship and ALL students must have a 2 point sling (attaches to the toe of the stock and to the front sling swivel under the barrel) to obtain stability of the weapon. \nThis is not a participation pass course.  Certification is awarded based upon daily evaluations of progress\, a written outline and verbal presentation of a topic\, written test\, and qualification course of fire. \nCourse Instructors: Thomas Royal & Bruce Coxworth\, Certified Firearms/Patrol Rifle Instructors \n\n\n\nLimited Seats Available\n\n\n\nCourse Location:  Auburn City Range\, the Auburn Shooting Range is located on Lagoon Drive (1/4 mile south of Wheeler Rd on 9 Mile) \nCourse Fee:             LEORTC Licensed Members – Prepaid \nDelta College Consortium Members: $325.00 per person \nNon-Consortium: $525.00 per person \nRequired Equipment: Semi-auto patrol rifle\, 3 magazines\, cleaning equipment\, 1\,000 rounds of rifle ammunition\, duty belt and holstered duty pistol with 100 rounds of pistol ammunition\, body armor\, eye and ear protection\, baseball style cap\, roll out mat (for prone shooting)\, ‘clean’ 2G (or larger) flash drive for power point program and a laptop computer. Attendees are advised to bring clothing for inclement weather as this course is held “rain or shine”! \nClick HERE to Register
URL:https://www.leortc.com/event/patrol-rifle-instructor-course/
LOCATION:Auburn City Range\, Lagoon Drive\, Auburn\, MI\, 48611\, United States
GEO:43.6358449;-84.0670233
X-APPLE-STRUCTURED-LOCATION;VALUE=URI;X-ADDRESS=Auburn City Range Lagoon Drive Auburn MI 48611 United States;X-APPLE-RADIUS=500;X-TITLE=Lagoon Drive:geo:-84.0670233,43.6358449
END:VEVENT
BEGIN:VEVENT
DTSTART;TZID=America/Detroit:20180416T080000
DTEND;TZID=America/Detroit:20180420T170000
DTSTAMP:20260424T145711
CREATED:20171122T005416Z
LAST-MODIFIED:20200127T163012Z
UID:10000125-1523865600-1524243600@www.leortc.com
SUMMARY:Firearms Instructor Course
DESCRIPTION:Basic Firearm Instructor Course: April 16 – 20\, 2018   \n\nThis Firearm Instructor course will impart upon the participants sufficient knowledge and background in the proper techniques of handling and utilizing the semi-automatic pistol to be able to perform as a range instructor to provide competent training to other officers. \nPrerequisite: Attendees will be required to satisfactorily perform the MCOLES basic course of fire on the first day. \nCourse Time: 8am – 5pm \nCourse Instructor: Thomas Royal & Bruce Coxworth \nCourse Location: Auburn City Range\, Lagoon Drive (1/4 mile south of Wheeler on 9 Mile) \nCourse Fee: Non-Consortium: $525 per person\, Delta College Consortium: $325 per person\, LEORTC Member Licensed Officers: Prepaid (limited seating) \nRequired Equipment: Full duty belt with holster; duty pistol and minimum of three  ammunition magazines; 1\,000 rounds of ammunition; soft body armor; eye and ear protection; baseball style cap; long pants; long sleeve shirt; sturdy footwear and any other clothing needed for the current weather; flashlight; sunscreen; bug sparay; laptop computer with flash drive (8GB min); note taking material; and personal first aid supplies.\nMCOLES Registered \n\nRegistration Deadline: April 9\, 2018 \nClick HERE to Register
URL:https://www.leortc.com/event/firearms-instructor-course-2/
END:VEVENT
END:VCALENDAR