BEGIN:VCALENDAR
VERSION:2.0
PRODID:-//LEORTC - Law Enforcement Officers Regional Training Commission - ECPv6.15.20//NONSGML v1.0//EN
CALSCALE:GREGORIAN
METHOD:PUBLISH
X-ORIGINAL-URL:https://www.leortc.com
X-WR-CALDESC:Events for LEORTC - Law Enforcement Officers Regional Training Commission
REFRESH-INTERVAL;VALUE=DURATION:PT1H
X-Robots-Tag:noindex
X-PUBLISHED-TTL:PT1H
BEGIN:VTIMEZONE
TZID:America/Detroit
BEGIN:DAYLIGHT
TZOFFSETFROM:-0500
TZOFFSETTO:-0400
TZNAME:EDT
DTSTART:20250309T070000
END:DAYLIGHT
BEGIN:STANDARD
TZOFFSETFROM:-0400
TZOFFSETTO:-0500
TZNAME:EST
DTSTART:20251102T060000
END:STANDARD
BEGIN:DAYLIGHT
TZOFFSETFROM:-0500
TZOFFSETTO:-0400
TZNAME:EDT
DTSTART:20260308T070000
END:DAYLIGHT
BEGIN:STANDARD
TZOFFSETFROM:-0400
TZOFFSETTO:-0500
TZNAME:EST
DTSTART:20261101T060000
END:STANDARD
BEGIN:DAYLIGHT
TZOFFSETFROM:-0500
TZOFFSETTO:-0400
TZNAME:EDT
DTSTART:20270314T070000
END:DAYLIGHT
BEGIN:STANDARD
TZOFFSETFROM:-0400
TZOFFSETTO:-0500
TZNAME:EST
DTSTART:20271107T060000
END:STANDARD
END:VTIMEZONE
BEGIN:VEVENT
DTSTART;TZID=America/Detroit:20261028T083000
DTEND;TZID=America/Detroit:20261028T163000
DTSTAMP:20260424T180930
CREATED:20251022T154033Z
LAST-MODIFIED:20251022T154033Z
UID:10000620-1793176200-1793205000@www.leortc.com
SUMMARY:Crime Prevention for Places of Worship
DESCRIPTION:This program is part of the Crime Prevention Specialist Series.  Each program in the series is a standalone seminar.  Participants that complete all seminars in the series will be granted a Crime Prevention Specialist Certificate. \nRecent incidents of violence in religious institutions have forced religious leaders to re-exam security measures. Balancing the openness of a religious institution with the necessity for real security can be difficult.  This one-day course will assist attendees with this dilemma.  Participants will learn about the importance of conducting realistic security surveys and risk assessments of religious facilities.  Attendees will learn best practice approaches to: \nDeveloping Emergency Procedures (to deal with acts of violence and other safety and security issues) \nPreventive Measures and Programs \nTheft\, Embezzlement and Vandalism \nHiring procedures \nAccess Control in General and specifically Safety and Welfare of Children \nInstructor:   Chris Fredenburg of the Saginaw Township Police Department.  He is an Advanced Crime Prevention Specialist and an accomplished practitioner of the (CPTED) Crime Prevention Through Environmental Design discipline.   “Crime prevention works\, so use it.” \nLocation:  Grand Blanc Township Police Department\, 5405 S. Saginaw Street\, Grand Blanc\, MI 48439 \nClass Size:          Limited to 35 \nCost:                      LEORTC Member Licensed Officers: Prepaid     LEORTC Member Non-Licensed Personnel: $75.00 \nNon-Member Agencies: $130.00 \nClick to REGISTER below: \nhttps://form.123formbuilder.com/6888767/training-application-form \n“This training has been registered with MCOLES for the use of PA 302 Law Enforcement Distribution funds.” \nThis training is registered as\, “Agency Elected Continuing Professional Education (CPE).”
URL:https://www.leortc.com/event/crime-prevention-for-places-of-worship-6/
LOCATION:Grand Blanc Twp. Police Dept.\, 5405 S. Saginaw Street\, Grand Blanc\, MI\, 48439\, United States
ATTACH;FMTTYPE=image/png:https://www.leortc.com/wp-content/uploads/2017/04/CP-for-Places-of-Worship.png
GEO:42.9517587;-83.6570074
X-APPLE-STRUCTURED-LOCATION;VALUE=URI;X-ADDRESS=Grand Blanc Twp. Police Dept. 5405 S. Saginaw Street Grand Blanc MI 48439 United States;X-APPLE-RADIUS=500;X-TITLE=5405 S. Saginaw Street:geo:-83.6570074,42.9517587
END:VEVENT
END:VCALENDAR