BEGIN:VCALENDAR
VERSION:2.0
PRODID:-//LEORTC - Law Enforcement Officers Regional Training Commission - ECPv6.15.20//NONSGML v1.0//EN
CALSCALE:GREGORIAN
METHOD:PUBLISH
X-ORIGINAL-URL:https://www.leortc.com
X-WR-CALDESC:Events for LEORTC - Law Enforcement Officers Regional Training Commission
REFRESH-INTERVAL;VALUE=DURATION:PT1H
X-Robots-Tag:noindex
X-PUBLISHED-TTL:PT1H
BEGIN:VTIMEZONE
TZID:America/Detroit
BEGIN:DAYLIGHT
TZOFFSETFROM:-0500
TZOFFSETTO:-0400
TZNAME:EDT
DTSTART:20250309T070000
END:DAYLIGHT
BEGIN:STANDARD
TZOFFSETFROM:-0400
TZOFFSETTO:-0500
TZNAME:EST
DTSTART:20251102T060000
END:STANDARD
BEGIN:DAYLIGHT
TZOFFSETFROM:-0500
TZOFFSETTO:-0400
TZNAME:EDT
DTSTART:20260308T070000
END:DAYLIGHT
BEGIN:STANDARD
TZOFFSETFROM:-0400
TZOFFSETTO:-0500
TZNAME:EST
DTSTART:20261101T060000
END:STANDARD
BEGIN:DAYLIGHT
TZOFFSETFROM:-0500
TZOFFSETTO:-0400
TZNAME:EDT
DTSTART:20270314T070000
END:DAYLIGHT
BEGIN:STANDARD
TZOFFSETFROM:-0400
TZOFFSETTO:-0500
TZNAME:EST
DTSTART:20271107T060000
END:STANDARD
END:VTIMEZONE
BEGIN:VEVENT
DTSTART;TZID=America/Detroit:20260922T083000
DTEND;TZID=America/Detroit:20260922T163000
DTSTAMP:20260424T165828
CREATED:20251111T162115Z
LAST-MODIFIED:20251111T162115Z
UID:10000628-1790065800-1790094600@www.leortc.com
SUMMARY:Introduction to Latent Fingerprinting
DESCRIPTION:This training is registered as\, “Agency Elected Continuing Professional Education (CPE).” \nThis 8-hour seminar is a combination of instructor presentation and instructor supervised practical exercises to provide students with the ability to successfully develop and preserve latent fingerprints using the basic brush and powder method. Topics covered in this course include: \nThe History of Fingerprints                               Terms & Definition \nSkin Structure & Latent Print                          Types of Latent Prints \nBasic Fingerprint Patterns                                 Fingerprint Details Used for Identification \nTypes of Powders and Brushes                        Brush & Powder Development Techniques \nPractical Exercises                                             Introduction to AFIS \nAdvanced Development Techniques (magnetic powders\, wet powder\, superglue fuming\, photography of latent prints) \nThis is a ‘hands on’ class.  Participants are asked to bring department cameras with tripods\, flashlight\, and your latent print kit if available (materials are furnished for the class but the instructor could recommend improvements to your kit(s)).  It is also recommended that the participants not wear nicer clothing as print powder will be in use. \nClass Size:       Limited to 15 \nLocation:  Flint Township Police Department\, 5200 Norko Drive\, Flint\, MI 48507 \nCost:                LEORTC Certified Members – Prepaid\, Non-Certified Members – $65.00 p/p\, All Others – $130.00 p/p \nInstructor:  Alexandra Seelmann-Saunders\, Forensic Scientist\, Latent Fingerprint Unit\, Michigan State Police Bridgeport Forensic Laboratory. Alexandra has had extensive training in subject matter related to the recovery and identification of latent fingerprints and is a Crime Scene Response Team member.  She has been qualified to give expert testimony regarding fingerprint identifications in three area counties and serves as an Adjunct Professor for the Criminal Justice Program at Oakland Community College. \nClick to REGISTER below: \nhttps://form.123formbuilder.com/6888767/training-application-form \n“This training has been registered with MCOLES for the use of PA 302 Law Enforcement Distribution funds.” \n 
URL:https://www.leortc.com/event/introduction-to-latent-fingerprinting-13/
LOCATION:Flint Township PD\, 5200 Norko Drive\, Flint Township\, MI\, 48507\, United States
ATTACH;FMTTYPE=image/jpeg:https://www.leortc.com/wp-content/uploads/2017/03/Fingerprint.jpg
GEO:42.9795036;-83.7789392
X-APPLE-STRUCTURED-LOCATION;VALUE=URI;X-ADDRESS=Flint Township PD 5200 Norko Drive Flint Township MI 48507 United States;X-APPLE-RADIUS=500;X-TITLE=5200 Norko Drive:geo:-83.7789392,42.9795036
END:VEVENT
END:VCALENDAR