BEGIN:VCALENDAR
VERSION:2.0
PRODID:-//LEORTC - Law Enforcement Officers Regional Training Commission - ECPv6.15.20//NONSGML v1.0//EN
CALSCALE:GREGORIAN
METHOD:PUBLISH
X-ORIGINAL-URL:https://www.leortc.com
X-WR-CALDESC:Events for LEORTC - Law Enforcement Officers Regional Training Commission
REFRESH-INTERVAL;VALUE=DURATION:PT1H
X-Robots-Tag:noindex
X-PUBLISHED-TTL:PT1H
BEGIN:VTIMEZONE
TZID:America/Detroit
BEGIN:DAYLIGHT
TZOFFSETFROM:-0500
TZOFFSETTO:-0400
TZNAME:EDT
DTSTART:20250309T070000
END:DAYLIGHT
BEGIN:STANDARD
TZOFFSETFROM:-0400
TZOFFSETTO:-0500
TZNAME:EST
DTSTART:20251102T060000
END:STANDARD
BEGIN:DAYLIGHT
TZOFFSETFROM:-0500
TZOFFSETTO:-0400
TZNAME:EDT
DTSTART:20260308T070000
END:DAYLIGHT
BEGIN:STANDARD
TZOFFSETFROM:-0400
TZOFFSETTO:-0500
TZNAME:EST
DTSTART:20261101T060000
END:STANDARD
BEGIN:DAYLIGHT
TZOFFSETFROM:-0500
TZOFFSETTO:-0400
TZNAME:EDT
DTSTART:20270314T070000
END:DAYLIGHT
BEGIN:STANDARD
TZOFFSETFROM:-0400
TZOFFSETTO:-0500
TZNAME:EST
DTSTART:20271107T060000
END:STANDARD
END:VTIMEZONE
BEGIN:VEVENT
DTSTART;TZID=America/Detroit:20260429T083000
DTEND;TZID=America/Detroit:20260429T163000
DTSTAMP:20260424T072617
CREATED:20251022T153048Z
LAST-MODIFIED:20251022T153048Z
UID:10000617-1777451400-1777480200@www.leortc.com
SUMMARY:Residential Crime Prevention
DESCRIPTION:This program is part of the Crime Prevention Specialist Series.  Each program in the series is a standalone seminar.  Participants that complete all seminars in the series will be granted a Crime Prevention Specialist Certificate. \nOne of the best crime prevention initiatives for reducing crime\, the perception of crime\, and improving the overall quality of life in a community is the development of partnerships between law abiding citizens and their police department.  Participants in this one-day seminar will learn about proven residential safety programs and how to implement them\, basic crime prevention strategies\, residential security issues\, and the tools necessary to return to their communities and make an immediate impact. \n Instructor:   Chris Fredenburg is with the Saginaw Township Police Department.  He is an Advanced Crime Prevention Specialist and an accomplished practitioner of the (CPTED) Crime Prevention Through Environmental Design discipline.   “Crime prevention works\, so use it.” \nLocation:  Grand Blanc Township Police Department\, 5405 S. Saginaw Street\, Grand Blanc\, Michigan 48439 \nCost:  LEORTC Member:  Prepaid \nLEORTC non-licensed:  $75.00 \nNon-Members:  $130.00 \nClick to REGISTER below: \nhttps://form.123formbuilder.com/6888767/training-application-form \n“This training has been registered with MCOLES for the use of PA 302 Law Enforcement Distribution funds.” \nThis training is registered as\, “Agency Elected Continuing Professional Education (CPE).”
URL:https://www.leortc.com/event/residential-crime-prevention-4/
LOCATION:Grand Blanc Twp. Police Dept.\, 5405 S. Saginaw Street\, Grand Blanc\, MI\, 48439\, United States
ATTACH;FMTTYPE=image/jpeg:https://www.leortc.com/wp-content/uploads/2025/10/Residential-CP-225x300-1.jpg
GEO:42.9517587;-83.6570074
X-APPLE-STRUCTURED-LOCATION;VALUE=URI;X-ADDRESS=Grand Blanc Twp. Police Dept. 5405 S. Saginaw Street Grand Blanc MI 48439 United States;X-APPLE-RADIUS=500;X-TITLE=5405 S. Saginaw Street:geo:-83.6570074,42.9517587
END:VEVENT
BEGIN:VEVENT
DTSTART;TZID=America/Detroit:20260501T083000
DTEND;TZID=America/Detroit:20260501T163000
DTSTAMP:20260424T072617
CREATED:20251111T150208Z
LAST-MODIFIED:20260318T125814Z
UID:10000623-1777624200-1777653000@www.leortc.com
SUMMARY:Advanced Topics in DNA
DESCRIPTION:This training is registered as\, “Agency Elected Continuing Professional Education (CPE).” \nNEW METHODS TO SOLVE COLD CASES AND OTHER MAJOR CRIMES \nMajor advancements have been made in forensic DNA testing in recent years.  These advancements in technology include increased in technology include increased sensitivity\, new methods to interpret complex mixtures\, specialized search techniques of the CODIS database\, and many more.  This class will highlight these advancements and focus on utilizing them when routing DNA analysis has not solved a case.  This class will be particularly useful for looking at cold cases with a fresh eye to see if additional testing may be possible. \nTopics Covered Will Include: \n\nProbabilistic genotyping software\nFamilial searching of the CODIS database\nY-STR testing\nNew STR chemistries\nPhenotyping/ancestry testing\nCase Studies\n\nFacilitators: \nDanielle Hankinson has been a forensic scientist in the Biology/DNA discipline for over 20 years.  She is currently the Quality Manager at the Oakland County Sheriff’s Office.  She has previously workedat the Michigan State Police and the Virginia Department of Forensic Science.   Danielle holds BS and MS degrees from Michigan State University.  She has processed thousands of cases of bodily fluid identification and DNA analysis.  Danielle is certified in Molecular Biology by the American Board of Criminalistics (ABC) and is a past president of the ABC.  She is also an active member and a past president of the Midwestern Association of Forensic Scientists (MAFS)\, and has taught many classes to law enforcement\, SANE personnel\, college students and the general public. \nAmanda Fazi is a DNA analyst for DNA Labs International.  She has over ten years’ experience working as a forensic biologist and crime scene investigator\, with previous experience at the Michigan State Police Northville Crime Lab and the Oakland County Sheriff’s Office Crime Lab.  She has a Bachelor of Science Degree in Biological Sciences from Wayne State University and a Master of Science Degree in Forensic Science (Biology Concentration) from Michigan State University. \nDate/Times:       Friday\, May 1\, 2026\, 8:3oam-4:30pm \nLocation:           Grand Blanc Township Police Department\, 5420 S. Saginaw Street\, Grand Blanc\, MI 48439 \nCost:                      LEORTC Licensed Personnel – Prepaid \nNon-Licensed Members – $65 per/person \nAll Others – $130 per/person \nClick to REGISTER below: \nhttps://form.123formbuilder.com/6888767/training-application-form \n“This training has been registered with MCOLES for the use of PA 302 Law Enforcement Distribution funds.” \n 
URL:https://www.leortc.com/event/advanced-topics-in-dna-4/
LOCATION:Grand Blanc Twp. Police Dept.\, 5405 S. Saginaw Street\, Grand Blanc\, MI\, 48439\, United States
ATTACH;FMTTYPE=image/gif:https://www.leortc.com/wp-content/uploads/2017/09/Advanced-DNA.gif
GEO:42.9517587;-83.6570074
X-APPLE-STRUCTURED-LOCATION;VALUE=URI;X-ADDRESS=Grand Blanc Twp. Police Dept. 5405 S. Saginaw Street Grand Blanc MI 48439 United States;X-APPLE-RADIUS=500;X-TITLE=5405 S. Saginaw Street:geo:-83.6570074,42.9517587
END:VEVENT
END:VCALENDAR