BEGIN:VCALENDAR
VERSION:2.0
PRODID:-//LEORTC - Law Enforcement Officers Regional Training Commission - ECPv6.15.20//NONSGML v1.0//EN
CALSCALE:GREGORIAN
METHOD:PUBLISH
X-ORIGINAL-URL:https://www.leortc.com
X-WR-CALDESC:Events for LEORTC - Law Enforcement Officers Regional Training Commission
REFRESH-INTERVAL;VALUE=DURATION:PT1H
X-Robots-Tag:noindex
X-PUBLISHED-TTL:PT1H
BEGIN:VTIMEZONE
TZID:America/Detroit
BEGIN:DAYLIGHT
TZOFFSETFROM:-0500
TZOFFSETTO:-0400
TZNAME:EDT
DTSTART:20250309T070000
END:DAYLIGHT
BEGIN:STANDARD
TZOFFSETFROM:-0400
TZOFFSETTO:-0500
TZNAME:EST
DTSTART:20251102T060000
END:STANDARD
BEGIN:DAYLIGHT
TZOFFSETFROM:-0500
TZOFFSETTO:-0400
TZNAME:EDT
DTSTART:20260308T070000
END:DAYLIGHT
BEGIN:STANDARD
TZOFFSETFROM:-0400
TZOFFSETTO:-0500
TZNAME:EST
DTSTART:20261101T060000
END:STANDARD
BEGIN:DAYLIGHT
TZOFFSETFROM:-0500
TZOFFSETTO:-0400
TZNAME:EDT
DTSTART:20270314T070000
END:DAYLIGHT
BEGIN:STANDARD
TZOFFSETFROM:-0400
TZOFFSETTO:-0500
TZNAME:EST
DTSTART:20271107T060000
END:STANDARD
END:VTIMEZONE
BEGIN:VEVENT
DTSTART;TZID=America/Detroit:20260331T083000
DTEND;TZID=America/Detroit:20260331T163000
DTSTAMP:20260424T100038
CREATED:20260113T224806Z
LAST-MODIFIED:20260219T143600Z
UID:10000642-1774945800-1774974600@www.leortc.com
SUMMARY:Reading People: Decoding Body Language and Criminal Behavior
DESCRIPTION:Reading People: Decoding Body Language and Criminal Behavior \nHosted by \nLaw Enforcement Officers Regional Training Commission \nCourse Description: This is one of the most practical seminars you will ever attend as a law enforcement officer. At its core\, police work is a human behavior profession. Your job is to successfully assess the emotional and physical state of a person. The only way to accomplish that is to become a master at controlling\, redirecting and influencing other people’s behavior which begins with Reading People. This seminar will teach officers how to better evaluate body language by accurately reading conscious and unconscious cues\, spotting lies and detecting true deception. \nSome Topics Covered: \n– How are YOU coming across: Aggressive? Uncaring? Accusatory? Empathetic?\n– Learn consciously what the unconscious already knows\n– The signs: will you see what the body is saying?\n– Body parts: the eyes\, the hands\, the face and the feet\n– The key to active listening \nInstructor: Chief Steve Johnson – Steve Johnson serves as Chief of Police for the city of Fairview Heights\, Illinois. Previously\, Chief Johnson\nwas the Special Operations Coordinator for the St. Clair County State’s Attorney’s Office. \nDate: Tuesday\, March 31\, 2026\, 8:30am-4:30pm \n(UPDATED) Location: Mott Community College Regional Technology Center\, 1401 E Court St\, Flint\, MI 48503 – Auditorium Room 1005 \nCost: LEORTC Licensed Members – Pre-paid\nNon-Licensed Members – $99\nAll Others- $199 \nClick to REGISTER below: \nhttps://form.123formbuilder.com/6888767/training-application-form \n“This training has been registered with MCOLES for the use of PA 302 Law Enforcement Distribution funds.” \nThis training is registered as\, “Commission Designated Continuing Professional Education (CPE).”
URL:https://www.leortc.com/event/reading-people-decoding-body-language-and-criminal-behavior/
LOCATION:Grand Blanc Twp. Police Dept.\, 5405 S. Saginaw Street\, Grand Blanc\, MI\, 48439\, United States
ATTACH;FMTTYPE=image/png:https://www.leortc.com/wp-content/uploads/2024/02/Calibre-Press.png
GEO:42.9517587;-83.6570074
X-APPLE-STRUCTURED-LOCATION;VALUE=URI;X-ADDRESS=Grand Blanc Twp. Police Dept. 5405 S. Saginaw Street Grand Blanc MI 48439 United States;X-APPLE-RADIUS=500;X-TITLE=5405 S. Saginaw Street:geo:-83.6570074,42.9517587
END:VEVENT
END:VCALENDAR