BEGIN:VCALENDAR
VERSION:2.0
PRODID:-//LEORTC - Law Enforcement Officers Regional Training Commission - ECPv6.15.20//NONSGML v1.0//EN
CALSCALE:GREGORIAN
METHOD:PUBLISH
X-WR-CALNAME:LEORTC - Law Enforcement Officers Regional Training Commission
X-ORIGINAL-URL:https://www.leortc.com
X-WR-CALDESC:Events for LEORTC - Law Enforcement Officers Regional Training Commission
REFRESH-INTERVAL;VALUE=DURATION:PT1H
X-Robots-Tag:noindex
X-PUBLISHED-TTL:PT1H
BEGIN:VTIMEZONE
TZID:America/Detroit
BEGIN:DAYLIGHT
TZOFFSETFROM:-0500
TZOFFSETTO:-0400
TZNAME:EDT
DTSTART:20250309T070000
END:DAYLIGHT
BEGIN:STANDARD
TZOFFSETFROM:-0400
TZOFFSETTO:-0500
TZNAME:EST
DTSTART:20251102T060000
END:STANDARD
BEGIN:DAYLIGHT
TZOFFSETFROM:-0500
TZOFFSETTO:-0400
TZNAME:EDT
DTSTART:20260308T070000
END:DAYLIGHT
BEGIN:STANDARD
TZOFFSETFROM:-0400
TZOFFSETTO:-0500
TZNAME:EST
DTSTART:20261101T060000
END:STANDARD
BEGIN:DAYLIGHT
TZOFFSETFROM:-0500
TZOFFSETTO:-0400
TZNAME:EDT
DTSTART:20270314T070000
END:DAYLIGHT
BEGIN:STANDARD
TZOFFSETFROM:-0400
TZOFFSETTO:-0500
TZNAME:EST
DTSTART:20271107T060000
END:STANDARD
END:VTIMEZONE
BEGIN:VEVENT
DTSTART;TZID=America/Detroit:20260127T090000
DTEND;TZID=America/Detroit:20260127T163000
DTSTAMP:20260424T114908
CREATED:20251126T170454Z
LAST-MODIFIED:20251126T170558Z
UID:10000631-1769504400-1769531400@www.leortc.com
SUMMARY:Michigan Freedom of Information Act
DESCRIPTION:Michigan Freedom of Information Act \nCourse Description: Participants will be provided with instruction on the requirements of the Michigan Freedom of Information Act as they pertain to governmental agencies in general\, with emphasis on the provisions in the Act specifically relevant to law enforcement agencies. \nInstructors: Thomas Quasarano is an Assistant Attorney General in the State Operations Division. Prior to joining the Department of Attorney General in March 1988\, he was in private law practice for 13 years. Tom has bachelor’s and master’s degrees\, a Master of Laws\, and a Juris Doctor. Tom represents the state in several legal areas\, including\, since 1994\, as counsel for state departments and agencies on the operation of and litigation involving the Freedom of Information Act and the Open Meetings Act. \nDate:                January 27th\, 2026 (Tuesday) \nTime:               9:00am-4:30pm \nLocation:         Grand Blanc Police Department\, 5405 Saginaw Rd\, Flint\, MI 48507   \nCost:                 Free \nClick to REGISTER below: \nhttps://form.123formbuilder.com/6888767/training-application-form \n“This training has been registered with MCOLES for the use of PA 302 Law Enforcement Distribution funds.” \nThis training is registered as\, “Continuing Professional Education (CPE).”
URL:https://www.leortc.com/event/michigan-freedom-of-information-act/
LOCATION:Grand Blanc Twp. Police Dept.\, 5405 S. Saginaw Street\, Grand Blanc\, MI\, 48439\, United States
ATTACH;FMTTYPE=image/jpeg:https://www.leortc.com/wp-content/uploads/2016/11/FOIA.jpg
GEO:42.9517587;-83.6570074
X-APPLE-STRUCTURED-LOCATION;VALUE=URI;X-ADDRESS=Grand Blanc Twp. Police Dept. 5405 S. Saginaw Street Grand Blanc MI 48439 United States;X-APPLE-RADIUS=500;X-TITLE=5405 S. Saginaw Street:geo:-83.6570074,42.9517587
END:VEVENT
END:VCALENDAR