BEGIN:VCALENDAR
VERSION:2.0
PRODID:-//LEORTC - Law Enforcement Officers Regional Training Commission - ECPv6.15.20//NONSGML v1.0//EN
CALSCALE:GREGORIAN
METHOD:PUBLISH
X-ORIGINAL-URL:https://www.leortc.com
X-WR-CALDESC:Events for LEORTC - Law Enforcement Officers Regional Training Commission
REFRESH-INTERVAL;VALUE=DURATION:PT1H
X-Robots-Tag:noindex
X-PUBLISHED-TTL:PT1H
BEGIN:VTIMEZONE
TZID:America/Detroit
BEGIN:DAYLIGHT
TZOFFSETFROM:-0500
TZOFFSETTO:-0400
TZNAME:EDT
DTSTART:20240310T070000
END:DAYLIGHT
BEGIN:STANDARD
TZOFFSETFROM:-0400
TZOFFSETTO:-0500
TZNAME:EST
DTSTART:20241103T060000
END:STANDARD
BEGIN:DAYLIGHT
TZOFFSETFROM:-0500
TZOFFSETTO:-0400
TZNAME:EDT
DTSTART:20250309T070000
END:DAYLIGHT
BEGIN:STANDARD
TZOFFSETFROM:-0400
TZOFFSETTO:-0500
TZNAME:EST
DTSTART:20251102T060000
END:STANDARD
BEGIN:DAYLIGHT
TZOFFSETFROM:-0500
TZOFFSETTO:-0400
TZNAME:EDT
DTSTART:20260308T070000
END:DAYLIGHT
BEGIN:STANDARD
TZOFFSETFROM:-0400
TZOFFSETTO:-0500
TZNAME:EST
DTSTART:20261101T060000
END:STANDARD
END:VTIMEZONE
BEGIN:VEVENT
DTSTART;TZID=America/Detroit:20251105T083000
DTEND;TZID=America/Detroit:20251107T163000
DTSTAMP:20260424T154532
CREATED:20250402T152530Z
LAST-MODIFIED:20250925T175306Z
UID:10000593-1762331400-1762533000@www.leortc.com
SUMMARY:Supervising & Managing the FTO Unit
DESCRIPTION:This training is registered as\, “Agency Elected Continuing Professional Education (CPE).” \nThis (2.5) day (20 hour) course is designed to provide knowledge and skills necessary to properly lead and manage a Field Training Unit.  Each Field Training Manager will be presented with ideas and techniques to assist them in becoming more professional and confident in the application of their skills.  Upon completion the Field Training Manager will be able to: \n\nUnderstand the strengths and weaknesses of the different FTO models\nIdentify demands on Field Training Managers\nDefine the duties of the Field Training Manager and Coordinator\nCorrect recruit’s poor performance\nIdentify liability issues\nUnderstand performance evaluations\nUnderstand the Rating Scale and Reference Numbers\nComplete the Weekly Managers Report\nDevelop a scenario and additional training plans\nUnderstand the purpose of program management and control\nManage the FTO\nUnderstand proper implementation of termination procedures\n\nInstructor:       Steven Kellams of FTO Solutions.  Steven Kellams retired from the Bloomington Police Department after 27 years of service. His last rank was as the Administrative Captain. In 2000\, then Lieutenant Kellams was instrumental in redesigning the field training program for the Bloomington\, Indiana Police Department and has taught that program to hundreds of departments throughout the United States.  He has also instructed on field training issues at the national level when he presented courses at four National Association of Field Training Officers conferences\, most recently in 2011.  In 2005\, Lieutenant Kellams was awarded the Law Enforcement Officer of the Year for Monroe County\, IN for his work with the Bloomington Police Department’s Field Training Program.  He was elected to the national NAFTO Executive Board and served as President in 2009. \nDates/Times:  November 5-7\, 2025\, 8:30 am – 4:30 pm daily except 8:30am-12:30pm on last day \nLocation:         Flint Township Police Department\, 5200 Norko Drive\, Flint\, MI 48507 \nCost:                LEORTC Licensed Members – Prepaid      LEORTC Non-Licensed – $250 p/p \nAll Others – $400 p/p \nClick to REGISTER below: \nhttps://form.123formbuilder.com/6888767/training-application-form \n“This training has been registered with MCOLES for the use of PA 302 Law Enforcement Distribution funds.”
URL:https://www.leortc.com/event/supervising-managing-the-fto-unit-2/
LOCATION:Flint Township PD\, 5200 Norko Drive\, Flint Township\, MI\, 48507\, United States
ATTACH;FMTTYPE=image/jpeg:https://www.leortc.com/wp-content/uploads/2021/05/Steve-Kellams2.jpg
GEO:42.9795036;-83.7789392
X-APPLE-STRUCTURED-LOCATION;VALUE=URI;X-ADDRESS=Flint Township PD 5200 Norko Drive Flint Township MI 48507 United States;X-APPLE-RADIUS=500;X-TITLE=5200 Norko Drive:geo:-83.7789392,42.9795036
END:VEVENT
BEGIN:VEVENT
DTSTART;TZID=America/Detroit:20251107T083000
DTEND;TZID=America/Detroit:20251107T163000
DTSTAMP:20260424T154532
CREATED:20250402T134422Z
LAST-MODIFIED:20250925T175225Z
UID:10000592-1762504200-1762533000@www.leortc.com
SUMMARY:Shooting Incident Reconstruction
DESCRIPTION:This training is registered as\, “Agency Elected Continuing Professional Education (CPE).” \nThis is one of the classes in our Evidence Specialist Series and is an extremely important topic in Contemporary Police Forensics.  Topics in this course include: \n\nBallistics\, Trajectories and Ricochets\nAmmunition Components\nVehicle Processing\nDocumentation and Evidence Recovery\nTrace Evidence\nSuicides\nEjection Patterns\nPolice Shootings\nTrigonometry (Using Trigonometry to determine angles and distances)\nCase Studies (Case study presentations showing application of the instructed topics)\n\nInstructor:       James Horn\, Specialist/Sergeant.\, MSP Bridgeport Laboratory.  Currently Spl/ Sgt. Horn is a Firearms/Toolmark/Crime Scene Examiner in the Forensic Science Division.  \nDate/Time:     Friday\, November 7\, 2025\, 8:30am – 4:30pm \nLocation:         Mott Community College – Southern Lakes Branch\, 2100 W. Thompson Road\, Fenton\, MI 48430 \nCost:                LEORTC Member Licensed Officers – Prepaid     LEORTC Non-Licensed –                     $65.00 \nNon-Member Agencies –                   $130.00 \nClick to REGISTER below: \nhttps://form.123formbuilder.com/6888767/training-application-form \n“This training has been registered with MCOLES for the use of PA 302 Law Enforcement Distribution funds.”
URL:https://www.leortc.com/event/shooting-incident-reconstruction-5/
LOCATION:Mott College – Southern Lakes\, 2100 W. Thompson Road\, Fenton\, MI\, 48430\, United States
GEO:42.8642916;-83.7142621
X-APPLE-STRUCTURED-LOCATION;VALUE=URI;X-ADDRESS=Mott College – Southern Lakes 2100 W. Thompson Road Fenton MI 48430 United States;X-APPLE-RADIUS=500;X-TITLE=2100 W. Thompson Road:geo:-83.7142621,42.8642916
END:VEVENT
END:VCALENDAR