BEGIN:VCALENDAR
VERSION:2.0
PRODID:-//LEORTC - Law Enforcement Officers Regional Training Commission - ECPv6.15.20//NONSGML v1.0//EN
CALSCALE:GREGORIAN
METHOD:PUBLISH
X-WR-CALNAME:LEORTC - Law Enforcement Officers Regional Training Commission
X-ORIGINAL-URL:https://www.leortc.com
X-WR-CALDESC:Events for LEORTC - Law Enforcement Officers Regional Training Commission
REFRESH-INTERVAL;VALUE=DURATION:PT1H
X-Robots-Tag:noindex
X-PUBLISHED-TTL:PT1H
BEGIN:VTIMEZONE
TZID:America/Detroit
BEGIN:DAYLIGHT
TZOFFSETFROM:-0500
TZOFFSETTO:-0400
TZNAME:EDT
DTSTART:20240310T070000
END:DAYLIGHT
BEGIN:STANDARD
TZOFFSETFROM:-0400
TZOFFSETTO:-0500
TZNAME:EST
DTSTART:20241103T060000
END:STANDARD
BEGIN:DAYLIGHT
TZOFFSETFROM:-0500
TZOFFSETTO:-0400
TZNAME:EDT
DTSTART:20250309T070000
END:DAYLIGHT
BEGIN:STANDARD
TZOFFSETFROM:-0400
TZOFFSETTO:-0500
TZNAME:EST
DTSTART:20251102T060000
END:STANDARD
BEGIN:DAYLIGHT
TZOFFSETFROM:-0500
TZOFFSETTO:-0400
TZNAME:EDT
DTSTART:20260308T070000
END:DAYLIGHT
BEGIN:STANDARD
TZOFFSETFROM:-0400
TZOFFSETTO:-0500
TZNAME:EST
DTSTART:20261101T060000
END:STANDARD
END:VTIMEZONE
BEGIN:VEVENT
DTSTART;TZID=America/Detroit:20251020T080000
DTEND;TZID=America/Detroit:20251020T160000
DTSTAMP:20260424T154349
CREATED:20250730T141941Z
LAST-MODIFIED:20251021T180954Z
UID:10000605-1760947200-1760976000@www.leortc.com
SUMMARY:Mental First Aid for Public Safety
DESCRIPTION:WHY MENTAL HEALTH FIRST AID?\nMental Health First Aid (MHFA) for Public Safety teaches the skills needed to reach out and provide initial support to someone who may be developing a mental health or substance use problem and help connect them to the appropriate care. This evidence-based training promotes open dialogue\, reduces stigma and encourages officers to seek support when needed. Offering MHFA for Public Safety can help\ncreate a healthier\, more resilient and productive department. \nWHAT IT COVERS\n• Signs and symptoms of common mental health and substance use challenges.\n• How to recognize common risk factors and warning signs.\n• Crisis diffusion and follow-up tactics.\n• Affirming and reassurance tactics.\n• How to encourage appropriate help.\n• Self-help and support strategies. \nThe course will teach you how to\napply the MHFA Action Plan (ALGEE):\n• Assess for risk of suicide or harm.\n• Listen nonjudgmentally.\n• Give reassurance and information.\n• Encourage appropriate professional help.\n• Encourage self-help and other support strategies. \nWHO SHOULD TAKE IT\n• Law enforcement\n• Other first responders\n• 911 dispatchers \nINSTRUCTOR:  David R. Edwards is a certified trainer for Mental Health First Aid.  He currently serves as the Wellness Officer for the Monroe Public Safety Department and is a member of the International Law Enforcement Educators and Trainers Association. \nLOCATION:  Mott Community College – Southern Lake Branch\, 2100 W. Thompson Road\, Fenton\, MI 48430 \nDate and Time:  October 20\, 2025\, 8:00 am – 4:00 pm \nCOST:  Certified Members – Free\, Non-certified Members – $80.00 per person\, All Others – $160.00 per person \nClick to REGISTER below: \nhttps://form.123formbuilder.com/6888767/training-application-form \n“This training has been registered with MCOLES for the use of PA 302 Law Enforcement Distribution funds.” \nThis training is registered as\, “Agency Mandatory Continuing Professional Education (CPE).”
URL:https://www.leortc.com/event/mental-first-aid-for-public-safety/
LOCATION:Mott College – Southern Lakes\, 2100 W. Thompson Road\, Fenton\, MI\, 48430\, United States
GEO:42.8642916;-83.7142621
X-APPLE-STRUCTURED-LOCATION;VALUE=URI;X-ADDRESS=DESCRIPTION:WHY MENTAL HEALTH FIRST AID?\nMental Health First Aid (MHFA) for Public Safety teaches the skills needed to reach out and provide initial support to someone who may be developing a mental health or substance use problem and help connect them to the appropriate care. This evidence-based training promotes open dialogue reduces stigma and encourages officers to seek support when needed. Offering MHFA for Public Safety can help\ncreate a healthier more resilient and productive department. \nWHAT IT COVERS\n• Signs and symptoms of common mental health and substance use challenges.\n• How to recognize common risk factors and warning signs.\n• Crisis diffusion and follow-up tactics.\n• Affirming and reassurance tactics.\n• How to encourage appropriate help.\n• Self-help and support strategies. \nThe course will teach you how to\napply the MHFA Action Plan (ALGEE):\n• Assess for risk of suicide or harm.\n• Listen nonjudgmentally.\n• Give reassurance and information.\n• Encourage appropriate professional help.\n• Encourage self-help and other support strategies. \nWHO SHOULD TAKE IT\n• Law enforcement\n• Other first responders\n• 911 dispatchers \nINSTRUCTOR:  David R. Edwards is a certified trainer for Mental Health First Aid.  He currently serves as the Wellness Officer for the Monroe Public Safety Department and is a member of the International Law Enforcement Educators and Trainers Association. \n  Mott Community College – Southern Lake Branch 2100 W. Thompson Road Fenton MI 48430 \nDate and Time:  October 20 2025 8:00 am – 4:00 pm \nCOST:  Certified Members – Free Non-certified Members – $80.00 per person All Others – $160.00 per person \nClick to REGISTER below: \nhttps://form.123formbuilder.com/6888767/training-application-form \n“This training has been registered with MCOLES for the use of PA 302 Law Enforcement Distribution funds.” \nThis training is registered as “Agency Mandatory Continuing Professional Education (CPE).”;X-APPLE-RADIUS=500;X-TITLE=2100 W. Thompson Road:geo:-83.7142621,42.8642916
END:VEVENT
BEGIN:VEVENT
DTSTART;TZID=America/Detroit:20251023T083000
DTEND;TZID=America/Detroit:20251023T123000
DTSTAMP:20260424T154349
CREATED:20250805T144558Z
LAST-MODIFIED:20250925T175424Z
UID:10000608-1761208200-1761222600@www.leortc.com
SUMMARY:Dementia Awareness for Law Enforcement
DESCRIPTION:Dementia Awareness for Law Enforcement\nThis training is registered as\, “Mandated Continuing Professional Education (CPE).” \nThis course educates officers on identifying signs of dementia\, communicating effectively with affected individuals\, reducing use-of-force risks\, and navigating legal and ethical concerns during interactions. It will equip officers with the skills to identify and safely respond to individuals with dementia\, reducing risk and liability. \nSigns of dementia often mimic intoxication\, resistance\, or defiance. Incorrect responses can lead to escalation or litigation. This training covers de-escalation methods\, medical resources\, legal reporting mandates\, interactive lectures\, group discussions\, video clips\, and scenario-based walkthroughs. \nLearning Objectives: \n\nIdentify key signs and symptoms of dementia.\nUnderstand how dementia affects behavior\, perception\, and memory.\nApply de-escalation strategies tailored to dementia-related behaviors.\nRecognize the legal protections and reporting responsibilities related to dementia cases.\nUtilize community and medical resources during response or follow-up.\n\n“This in-person training meets 4-hours of the 8-hour MCOLES 2025 Continuing Professional Education credit mandate for recognized MENTAL HEALTH CRISIS training.” \nInstructor:      Lawrence Kosmalski is a MCOLES Certified Instructor with extensive experience in police response to mental health and cognitive conditions.  He earned a master’s degree in organizational leadership from Lourdes University\, a BA in Emergency and Disaster Mgt.\, and Co-Authored publication “Police Response to Mental Health” in 2025. He is a certified arson investigator and instructor for ASP\, OC. PPCT\, First Aid\, and Stop the Bleed. \nDate & Time:  Thursday\, October 23rd\, 2025\, 8:30am-12:30pm \nLocation:         Flint Township Police Department\, 5200 Norko Drive\, Flint\, MI 48507 \nCost:                LEORTC Member Licensed Personnel: Pre-paid \nAll Others:  $75 p/p \nClick to REGISTER below: \nhttps://form.123formbuilder.com/6888767/training-application-form \n“This training has been registered with MCOLES for the use of PA 302 Law Enforcement Distribution funds.”
URL:https://www.leortc.com/event/dementia-awareness-for-law-enforcement/
LOCATION:Flint Township PD\, 5200 Norko Drive\, Flint Township\, MI\, 48507\, United States
ATTACH;FMTTYPE=image/png:https://www.leortc.com/wp-content/uploads/2025/08/Archangel-Safety.png
GEO:42.9795036;-83.7789392
X-APPLE-STRUCTURED-LOCATION;VALUE=URI;X-ADDRESS=Flint Township PD 5200 Norko Drive Flint Township MI 48507 United States;X-APPLE-RADIUS=500;X-TITLE=5200 Norko Drive:geo:-83.7789392,42.9795036
END:VEVENT
BEGIN:VEVENT
DTSTART;TZID=America/Detroit:20251024T083000
DTEND;TZID=America/Detroit:20251024T163000
DTSTAMP:20260424T154349
CREATED:20250121T175819Z
LAST-MODIFIED:20250925T175344Z
UID:10000560-1761294600-1761323400@www.leortc.com
SUMMARY:Biology/DNA Evidence Collection & Analysis
DESCRIPTION:Having a basic understanding of evidence collection is an essential responsibility of all law enforcement personnel.  This course is designed for any law enforcement officer or law enforcement civilian that will investigate crimes as either a first responder\, evidence technician\, or investigator.  This course will consist of lectures\, laboratory demonstrations\, and hands-on collection and processing techniques. Participants in this course will: \n\nLearn known proper biological evidence collection techniques.\nUnderstand biological evidence analysis.\nUnderstand packaging and contamination issues.\nRecognize the most probative/valuable evidence for lab examination.\nUnderstand biological evidence collection performed by SANE nurses.\nLearn available resources for vehicle and scene processing.\n\nInstructor:  Amanda Fazi is a DNA analyst for DNA Labs International.  She has over ten years’ experience working as a forensic biologist and crime scene investigator\, with previous experience at the Michigan State Police Northville Crime Lab and the Oakland County Sheriff’s Office Crime Lab.  She has a Bachelor of Science Degree in Biological Sciences from Wayne State University and a Master of Science Degree in Forensic Science (Biology Concentration) from Michigan State University. \nDate/Time:                 Friday\, October 24\, 2025\, 8:30 am – 4:30 pm              \nLocation:                     Grand Blanc Twp. Police Department\, 5405 S. Saginaw Street\, Flint\, MI   48507 \nClass Size:                    Limited to 35 \nCost:                            LEORTC Licensed Member –               Prepaid \nLEORTC Non-Licensed Personnel –     $65.00 p/p \nNon-Member Agencies –                     $130.00 p/p \nClick to REGISTER below: \nhttps://form.123formbuilder.com/6888767/training-application-form \n“This training has been registered with MCOLES for the use of PA 302 Law Enforcement Distribution funds.” \nThis training is registered as\, “Agency Elected Continuing Professional Education (CPE).”
URL:https://www.leortc.com/event/biology-dna-evidence-collection-analysis-2/
LOCATION:Grand Blanc Twp. Police Dept.\, 5405 S. Saginaw Street\, Grand Blanc\, MI\, 48439\, United States
ATTACH;FMTTYPE=image/jpeg:https://www.leortc.com/wp-content/uploads/2017/06/Biology-DNA-Collection.jpg
GEO:42.9517587;-83.6570074
X-APPLE-STRUCTURED-LOCATION;VALUE=URI;X-ADDRESS=Grand Blanc Twp. Police Dept. 5405 S. Saginaw Street Grand Blanc MI 48439 United States;X-APPLE-RADIUS=500;X-TITLE=5405 S. Saginaw Street:geo:-83.6570074,42.9517587
END:VEVENT
END:VCALENDAR