BEGIN:VCALENDAR
VERSION:2.0
PRODID:-//LEORTC - Law Enforcement Officers Regional Training Commission - ECPv6.15.20//NONSGML v1.0//EN
CALSCALE:GREGORIAN
METHOD:PUBLISH
X-WR-CALNAME:LEORTC - Law Enforcement Officers Regional Training Commission
X-ORIGINAL-URL:https://www.leortc.com
X-WR-CALDESC:Events for LEORTC - Law Enforcement Officers Regional Training Commission
REFRESH-INTERVAL;VALUE=DURATION:PT1H
X-Robots-Tag:noindex
X-PUBLISHED-TTL:PT1H
BEGIN:VTIMEZONE
TZID:America/Detroit
BEGIN:DAYLIGHT
TZOFFSETFROM:-0500
TZOFFSETTO:-0400
TZNAME:EDT
DTSTART:20240310T070000
END:DAYLIGHT
BEGIN:STANDARD
TZOFFSETFROM:-0400
TZOFFSETTO:-0500
TZNAME:EST
DTSTART:20241103T060000
END:STANDARD
BEGIN:DAYLIGHT
TZOFFSETFROM:-0500
TZOFFSETTO:-0400
TZNAME:EDT
DTSTART:20250309T070000
END:DAYLIGHT
BEGIN:STANDARD
TZOFFSETFROM:-0400
TZOFFSETTO:-0500
TZNAME:EST
DTSTART:20251102T060000
END:STANDARD
BEGIN:DAYLIGHT
TZOFFSETFROM:-0500
TZOFFSETTO:-0400
TZNAME:EDT
DTSTART:20260308T070000
END:DAYLIGHT
BEGIN:STANDARD
TZOFFSETFROM:-0400
TZOFFSETTO:-0500
TZNAME:EST
DTSTART:20261101T060000
END:STANDARD
END:VTIMEZONE
BEGIN:VEVENT
DTSTART;TZID=America/Detroit:20251014T083000
DTEND;TZID=America/Detroit:20251014T163000
DTSTAMP:20260424T165748
CREATED:20250205T153102Z
LAST-MODIFIED:20250213T202931Z
UID:10000576-1760430600-1760459400@www.leortc.com
SUMMARY:Emergency Vehicle Operation
DESCRIPTION:This 1-day hand-on refresher course provides a review of the laws and policies related to emergency vehicle operation\, pursuits\, and the proper course of action based on related circumstances.  This training should be taken by officers that have not had the course within the last three years. \n\n\n\n \n\n\n\nStudents are required to attend all class hours and successfully complete the course to receive a certificate. \nParticipants will start the day/classroom portion at the Flint Township Police Department\, 5200 Norko Drive\, Flint\, MI 48507\, and after instruction\, proceed to the Auto City Speedway\, 10205 N Saginaw Rd\, Clio\, MI 48420. \nEquipment Required:     – Department marked police car in proper operating condition \n-Uniform of the day (recommended) \n-Duty belt and body armor (recommended) \n□             Loose items must be removed from the trunk and passenger compartments of the vehicles. \n□             No more than two officers per vehicle. \n□             No shorts\, sandals\, or pocket weapons. \nInstructor:          Lieutenant Brian Schroer\, Bay City Department of Public Safety.  Brian earned a Bachelor of Criminal Justice degree from Hilbert College and a Master of Public Administration degree from Central Michigan University.  During his career\, Lieutenant Schroer participated in the Field Training Officer program and serves as an instructor for Emergency Vehicle Operations training.  He was promoted to the rank of      Corporal Accident Investigator in 2009\, to the rank of Sergeant in 2020\, and to the rank of Lieutenant in 2022. \nClass Size:           Limited to 12 \nCost:                      LEORTC Member Licensed Officers – Prepaid \nNon-Member Agencies – $200.00 p/p \nClick here to Register      \nThis training has been registered with MCOLES for the use of PA 302 Law Enforcement Distribution funds. \nThis training is registered as\, “Agency Elected Continuing Professional Education (CPE).” \n  \n 
URL:https://www.leortc.com/event/emergency-vehicle-operation-10/2025-10-14/
LOCATION:Flint Township PD\, 5200 Norko Drive\, Flint Township\, MI\, 48507\, United States
ATTACH;FMTTYPE=image/jpeg:https://www.leortc.com/wp-content/uploads/2016/11/Homepage-header-2-1.jpg
GEO:42.9795036;-83.7789392
X-APPLE-STRUCTURED-LOCATION;VALUE=URI;X-ADDRESS=Flint Township PD 5200 Norko Drive Flint Township MI 48507 United States;X-APPLE-RADIUS=500;X-TITLE=5200 Norko Drive:geo:-83.7789392,42.9795036
END:VEVENT
BEGIN:VEVENT
DTSTART;TZID=America/Detroit:20251016T083000
DTEND;TZID=America/Detroit:20251016T163000
DTSTAMP:20260424T165748
CREATED:20250708T164020Z
LAST-MODIFIED:20250925T175544Z
UID:10000602-1760603400-1760632200@www.leortc.com
SUMMARY:Background Investigations for Michigan Police Applicants
DESCRIPTION:State statutes require law enforcement agencies to conduct thorough and comprehensive background investigations of those who will be licensed as fully empowered law enforcement officers in the state of Michigan. A comprehensive background investigation is perhaps the most important component of the hiring process because it helps agencies select only those who are the best fit for both the organization and the communities they serve. In 2019\, the Michigan Commission on Law Enforcement Standards adopted an Advisory Standard to assist investigators in their efforts to obtain the necessary and relevant information on an applicant’s background\, as part of the agency’s overall selection and hiring process. Thorough work done at the beginning of the hiring process\, with attention to detail\, can help agencies select the right applicant for the right reasons. The purpose of this course is to provide participants with useful information and resources that will assist them in conducting a thorough background investigation. Those attending will learn about\ncontemporary strategies in completing a comprehensive\, competency-based pre-employment background investigation on police applicants.\n\nTopics will include: \n\nThe police officer hiring process.\nMCOLES Advisory Standard & Selected Best Practices for Background Investigations\nLegal concerns\nSuggested background investigation forms.\nCriminal record searches\nDocument verification\nBackground Interviewing\nEmployment verification\nMilitary service verification\nEducational verification\nReference checks\nInternet searches\nOut of state applicants\nBackground investigation reports\n\n\nAttendees are encouraged to bring to the class a blank copy of their own department’s background questionnaire for\npolice applicants.\n\n\nInstructor:  Pete Ackerly is a retired Special Agent from the Michigan Department of Attorney General and has conducted pre-service background investigations on applicants for law enforcement positions across the state of Michigan.  Pete currently works for MCOLES\, where he conducts Standards and Compliance investigations.\n\nDate/Time:  Thursday\, October 16\, 2025\, 8:30 am – 4:30 pm\n\nLocation:  Grand Blanc Township Police Department\, 5405 S. Saginaw Street\, Grand Blanc\, MI 48507\n\nCost:  LEORTC Licensed Members – Prepaid     LEORTC Non-Licensed Personnel – $55 p/p\nNon-Member Agencies – $125 p/p\n\nClick to REGISTER below:\nhttps://form.123formbuilder.com/6888767/training-application-form\n\nThis training is registered as\, “Agency Elected Continuing Professional Education (CPE).” \n“This training has been registered with MCOLES for the use of PA 302 Law Enforcement Distribution funds.”
URL:https://www.leortc.com/event/background-investigations-for-michigan-police-applicants-4/
LOCATION:Grand Blanc Twp. Police Dept.\, 5405 S. Saginaw Street\, Grand Blanc\, MI\, 48439\, United States
GEO:42.9517587;-83.6570074
X-APPLE-STRUCTURED-LOCATION;VALUE=URI;X-ADDRESS=Grand Blanc Twp. Police Dept. 5405 S. Saginaw Street Grand Blanc MI 48439 United States;X-APPLE-RADIUS=500;X-TITLE=5405 S. Saginaw Street:geo:-83.6570074,42.9517587
END:VEVENT
END:VCALENDAR