BEGIN:VCALENDAR
VERSION:2.0
PRODID:-//LEORTC - Law Enforcement Officers Regional Training Commission - ECPv6.15.20//NONSGML v1.0//EN
CALSCALE:GREGORIAN
METHOD:PUBLISH
X-WR-CALNAME:LEORTC - Law Enforcement Officers Regional Training Commission
X-ORIGINAL-URL:https://www.leortc.com
X-WR-CALDESC:Events for LEORTC - Law Enforcement Officers Regional Training Commission
REFRESH-INTERVAL;VALUE=DURATION:PT1H
X-Robots-Tag:noindex
X-PUBLISHED-TTL:PT1H
BEGIN:VTIMEZONE
TZID:America/Detroit
BEGIN:DAYLIGHT
TZOFFSETFROM:-0500
TZOFFSETTO:-0400
TZNAME:EDT
DTSTART:20240310T070000
END:DAYLIGHT
BEGIN:STANDARD
TZOFFSETFROM:-0400
TZOFFSETTO:-0500
TZNAME:EST
DTSTART:20241103T060000
END:STANDARD
BEGIN:DAYLIGHT
TZOFFSETFROM:-0500
TZOFFSETTO:-0400
TZNAME:EDT
DTSTART:20250309T070000
END:DAYLIGHT
BEGIN:STANDARD
TZOFFSETFROM:-0400
TZOFFSETTO:-0500
TZNAME:EST
DTSTART:20251102T060000
END:STANDARD
BEGIN:DAYLIGHT
TZOFFSETFROM:-0500
TZOFFSETTO:-0400
TZNAME:EDT
DTSTART:20260308T070000
END:DAYLIGHT
BEGIN:STANDARD
TZOFFSETFROM:-0400
TZOFFSETTO:-0500
TZNAME:EST
DTSTART:20261101T060000
END:STANDARD
END:VTIMEZONE
BEGIN:VEVENT
DTSTART;TZID=America/Detroit:20250923T080000
DTEND;TZID=America/Detroit:20250924T160000
DTSTAMP:20260424T165805
CREATED:20241125T174037Z
LAST-MODIFIED:20250527T143203Z
UID:10000541-1758614400-1758729600@www.leortc.com
SUMMARY:Cell Phone Investigation Techniques
DESCRIPTION:Provided by: Northeast Counterdrug Training Center\nCo-hosted by: Law Enforcement Officer Regional Training Center – LEORTC; U.S. Attorney’s Office\, Eastern District of Michigan; MAGLOCLEN \nIt has become increasingly difficult for law enforcement to successfully exploit cell phones due to the evolution of smartphone technology. Criminals’ heavy reliance on cell phones makes it crucial for police officers to learn common cell phone terminology and understand the data they receive from cell phone companies. Historical cell-site data and specialized location records have been utilized in hundreds of investigations to successfully track a criminal or put them near a crime scene. Information will be presented during this block of instructions on the benefits of using these records\, the limitations of the records\, and the best software to map the records. Smartphone Applications (APPS) have become the preferred method of communication for criminals. Although the content of many APPS is encrypted\, there are digital imprints left behind on the actual device. Information will be presented on various APPS\, as well as the types of data that can be obtained from the APP providers. Wiretap investigations can produce very powerful and overwhelming evidence of guilt; The course will provide students with the fundamental aspects of developing wiretap investigations\, uses and analyzing of pen registers. The final blocks of instruction will involve the use of cell phone geo fences around a crime scene and Wi-Fi router interrogation. These advanced techniques have proven extremely useful in hundreds of investigations. This two-day training course will provide officers with a comprehensive approach to exploiting cellular telephones. \nDate and Time: September 23-24\, 2025\, sign-ins 7:30am\, class 8:00am – 4:00pm \nLocation:  Mott Community College – Regional Tech Center Auditorium\, 1401 E. Court Street\, Flint\, MI 48503 \nCost:  This course is free \nTo Register:  Visit the Northeast Counterdrug Training Center’s website at www.counterdrug.org\n•Click on Northeast Counterdrug Training Center “Enter Site”\n•Find the training that you would like to register for under Upcoming Training and select “Register”\n•Log into your NCTC account (an NCTC account is required to register for training)\n•Agree to the Terms and Conditions\n•Click on “Register”
URL:https://www.leortc.com/event/cell-phone-investigation-techniques/
LOCATION:Mott College – Regional Technology Center\, 1401 E. Court St.\, Flint\, Michigan\, 48503
ATTACH;FMTTYPE=image/png:https://www.leortc.com/wp-content/uploads/2019/01/Undercover-Management.png
GEO:43.0183858;-83.6707084
X-APPLE-STRUCTURED-LOCATION;VALUE=URI;X-ADDRESS=Mott College – Regional Technology Center 1401 E. Court St. Flint Michigan 48503;X-APPLE-RADIUS=500;X-TITLE=1401 E. Court St.:geo:-83.6707084,43.0183858
END:VEVENT
BEGIN:VEVENT
DTSTART;TZID=America/Detroit:20250923T083000
DTEND;TZID=America/Detroit:20250923T163000
DTSTAMP:20260424T165805
CREATED:20250205T153102Z
LAST-MODIFIED:20250213T202931Z
UID:10000573-1758616200-1758645000@www.leortc.com
SUMMARY:Emergency Vehicle Operation
DESCRIPTION:This 1-day hand-on refresher course provides a review of the laws and policies related to emergency vehicle operation\, pursuits\, and the proper course of action based on related circumstances.  This training should be taken by officers that have not had the course within the last three years. \n\n\n\n \n\n\n\nStudents are required to attend all class hours and successfully complete the course to receive a certificate. \nParticipants will start the day/classroom portion at the Flint Township Police Department\, 5200 Norko Drive\, Flint\, MI 48507\, and after instruction\, proceed to the Auto City Speedway\, 10205 N Saginaw Rd\, Clio\, MI 48420. \nEquipment Required:     – Department marked police car in proper operating condition \n-Uniform of the day (recommended) \n-Duty belt and body armor (recommended) \n□             Loose items must be removed from the trunk and passenger compartments of the vehicles. \n□             No more than two officers per vehicle. \n□             No shorts\, sandals\, or pocket weapons. \nInstructor:          Lieutenant Brian Schroer\, Bay City Department of Public Safety.  Brian earned a Bachelor of Criminal Justice degree from Hilbert College and a Master of Public Administration degree from Central Michigan University.  During his career\, Lieutenant Schroer participated in the Field Training Officer program and serves as an instructor for Emergency Vehicle Operations training.  He was promoted to the rank of      Corporal Accident Investigator in 2009\, to the rank of Sergeant in 2020\, and to the rank of Lieutenant in 2022. \nClass Size:           Limited to 12 \nCost:                      LEORTC Member Licensed Officers – Prepaid \nNon-Member Agencies – $200.00 p/p \nClick here to Register      \nThis training has been registered with MCOLES for the use of PA 302 Law Enforcement Distribution funds. \nThis training is registered as\, “Agency Elected Continuing Professional Education (CPE).” \n  \n 
URL:https://www.leortc.com/event/emergency-vehicle-operation-10/2025-09-23/
LOCATION:Flint Township PD\, 5200 Norko Drive\, Flint Township\, MI\, 48507\, United States
ATTACH;FMTTYPE=image/jpeg:https://www.leortc.com/wp-content/uploads/2016/11/Homepage-header-2-1.jpg
GEO:42.9795036;-83.7789392
X-APPLE-STRUCTURED-LOCATION;VALUE=URI;X-ADDRESS=Flint Township PD 5200 Norko Drive Flint Township MI 48507 United States;X-APPLE-RADIUS=500;X-TITLE=5200 Norko Drive:geo:-83.7789392,42.9795036
END:VEVENT
BEGIN:VEVENT
DTSTART;TZID=America/Detroit:20250925T083000
DTEND;TZID=America/Detroit:20250926T163000
DTSTAMP:20260424T165805
CREATED:20250527T160451Z
LAST-MODIFIED:20250925T180240Z
UID:10000600-1758789000-1758904200@www.leortc.com
SUMMARY:9ll Homicide:  Is the Caller the Killer?
DESCRIPTION:Tracy Harpster has served as a police officer in Ohio since 1984.  He has worked as a street officer\, undercover narcotics officer\, sergeant\, detective sergeant\, lieutenant and deputy chief.  In 2006\, he achieved a graduate degree from the University of Cincinnati where his Master’s Thesis examined the indicators of innocence and guilt of 9-1-1 homicide callers reporting the offense.  The study defined and analyzed the indicators in order to assist homicide detectives gain insight into offenses\, suggest offender probability\, and explore pertinent issues during the interview and interrogation phases of the investigation. \nDeputy Chief Harpster is a member of the Vidocq Society and has shared his research at homicide conferences across the country and used his research to investigate over 2500 homicides. \nThis training is specifically designed to educate all criminal justice personnel including dispatchers\, law enforcement officers\, detectives\, supervisors\, medical examiners and prosecutors. \nDate:  September 25-26\, 2025\, 8:30am – 4:30pm \nLocation:  Mott Community College – Tech Center Auditorium\, 1401 E. Court Street\, Flint\, MI 48503\, room 1005 \nCost:  LEORTC Licensed members – Pre-paid\, LEORTC Non-licensed members – $125 per person\, all others – $200 per person \nClick to REGISTER below: \nhttps://form.123formbuilder.com/6888767/training-application-form \nThis training is registered as\, “Agency Elected Continuing Professional Education (CPE).” \n“This training has been registered with MCOLES for the use of PA 302 Law Enforcement Distribution funds.”
URL:https://www.leortc.com/event/9ll-homicide-is-the-caller-the-killer/
LOCATION:Mott College – Regional Technology Center\, 1401 E. Court St.\, Flint\, Michigan\, 48503
GEO:43.0183858;-83.6707084
X-APPLE-STRUCTURED-LOCATION;VALUE=URI;X-ADDRESS=Mott College – Regional Technology Center 1401 E. Court St. Flint Michigan 48503;X-APPLE-RADIUS=500;X-TITLE=1401 E. Court St.:geo:-83.6707084,43.0183858
END:VEVENT
END:VCALENDAR