BEGIN:VCALENDAR
VERSION:2.0
PRODID:-//LEORTC - Law Enforcement Officers Regional Training Commission - ECPv6.15.20//NONSGML v1.0//EN
CALSCALE:GREGORIAN
METHOD:PUBLISH
X-ORIGINAL-URL:https://www.leortc.com
X-WR-CALDESC:Events for LEORTC - Law Enforcement Officers Regional Training Commission
REFRESH-INTERVAL;VALUE=DURATION:PT1H
X-Robots-Tag:noindex
X-PUBLISHED-TTL:PT1H
BEGIN:VTIMEZONE
TZID:America/Detroit
BEGIN:DAYLIGHT
TZOFFSETFROM:-0500
TZOFFSETTO:-0400
TZNAME:EDT
DTSTART:20240310T070000
END:DAYLIGHT
BEGIN:STANDARD
TZOFFSETFROM:-0400
TZOFFSETTO:-0500
TZNAME:EST
DTSTART:20241103T060000
END:STANDARD
BEGIN:DAYLIGHT
TZOFFSETFROM:-0500
TZOFFSETTO:-0400
TZNAME:EDT
DTSTART:20250309T070000
END:DAYLIGHT
BEGIN:STANDARD
TZOFFSETFROM:-0400
TZOFFSETTO:-0500
TZNAME:EST
DTSTART:20251102T060000
END:STANDARD
BEGIN:DAYLIGHT
TZOFFSETFROM:-0500
TZOFFSETTO:-0400
TZNAME:EDT
DTSTART:20260308T070000
END:DAYLIGHT
BEGIN:STANDARD
TZOFFSETFROM:-0400
TZOFFSETTO:-0500
TZNAME:EST
DTSTART:20261101T060000
END:STANDARD
END:VTIMEZONE
BEGIN:VEVENT
DTSTART;TZID=America/Detroit:20250915T080000
DTEND;TZID=America/Detroit:20250919T170000
DTSTAMP:20260424T181021
CREATED:20250708T174532Z
LAST-MODIFIED:20250708T174532Z
UID:10000603-1757923200-1758301200@www.leortc.com
SUMMARY:Patrol Rifle Instructor Course
DESCRIPTION:This course is for already certified firearms (pistol) instructors.  The student of this training will gain the knowledge of how to articulate and instruct the safe carry and storage; care and maintenance; sighting; setting up and engaging in live-fire drills; functions of the rifle and more to future operators of semi-auto patrol rifles. Please read the pre-requisites for the minimum standards for instructor candidates. \n\n\nThis course is for already certified firearms (pistol) instructors with basic AR15 user/operator course certification. Certificates of both must be presented on Day 1 to the instructors. The students of this course will gain the knowledge of how to articulate and instruct the safe carry and storage; care and maintenance; sighting; setting up and engaging in live-fire drills; functions of the rifle and more to future operators of semi-auto patrol rifles.\nOnly iron sights are permitted during the course with electronic sights familiarization on the last day of the class.  On the morning of Day 1 the student will report to the range with a zeroed rifle for a live fire pre-test course of the following:\nZero Confirmation – From the prone position fire 3 rounds into the center mass circle of zeroing target at 27 yards to verify weapon zero. If the group is outside of the zero circle the shooter gets 1 correction and fire additional 3 round group to confirm zero. Pass or Fail\nSkills Demonstration – Starting with 2 magazines with 15 rounds in each the student on command will exit a patrol car with rifle and move to a position behind a barricade. On command\, the shooter will fire 3 rounds from the support shoulder from behind cover at TCQ target 15 yards away in 7 seconds\, perform an un-timed tactical reload behind cover. Then on command will fire 3 rounds on same target from the strong side in 5 seconds. Place rifle on safe.\nMoving across the range to a second barricade the student will take up a kneeling position utilizing cover and on command fire 6 rounds on TCQ target 25 yards down range in 10 seconds. The student will then stand on command and utilizing cover\, fire 6 shots on same TCQ target in 15 seconds. From behind cover reload using the 12-round magazine. Place rifle on safe.\nOn command move to third position up range\, 50 yards from TCQ target. From firing position\, the student will shoot from the kneeling position 4 rounds in 60 seconds\, then 4 rounds from the sitting position in 45 seconds\, and finally from the prone position 4 rounds in 30 seconds.\nScore 100% in TCQ combat scoring area. \nThose unable to meet the requirements will not continue with the course. Final qualification course on Friday is 60 rounds on targets at 25\, 50\, 75\, and 100 yards.\nAs this course follows the military model of marksmanship ALL students must have a 2-point sling (attaches to the toe of the stock and to the front sling swivel under the barrel) to obtain stability of the weapon. The most common is a M1 Garand from Midway $14.99 part number 966254.\nPDF format zeroing targets are available at the below web addresses.\nM4 (LE Carbine 16” barrel) target http://www.bobdbob.com/~deneb/doc/targets/m4-carbine-zero.pdf\nM16 20” barrel target http://www.bobdbob.com/~deneb/doc/targets/m16a2-25m-zero.pdf \nZeroing instructions – A pdf file (attached) explains different ideas of battle zeroing your rifle. It is yours or departments option of which you use. However\, you must pass the pre-test (described above) and the final live fire test to graduate from this course.\nThis is not a participation pass course. Certification is awarded based upon daily evaluations of progress\, a written outline and verbal presentation of a topic\, written test\, and qualification course of fire.\nMinimum equipment requirements: AR15 weapon\, 3 magazines\, cleaning equipment (don’t forget the lube)\, shooting mat if desired\, duty belt with pistol and 3 magazines\, BODY ARMOR REQUIRED ON THE RANGE\, hat\, eye protection\, ear puffs/plugs (muffs tend to interfere with cheek weld on the stock)\, laptop computer with 4 GB thumb drive as all information is presented in digital format. 1000 rounds of .223 or 5.56 ball ammunition.  100 rounds of pistol ammunition. \nCourse Instructors: Chris VanHorn & Chris Jaime\, Certified Firearms/Patrol Rifle Instructors \n\n\n\n\n\n\n\nCourse Location:  Delta Community College\, 1961 Delta Rd. University Ctr 48710\, Room 210 \nRange Location:  \nCourse Fee:             LEORTC Licensed Members – Prepaid  \nDelta College Consortium Members: $400.00 per person \nNon-Consortium: $600.00 per person \nClick HERE to Register \n“This training has been registered with MCOLES for the use of PA 302 Law Enforcement Distribution funds.” \nRegistration Deadline: September 5\, 2025.  THERE IS LIMITED SEATING AVAILABLE.  WE RECOMMEND YOU REGISTER EARLY!
URL:https://www.leortc.com/event/patrol-rifle-instructor-course-4/
LOCATION:Delta College\, University Center\, MI\, 48710\, United States
GEO:43.5595162;-83.9944777
END:VEVENT
BEGIN:VEVENT
DTSTART;TZID=America/Detroit:20250916T083000
DTEND;TZID=America/Detroit:20250916T163000
DTSTAMP:20260424T181021
CREATED:20250114T185525Z
LAST-MODIFIED:20250212T155423Z
UID:10000554-1758011400-1758040200@www.leortc.com
SUMMARY:Footwear Impression Workshop
DESCRIPTION:This one-day hands-on course is designed for crime scene investigators\, police officers\, evidence technicians\, and other personnel\, who have the responsibility to properly document and collect footwear evidence at the crime scene.  This course is geared toward both experienced evidence collection personnel as well as personnel with limited experience in footwear evidence processing.  Participants will learn how to locate\, collect and preserve footwear evidence. \nCourse outline: \n\nFootwear Introduction\nManufacturing of Footwear\nFootwear Examination\nAwareness and detection of footwear evidence\nDocumenting footwear (general photographs and sketch)\nFootwear Enhancement\n\nHands-on Portion: \n\nCollection and preservation of various types of footwear impression\nTwo dimensional\, positive/negative impressions\, dust impressions\nThree-dimensional various soil types\, unusual surfaces\, snow impression (if applicable)\n\nRequired Equipment: \n\nDigital Camera\nOwner’s manual for the camera\nTripod\n\nInstructor:  Forensic Scientist Keith LaMont\, Director/MSP Bridgeport Crime Lab.  Mr. LaMont has been with the trace evidence unit of the Crime Lab for 18 years.  His areas of expertise include footwear and tire tracks\, crime scene processing\, arson\, paint\, glass\, and explosive residue.  He has an extensive amount of crime scene processing experience\, processing over 225 suspicious death crime scenes.  He has a Bachelor of Science degree from MSU with a major in Forensic Science\, as well as numerous specialized workshops in various aspects of trace evidence subject matter. \nDate/Time:       Tuesday\, September 16\, 2025\, 8:30am – 4:30pm   \nLocation:             Flint Township Police Department\, 5200 Norko Drive\, Flint\, 48507 \nCost:                LEORTC Member Licensed Officer – Prepaid \nLEORTC Non-Licensed Personnel – $65.00 p/p \nNon-Members Agencies – $130.00 p/p \nClick HERE to Register \n“This training has been registered with MCOLES for the use of PA 302 Law Enforcement Distribution funds.” \nThis training is registered as\, “Agency Elected Continuing Professional Education (CPE).”
URL:https://www.leortc.com/event/footwear-impression-workshop-3/
LOCATION:Flint Township PD\, 5200 Norko Drive\, Flint Township\, MI\, 48507\, United States
ATTACH;FMTTYPE=image/png:https://www.leortc.com/wp-content/uploads/2025/01/Footwear-Impression.png
GEO:42.9795036;-83.7789392
X-APPLE-STRUCTURED-LOCATION;VALUE=URI;X-ADDRESS=Flint Township PD 5200 Norko Drive Flint Township MI 48507 United States;X-APPLE-RADIUS=500;X-TITLE=5200 Norko Drive:geo:-83.7789392,42.9795036
END:VEVENT
BEGIN:VEVENT
DTSTART;TZID=America/Detroit:20250917T083000
DTEND;TZID=America/Detroit:20250917T163000
DTSTAMP:20260424T181021
CREATED:20250805T143444Z
LAST-MODIFIED:20250903T125429Z
UID:10000607-1758097800-1758126600@www.leortc.com
SUMMARY:Beyond the Badge: LEOSA\, Force\, and Federal Carry Rights
DESCRIPTION:Beyond the Badge: LEOSA\, Force\, and Federal Carry Rights\nThis training is registered as\, “Agency Elected Continuing Professional Education (CPE).” \nThis 8-hour course is applicable to all licensed law enforcement officers regardless of rank\, providing understanding of LEOSA requirements\, jurisdictional limitations\, and potential drawbacks and consequences. \nCourse Outline:                                    \n1. LEOSA Legal Framework \n2. Use of Force & Case Law \n3. Practical Carry & Safety Considerations \n4. Live-Fire Qualification Standards \n5. Scenarios & Practical Application \nLunch Included \nInstructors:     Terry L. Johnson\, J.D. is an accomplished attorney and firearms law expert with over 15 years of legal experience\, and more than 7\,000 trials conducted at the state and federal level. He is the President of the Law Office of Terry L. Johnson in Detroit\, where he focuses on criminal defense\, civil litigation\, and firearms-related cases\, including high-profile matters frequently covered in the media. \nLawrence Kosmalski is a MCOLES Certified Instructor with extensive experience in police response to mental health and cognitive conditions.  He earned a master’s degree in organizational leadership from Lourdes University\, a BA in Emergency and Disaster Mgt.\, and Co-Authored publication “Police Response to Mental Health” in 2025. He is a certified arson investigator and instructor for ASP\, OC. PPCT\, First Aid\, and Stop the Bleed. \nDate & Time:     Wednesday\, September 17th\, 2025\, 8:30am-4:30pm \nLocation:             Flint Township Police Department\, 5200 Norko Drive\, Flint\, MI 48507 \nCost:                      LEORTC Member Licensed Personnel: Pre-paid \nAll Others: $199 p/p \nClick HERE to Register \n“This training has been registered with MCOLES for the use of PA 302 Law Enforcement Distribution funds.” \n“This in-person training meets 8-hours of elective training credit for MCOLES 2025 CPE training.”
URL:https://www.leortc.com/event/beyond-the-badge-leosa-force-and-federal-carry-rights/
LOCATION:Flint Township PD\, 5200 Norko Drive\, Flint Township\, MI\, 48507\, United States
ATTACH;FMTTYPE=image/png:https://www.leortc.com/wp-content/uploads/2025/08/Archangel-Safety.png
GEO:42.9795036;-83.7789392
X-APPLE-STRUCTURED-LOCATION;VALUE=URI;X-ADDRESS=Flint Township PD 5200 Norko Drive Flint Township MI 48507 United States;X-APPLE-RADIUS=500;X-TITLE=5200 Norko Drive:geo:-83.7789392,42.9795036
END:VEVENT
END:VCALENDAR