BEGIN:VCALENDAR
VERSION:2.0
PRODID:-//LEORTC - Law Enforcement Officers Regional Training Commission - ECPv6.15.20//NONSGML v1.0//EN
CALSCALE:GREGORIAN
METHOD:PUBLISH
X-WR-CALNAME:LEORTC - Law Enforcement Officers Regional Training Commission
X-ORIGINAL-URL:https://www.leortc.com
X-WR-CALDESC:Events for LEORTC - Law Enforcement Officers Regional Training Commission
REFRESH-INTERVAL;VALUE=DURATION:PT1H
X-Robots-Tag:noindex
X-PUBLISHED-TTL:PT1H
BEGIN:VTIMEZONE
TZID:America/Detroit
BEGIN:DAYLIGHT
TZOFFSETFROM:-0500
TZOFFSETTO:-0400
TZNAME:EDT
DTSTART:20240310T070000
END:DAYLIGHT
BEGIN:STANDARD
TZOFFSETFROM:-0400
TZOFFSETTO:-0500
TZNAME:EST
DTSTART:20241103T060000
END:STANDARD
BEGIN:DAYLIGHT
TZOFFSETFROM:-0500
TZOFFSETTO:-0400
TZNAME:EDT
DTSTART:20250309T070000
END:DAYLIGHT
BEGIN:STANDARD
TZOFFSETFROM:-0400
TZOFFSETTO:-0500
TZNAME:EST
DTSTART:20251102T060000
END:STANDARD
BEGIN:DAYLIGHT
TZOFFSETFROM:-0500
TZOFFSETTO:-0400
TZNAME:EDT
DTSTART:20260308T070000
END:DAYLIGHT
BEGIN:STANDARD
TZOFFSETFROM:-0400
TZOFFSETTO:-0500
TZNAME:EST
DTSTART:20261101T060000
END:STANDARD
END:VTIMEZONE
BEGIN:VEVENT
DTSTART;TZID=America/Detroit:20250612T083000
DTEND;TZID=America/Detroit:20250612T163000
DTSTAMP:20260424T214558
CREATED:20250312T125545Z
LAST-MODIFIED:20250421T145430Z
UID:10000585-1749717000-1749745800@www.leortc.com
SUMMARY:Personal & Professional Breakthroughs for Police Officers
DESCRIPTION:This training is registered as\, “Agency Elected Continuing Professional Education (CPE).” \nIn a chaotic and unpredictable world of plummeting moral standards our nation’s police officers are facing stressors that can have predictable and profoundly negative impact upon their lives\, careers and families.  This seminar will assist those attending in gaining a distinctly different perspective on the unique and potentially problematic consequences of performing well within a law enforcement culture.   Officers\, Sergeants and those who assist them will reflect upon the traumas and triumphs associated with modern law enforcement\, and how these influence the pivotal balance between professional and personal relationships. \nAn experienced law enforcement executive and educator will guide law enforcement personnel in understanding a variety of best practice approaches in addressing these issues.  A theme of personal leadership will run throughout this seminar as those attending will have ample chance to reflect upon the universal journey of a vocation spent in law enforcement.  This seminar will provide a new set of skills designed to assist contemporary knights maintain a balanced\, meaningful and rewarding lifestyle\, while maintaining and protecting the nobility found in their servant’s spirit. \nTopics will include: \n\nRemoving classic frustrations encountered by all law enforcement officers & the impact of rewarded cynicism\nThe Caustic Effects of performing well in law enforcement\nHow the dynamics of control and trust can negatively influence officer attitudes both at work and home\nLearning and mastering the unique\, misunderstood and potentially problematic consequences of police perspectives\nLearning from our Knightly predecessors on how to self-motivate on the street\, in the department and at home\nInspiring a new generation of Knights\nRemoving classic frustrations encountered by all law enforcement officers & the consequences of rewarding cynicism\nHow the dynamics of control and trust can negatively influence officer attitudes\nHow to lead and inspire those who have been taught to anticipate the worst in everything\nBeing an optimistic leader among a sea of professional pessimists\nOvercoming the damaging effects of “the rule bound” and stoic approaches to the job\nRecognizing the symptoms of stress and how police stress differs significantly from other jobs\nDeveloping a personal and organizational action plan to confront the issues\nLearning to help others overcome unhealthy organizational over-investment\nWhy officers are at greater risk for alcohol abuse\, divorce\, isolation\, depression and suicide\nWarning signs of distress and preventative programs to reduce and monitor it\n\nInstructor:            Kent Williams is the owner of Breach Point Consulting and has been involved in law enforcement as a police officer for over 32 years\, where he recently retired as Chief of Police for a Chicago area police department.  Now consulting full-time\, he has served as the 2-term President of the Northern Illinois Critical Incident Stress Management Team where he still serves as a peer supporter for more than 20 years.  He is a graduate of the FBI National Academy\, the University of Southern California’s Delinquency Control Institute\, the Police Executive Research Forum’s Senior Management Institute for Police\, at Boston University\, and the Buechner Institute for Governance’s Rocky Mountain Leadership Program at the University of Colorado.    He served as a Tactical Commander on a regional SWAT team serving 60 Chicago collar communities.  He has taught extensively on various courses related to leadership and organizational change.  Additionally\, he has taught for over 28 years on topics including use of force\, weapons and tactics. \nDate & Times:       Thursday\, June 12\, 2025\, 8:30am-4:30pm \nLocation:               Mott Community College Southern Lakes Branch Center\, Room 1009\, 2100 W. Thompson Road\, Fenton\, MI 48430 \nCost:                       LEORTC Licensed Members – Prepaid \nLEORTC Non-Licensed Personnel – $95 p/p \nNon-Member Agencies – $199 p/p \nClick HERE to Register \n“This training has been registered with MCOLES for the use of PA 302 Law Enforcement Distribution funds.”
URL:https://www.leortc.com/event/personal-professional-breakthroughs-for-police-officers-2/
LOCATION:Mott College – Southern Lakes\, 2100 W. Thompson Road\, Fenton\, MI\, 48430\, United States
ATTACH;FMTTYPE=image/jpeg:https://www.leortc.com/wp-content/uploads/2025/03/Breach-Point-Consulting.jpg
GEO:42.8642916;-83.7142621
X-APPLE-STRUCTURED-LOCATION;VALUE=URI;X-ADDRESS=Mott College – Southern Lakes 2100 W. Thompson Road Fenton MI 48430 United States;X-APPLE-RADIUS=500;X-TITLE=2100 W. Thompson Road:geo:-83.7142621,42.8642916
END:VEVENT
END:VCALENDAR