BEGIN:VCALENDAR
VERSION:2.0
PRODID:-//LEORTC - Law Enforcement Officers Regional Training Commission - ECPv6.15.20//NONSGML v1.0//EN
CALSCALE:GREGORIAN
METHOD:PUBLISH
X-ORIGINAL-URL:https://www.leortc.com
X-WR-CALDESC:Events for LEORTC - Law Enforcement Officers Regional Training Commission
REFRESH-INTERVAL;VALUE=DURATION:PT1H
X-Robots-Tag:noindex
X-PUBLISHED-TTL:PT1H
BEGIN:VTIMEZONE
TZID:America/New_York
BEGIN:DAYLIGHT
TZOFFSETFROM:-0500
TZOFFSETTO:-0400
TZNAME:EDT
DTSTART:20240310T070000
END:DAYLIGHT
BEGIN:STANDARD
TZOFFSETFROM:-0400
TZOFFSETTO:-0500
TZNAME:EST
DTSTART:20241103T060000
END:STANDARD
BEGIN:DAYLIGHT
TZOFFSETFROM:-0500
TZOFFSETTO:-0400
TZNAME:EDT
DTSTART:20250309T070000
END:DAYLIGHT
BEGIN:STANDARD
TZOFFSETFROM:-0400
TZOFFSETTO:-0500
TZNAME:EST
DTSTART:20251102T060000
END:STANDARD
BEGIN:DAYLIGHT
TZOFFSETFROM:-0500
TZOFFSETTO:-0400
TZNAME:EDT
DTSTART:20260308T070000
END:DAYLIGHT
BEGIN:STANDARD
TZOFFSETFROM:-0400
TZOFFSETTO:-0500
TZNAME:EST
DTSTART:20261101T060000
END:STANDARD
END:VTIMEZONE
BEGIN:VEVENT
DTSTART;TZID=America/New_York:20250529T083000
DTEND;TZID=America/New_York:20250529T163000
DTSTAMP:20260424T214720
CREATED:20250311T151820Z
LAST-MODIFIED:20250311T151820Z
UID:10000584-1748507400-1748536200@www.leortc.com
SUMMARY:Trace Evidence Collection
DESCRIPTION:This course will provide participants with an understanding of how the collection of trace evidence at crime scenes; to include autopsies and vehicle processing\, on a routine basis can aid in successful criminal investigations.  Trace evidence becomes particularly valuable in cases where latent prints and DNA fail to provide an identification of a suspect.  Emphasis will be placed on the proper techniques for collection and packaging of trace evidence.  Case studies will be presented\, and hands-on collection methods will be practiced.\n\n\n\nTopics Include: \n\nLocard’s Exchange Theory\nFiber Transfer\nPaint Transfer\nPhysical Match\nGlass\nFire Debris\nMiscellaneous/Unknown\nFootwear (as time permits)\n\n  \nInstructor:   Paris Pritchard is a Forensic Scientist assigned to the Michigan State Police- Trace Evidence Unit in Northville\, Michigan.  She has a Bachelor of Science Degree in Biology from Howard University in Washington D.C.  and a Post-Bachelors Crime Laboratory Training Certificate from Madonna University. \nLocation:  Grand Blanc Township Police Department\, 5405 S. Saginaw Street\, Grand Blanc\, MI 48439 \nClass Size:    Limited to 25 \nCost:             LEORTC Licensed Personnel – Prepaid           Non-Licensed Members – $65 per/person \n                       All Others – $130 per/person \nClick HERE to Register \n“This training has been registered with MCOLES for the use of PA 302 Law Enforcement Distribution funds.” \nThis training is registered as\, “Agency Elected Continuing Professional Education (CPE).”
URL:https://www.leortc.com/event/trace-evidence-collection-4/
LOCATION:Grand Blanc Twp. Police Dept.\, 5405 S. Saginaw Street\, Grand Blanc\, MI\, 48439\, United States
GEO:42.9517587;-83.6570074
X-APPLE-STRUCTURED-LOCATION;VALUE=URI;X-ADDRESS=Grand Blanc Twp. Police Dept. 5405 S. Saginaw Street Grand Blanc MI 48439 United States;X-APPLE-RADIUS=500;X-TITLE=5405 S. Saginaw Street:geo:-83.6570074,42.9517587
END:VEVENT
END:VCALENDAR