BEGIN:VCALENDAR
VERSION:2.0
PRODID:-//LEORTC - Law Enforcement Officers Regional Training Commission - ECPv6.15.20//NONSGML v1.0//EN
CALSCALE:GREGORIAN
METHOD:PUBLISH
X-ORIGINAL-URL:https://www.leortc.com
X-WR-CALDESC:Events for LEORTC - Law Enforcement Officers Regional Training Commission
REFRESH-INTERVAL;VALUE=DURATION:PT1H
X-Robots-Tag:noindex
X-PUBLISHED-TTL:PT1H
BEGIN:VTIMEZONE
TZID:America/Detroit
BEGIN:DAYLIGHT
TZOFFSETFROM:-0500
TZOFFSETTO:-0400
TZNAME:EDT
DTSTART:20240310T070000
END:DAYLIGHT
BEGIN:STANDARD
TZOFFSETFROM:-0400
TZOFFSETTO:-0500
TZNAME:EST
DTSTART:20241103T060000
END:STANDARD
BEGIN:DAYLIGHT
TZOFFSETFROM:-0500
TZOFFSETTO:-0400
TZNAME:EDT
DTSTART:20250309T070000
END:DAYLIGHT
BEGIN:STANDARD
TZOFFSETFROM:-0400
TZOFFSETTO:-0500
TZNAME:EST
DTSTART:20251102T060000
END:STANDARD
BEGIN:DAYLIGHT
TZOFFSETFROM:-0500
TZOFFSETTO:-0400
TZNAME:EDT
DTSTART:20260308T070000
END:DAYLIGHT
BEGIN:STANDARD
TZOFFSETFROM:-0400
TZOFFSETTO:-0500
TZNAME:EST
DTSTART:20261101T060000
END:STANDARD
END:VTIMEZONE
BEGIN:VEVENT
DTSTART;TZID=America/Detroit:20250519T080000
DTEND;TZID=America/Detroit:20250519T160000
DTSTAMP:20260424T230955
CREATED:20250402T180208Z
LAST-MODIFIED:20250506T154834Z
UID:10000596-1747641600-1747670400@www.leortc.com
SUMMARY:Mental Health 1st Aid for Police\, Corrections\, & Dispatch
DESCRIPTION:WHY MENTAL HEALTH FIRST AID?\nMental Health First Aid (MHFA) for Public Safety teaches the skills needed to reach out and provide initial support to someone who may be developing a mental health or substance use problem and help connect them to the appropriate care. This evidence-based training promotes open dialogue\, reduces stigma and encourages officers to seek support when needed. Offering MHFA for Public Safety can help\ncreate a healthier\, more resilient and productive department. \nWHAT IT COVERS\n• Signs and symptoms of common mental health and substance use challenges.\n• How to recognize common risk factors and warning signs.\n• Crisis diffusion and follow-up tactics.\n• Affirming and reassurance tactics.\n• How to encourage appropriate help.\n• Self-help and support strategies. \nThe course will teach you how to\napply the MHFA Action Plan (ALGEE):\n• Assess for risk of suicide or harm.\n• Listen nonjudgmentally.\n• Give reassurance and information.\n• Encourage appropriate professional help.\n• Encourage self-help and other support strategies. \nWHO SHOULD TAKE IT\n• Law enforcement\n• Other first responders\n• 911 dispatchers \nThis training is registered as\, “Mandated Continuing Professional Education (CPE).” \nINSTRUCTOR:  David R. Edwards is a certified trainer for Mental Health First Aid.  He currently serves as the Wellness Officer for the Monroe Public Safety Department and is a member of the International Law Enforcement Educators and Trainers Association. \nLOCATION:  Mott Community College – Southern Lake Branch\, 2100 W. Thompson Road\, Fenton\, MI 48430 \nDate and Time:  May 19\, 2025\, 8:00 am – 4:00 pm \nCOST:  Certified Members – Free\, Non-certified Members – $80.00 per person\, All Others – $160.00 per person \nClick HERE to Register \n“This training has been registered with MCOLES for the use of PA 302 Law Enforcement Distribution funds.”
URL:https://www.leortc.com/event/mental-health-1st-aid-for-police-corrections-dispatch-2/
LOCATION:Mott College – Southern Lakes\, 2100 W. Thompson Road\, Fenton\, MI\, 48430\, United States
ATTACH;FMTTYPE=image/webp:https://www.leortc.com/wp-content/uploads/2025/05/Mental-Health-1st-Aid.webp
GEO:42.8642916;-83.7142621
X-APPLE-STRUCTURED-LOCATION;VALUE=URI;X-ADDRESS=DESCRIPTION:WHY MENTAL HEALTH FIRST AID?\nMental Health First Aid (MHFA) for Public Safety teaches the skills needed to reach out and provide initial support to someone who may be developing a mental health or substance use problem and help connect them to the appropriate care. This evidence-based training promotes open dialogue reduces stigma and encourages officers to seek support when needed. Offering MHFA for Public Safety can help\ncreate a healthier more resilient and productive department. \nWHAT IT COVERS\n• Signs and symptoms of common mental health and substance use challenges.\n• How to recognize common risk factors and warning signs.\n• Crisis diffusion and follow-up tactics.\n• Affirming and reassurance tactics.\n• How to encourage appropriate help.\n• Self-help and support strategies. \nThe course will teach you how to\napply the MHFA Action Plan (ALGEE):\n• Assess for risk of suicide or harm.\n• Listen nonjudgmentally.\n• Give reassurance and information.\n• Encourage appropriate professional help.\n• Encourage self-help and other support strategies. \nWHO SHOULD TAKE IT\n• Law enforcement\n• Other first responders\n• 911 dispatchers \nThis training is registered as “Mandated Continuing Professional Education (CPE).” \nINSTRUCTOR:  David R. Edwards is a certified trainer for Mental Health First Aid.  He currently serves as the Wellness Officer for the Monroe Public Safety Department and is a member of the International Law Enforcement Educators and Trainers Association. \n  Mott Community College – Southern Lake Branch 2100 W. Thompson Road Fenton MI 48430 \nDate and Time:  May 19 2025 8:00 am – 4:00 pm \nCOST:  Certified Members – Free Non-certified Members – $80.00 per person All Others – $160.00 per person \nClick HERE to Register \n“This training has been registered with MCOLES for the use of PA 302 Law Enforcement Distribution funds.”;X-APPLE-RADIUS=500;X-TITLE=2100 W. Thompson Road:geo:-83.7142621,42.8642916
END:VEVENT
BEGIN:VEVENT
DTSTART;TZID=America/Detroit:20250520T080000
DTEND;TZID=America/Detroit:20250520T160000
DTSTAMP:20260424T230955
CREATED:20250210T161840Z
LAST-MODIFIED:20250422T132622Z
UID:10000577-1747728000-1747756800@www.leortc.com
SUMMARY:De-Escalation:  Strategies for Best Possible Outcomes
DESCRIPTION:This training is registered as\, “Agency Elected Continuing Professional Education (CPE).” \nDe-escalation is a word that is frequently discussed by community members\, politicians\, and the media\, but is rarely defined and often misunderstood.  This course empowers participants to have intelligent\, evidence-informed conversations with the public and provides valuable tools for engaging with people in crisis.  Not all situations can be ‘de-escalated\,’ but this course focuses on tools to help achieve the best possible outcomes.  Through guided discussions\, small group exercises and practical tools\, participants will: \n\nExplain the truths of de-escalation to members of the public\nLearn to self-regulate their emotions in high-stress environments\nExplore the foundational elements of all human mental functions (thoughts\, emotions\, behaviors)\nLearn effective tools for dealing with persons in crisis\nExplore response tactics for best possible outcomes\n\nWho should attend?  This course is designed for sworn personnel\, correctional officers\, dispatchers\, trainers\, supervisors\, and investigators. \nInstructor:  This course is instructed by members of Command Presence Training. \nLocation:  Mott Community College – Southern Lakes Branch\, 2100 W. Thompson Road\, room 1001G\, Fenton\, MI  48430 \nCost:  LEORTC members Prepaid     Non-licensed members $99 per person     All others $175 per person \nClick HERE to Register \n“This training has been registered with MCOLES for the use of PA 302 Law Enforcement Distribution funds.”
URL:https://www.leortc.com/event/de-escalation-strategies-for-best-possible-outcomes/
LOCATION:Mott College – Southern Lakes\, 2100 W. Thompson Road\, Fenton\, MI\, 48430\, United States
ATTACH;FMTTYPE=image/png:https://www.leortc.com/wp-content/uploads/2025/04/Command-Presence.png
GEO:42.8642916;-83.7142621
X-APPLE-STRUCTURED-LOCATION;VALUE=URI;X-ADDRESS=Mott College – Southern Lakes 2100 W. Thompson Road Fenton MI 48430 United States;X-APPLE-RADIUS=500;X-TITLE=2100 W. Thompson Road:geo:-83.7142621,42.8642916
END:VEVENT
BEGIN:VEVENT
DTSTART;TZID=America/Detroit:20250520T083000
DTEND;TZID=America/Detroit:20250520T163000
DTSTAMP:20260424T230955
CREATED:20250205T153102Z
LAST-MODIFIED:20250213T202931Z
UID:10000569-1747729800-1747758600@www.leortc.com
SUMMARY:Emergency Vehicle Operation
DESCRIPTION:This 1-day hand-on refresher course provides a review of the laws and policies related to emergency vehicle operation\, pursuits\, and the proper course of action based on related circumstances.  This training should be taken by officers that have not had the course within the last three years. \n\n\n\n \n\n\n\nStudents are required to attend all class hours and successfully complete the course to receive a certificate. \nParticipants will start the day/classroom portion at the Flint Township Police Department\, 5200 Norko Drive\, Flint\, MI 48507\, and after instruction\, proceed to the Auto City Speedway\, 10205 N Saginaw Rd\, Clio\, MI 48420. \nEquipment Required:     – Department marked police car in proper operating condition \n-Uniform of the day (recommended) \n-Duty belt and body armor (recommended) \n□             Loose items must be removed from the trunk and passenger compartments of the vehicles. \n□             No more than two officers per vehicle. \n□             No shorts\, sandals\, or pocket weapons. \nInstructor:          Lieutenant Brian Schroer\, Bay City Department of Public Safety.  Brian earned a Bachelor of Criminal Justice degree from Hilbert College and a Master of Public Administration degree from Central Michigan University.  During his career\, Lieutenant Schroer participated in the Field Training Officer program and serves as an instructor for Emergency Vehicle Operations training.  He was promoted to the rank of      Corporal Accident Investigator in 2009\, to the rank of Sergeant in 2020\, and to the rank of Lieutenant in 2022. \nClass Size:           Limited to 12 \nCost:                      LEORTC Member Licensed Officers – Prepaid \nNon-Member Agencies – $200.00 p/p \nClick here to Register      \nThis training has been registered with MCOLES for the use of PA 302 Law Enforcement Distribution funds. \nThis training is registered as\, “Agency Elected Continuing Professional Education (CPE).” \n  \n 
URL:https://www.leortc.com/event/emergency-vehicle-operation-10/2025-05-20/
LOCATION:Flint Township PD\, 5200 Norko Drive\, Flint Township\, MI\, 48507\, United States
ATTACH;FMTTYPE=image/jpeg:https://www.leortc.com/wp-content/uploads/2016/11/Homepage-header-2-1.jpg
GEO:42.9795036;-83.7789392
X-APPLE-STRUCTURED-LOCATION;VALUE=URI;X-ADDRESS=Flint Township PD 5200 Norko Drive Flint Township MI 48507 United States;X-APPLE-RADIUS=500;X-TITLE=5200 Norko Drive:geo:-83.7789392,42.9795036
END:VEVENT
END:VCALENDAR