BEGIN:VCALENDAR
VERSION:2.0
PRODID:-//LEORTC - Law Enforcement Officers Regional Training Commission - ECPv6.15.20//NONSGML v1.0//EN
CALSCALE:GREGORIAN
METHOD:PUBLISH
X-WR-CALNAME:LEORTC - Law Enforcement Officers Regional Training Commission
X-ORIGINAL-URL:https://www.leortc.com
X-WR-CALDESC:Events for LEORTC - Law Enforcement Officers Regional Training Commission
REFRESH-INTERVAL;VALUE=DURATION:PT1H
X-Robots-Tag:noindex
X-PUBLISHED-TTL:PT1H
BEGIN:VTIMEZONE
TZID:America/Detroit
BEGIN:DAYLIGHT
TZOFFSETFROM:-0500
TZOFFSETTO:-0400
TZNAME:EDT
DTSTART:20240310T070000
END:DAYLIGHT
BEGIN:STANDARD
TZOFFSETFROM:-0400
TZOFFSETTO:-0500
TZNAME:EST
DTSTART:20241103T060000
END:STANDARD
BEGIN:DAYLIGHT
TZOFFSETFROM:-0500
TZOFFSETTO:-0400
TZNAME:EDT
DTSTART:20250309T070000
END:DAYLIGHT
BEGIN:STANDARD
TZOFFSETFROM:-0400
TZOFFSETTO:-0500
TZNAME:EST
DTSTART:20251102T060000
END:STANDARD
BEGIN:DAYLIGHT
TZOFFSETFROM:-0500
TZOFFSETTO:-0400
TZNAME:EDT
DTSTART:20260308T070000
END:DAYLIGHT
BEGIN:STANDARD
TZOFFSETFROM:-0400
TZOFFSETTO:-0500
TZNAME:EST
DTSTART:20261101T060000
END:STANDARD
END:VTIMEZONE
BEGIN:VEVENT
DTSTART;TZID=America/Detroit:20250506T083000
DTEND;TZID=America/Detroit:20250506T163000
DTSTAMP:20260424T230940
CREATED:20250205T153102Z
LAST-MODIFIED:20250213T202931Z
UID:10000568-1746520200-1746549000@www.leortc.com
SUMMARY:Emergency Vehicle Operation
DESCRIPTION:This 1-day hand-on refresher course provides a review of the laws and policies related to emergency vehicle operation\, pursuits\, and the proper course of action based on related circumstances.  This training should be taken by officers that have not had the course within the last three years. \n\n\n\n \n\n\n\nStudents are required to attend all class hours and successfully complete the course to receive a certificate. \nParticipants will start the day/classroom portion at the Flint Township Police Department\, 5200 Norko Drive\, Flint\, MI 48507\, and after instruction\, proceed to the Auto City Speedway\, 10205 N Saginaw Rd\, Clio\, MI 48420. \nEquipment Required:     – Department marked police car in proper operating condition \n-Uniform of the day (recommended) \n-Duty belt and body armor (recommended) \n□             Loose items must be removed from the trunk and passenger compartments of the vehicles. \n□             No more than two officers per vehicle. \n□             No shorts\, sandals\, or pocket weapons. \nInstructor:          Lieutenant Brian Schroer\, Bay City Department of Public Safety.  Brian earned a Bachelor of Criminal Justice degree from Hilbert College and a Master of Public Administration degree from Central Michigan University.  During his career\, Lieutenant Schroer participated in the Field Training Officer program and serves as an instructor for Emergency Vehicle Operations training.  He was promoted to the rank of      Corporal Accident Investigator in 2009\, to the rank of Sergeant in 2020\, and to the rank of Lieutenant in 2022. \nClass Size:           Limited to 12 \nCost:                      LEORTC Member Licensed Officers – Prepaid \nNon-Member Agencies – $200.00 p/p \nClick here to Register      \nThis training has been registered with MCOLES for the use of PA 302 Law Enforcement Distribution funds. \nThis training is registered as\, “Agency Elected Continuing Professional Education (CPE).” \n  \n 
URL:https://www.leortc.com/event/emergency-vehicle-operation-10/2025-05-06/
LOCATION:Flint Township PD\, 5200 Norko Drive\, Flint Township\, MI\, 48507\, United States
ATTACH;FMTTYPE=image/jpeg:https://www.leortc.com/wp-content/uploads/2016/11/Homepage-header-2-1.jpg
GEO:42.9795036;-83.7789392
X-APPLE-STRUCTURED-LOCATION;VALUE=URI;X-ADDRESS=Flint Township PD 5200 Norko Drive Flint Township MI 48507 United States;X-APPLE-RADIUS=500;X-TITLE=5200 Norko Drive:geo:-83.7789392,42.9795036
END:VEVENT
BEGIN:VEVENT
DTSTART;TZID=America/Detroit:20250507T083000
DTEND;TZID=America/Detroit:20250507T163000
DTSTAMP:20260424T230940
CREATED:20250114T182246Z
LAST-MODIFIED:20250212T155518Z
UID:10000553-1746606600-1746635400@www.leortc.com
SUMMARY:Digital Crime Scene Photography
DESCRIPTION:This one-day course is designed for crime scene investigators\, police officers\, evidence technicians\, and other personnel who have the responsibility to properly document crime scenes & physical evidence through photography.  This course is geared toward both experienced & inexperienced photographers.  Participants will be provided complete instructions on how to operate their digital camera\, utilize a variety of lighting techniques\, document items in difficult positions\, and document the crime scene. \nCourse Outline: \n\nPhotography fundamentals\nUnderstanding the basic operation of digital cameras\nDigital camera specifics\nLighting techniques\nEvidentiary photography\nCrime scene photography (indoor\, outdoor & vehicles)\n\nHands-On Portion: \n\nTaking a great deal of photographs with a variety of camera settings\nImmediate feedback with image review\n\nRequired Equipment:  Digital camera\, owner’s manual and a tripod \nDate/Time:         Wednesday\, May 7\, 2025\, 8:30am-4:30pm \nLocation:             Flint Township Police Department\, 5200 Norko Drive\, Flint\, 48507 \nCost:                      LEORTC Member Licensed Officer –          Prepaid \nLEORTC Non-Licensed Personnel –            $65.00 p/p \nNon-Member Agencies –                               $130.00 p/p \nInstructor:           Forensic Scientist Keith LaMont\, Director/MSP Bridgeport Laboratory\, has been with the Trace Evidence Unit for 25 years and has experience in: Footwear & Tire Tracks\, Crime Scene Processing\, Arson\, Paint\, Glass\, and Explosive Residue.  He has extensive crime scene experience\, processing over 225 suspicious death crime scenes.  He has a Bachelor of Science from MSU with a major in Forensic Science. \nClick HERE to Register \n“This training has been registered with MCOLES for the use of PA 302 Law Enforcement Distribution funds.” \nThis training is registered as\, “Agency Elected Continuing Professional Education (CPE).”
URL:https://www.leortc.com/event/digital-crime-scene-photography-4/
LOCATION:Flint Township PD\, 5200 Norko Drive\, Flint Township\, MI\, 48507\, United States
GEO:42.9795036;-83.7789392
X-APPLE-STRUCTURED-LOCATION;VALUE=URI;X-ADDRESS=Flint Township PD 5200 Norko Drive Flint Township MI 48507 United States;X-APPLE-RADIUS=500;X-TITLE=5200 Norko Drive:geo:-83.7789392,42.9795036
END:VEVENT
END:VCALENDAR