BEGIN:VCALENDAR
VERSION:2.0
PRODID:-//LEORTC - Law Enforcement Officers Regional Training Commission - ECPv6.15.20//NONSGML v1.0//EN
CALSCALE:GREGORIAN
METHOD:PUBLISH
X-WR-CALNAME:LEORTC - Law Enforcement Officers Regional Training Commission
X-ORIGINAL-URL:https://www.leortc.com
X-WR-CALDESC:Events for LEORTC - Law Enforcement Officers Regional Training Commission
REFRESH-INTERVAL;VALUE=DURATION:PT1H
X-Robots-Tag:noindex
X-PUBLISHED-TTL:PT1H
BEGIN:VTIMEZONE
TZID:America/Detroit
BEGIN:DAYLIGHT
TZOFFSETFROM:-0500
TZOFFSETTO:-0400
TZNAME:EDT
DTSTART:20240310T070000
END:DAYLIGHT
BEGIN:STANDARD
TZOFFSETFROM:-0400
TZOFFSETTO:-0500
TZNAME:EST
DTSTART:20241103T060000
END:STANDARD
BEGIN:DAYLIGHT
TZOFFSETFROM:-0500
TZOFFSETTO:-0400
TZNAME:EDT
DTSTART:20250309T070000
END:DAYLIGHT
BEGIN:STANDARD
TZOFFSETFROM:-0400
TZOFFSETTO:-0500
TZNAME:EST
DTSTART:20251102T060000
END:STANDARD
BEGIN:DAYLIGHT
TZOFFSETFROM:-0500
TZOFFSETTO:-0400
TZNAME:EDT
DTSTART:20260308T070000
END:DAYLIGHT
BEGIN:STANDARD
TZOFFSETFROM:-0400
TZOFFSETTO:-0500
TZNAME:EST
DTSTART:20261101T060000
END:STANDARD
END:VTIMEZONE
BEGIN:VEVENT
DTSTART;TZID=America/Detroit:20250311T080000
DTEND;TZID=America/Detroit:20250311T100000
DTSTAMP:20260425T072456
CREATED:20250203T171937Z
LAST-MODIFIED:20250226T134710Z
UID:10000564-1741680000-1741687200@www.leortc.com
SUMMARY:M.I.L.O. Simulator Training - School Active Shooter
DESCRIPTION:(2-hour training blocks) \nThis course provides various scenarios where officers respond to and react to situations that they may encounter while on duty. Officers interact with computer generated scenarios using verbal commands\, use of cover\, and the use of firearms as needed. Officers are critiqued at the completion of the scenario during the post critical incident reviews. \nGoals and Objectives \n*              Participants will be able to recognize threats\, select appropriate course(s) of action. \n*              Participants will be able to identify themselves when reasonable and give verbal challenges. \n*              Participants will learn the value of cover and concealment and the proper use of them. \n*              Participants will obtain invaluable experience in high stress scenarios which will aid them in their everyday encounters. \n*              Minimum of four scenarios per participant \n*              Various situations which will require participants to utilize: \n1) cover and concealment \n2) commands \n3) possible use of force \nDuty wear required. All firearms will be secured before participating. Safety rules in place for scenarios.  No personal weapons allowed. \nInstructor:         Dunell Chaney retired from the City of Flint Police Department and Mott Community College DPS. He is a MILO/FAAC instructor\, firearms instructor\, and an instructor for the Law Enforcement Regional Training Academy. \nDates/Times:                     Tuesday\, March 11\, 2025\, 8am-10am\, 10am-12pm\, 1pm-3pm\, 3pm-5pm \nLocation:                             Mott Community College – Southern Lakes Branch\, L.E.R.T.A. Building\, 2100 W. Thompson Road\, Fenton\, MI 48430 \nSession size:                       Limited to (4) \nCost:                                      LEORTC Licensed Members – Prepaid \nAll Others $45 p/p \nClick HERE to Register \nWhen registering please indicate which time slot you wish to attend. \n“This training has been registered with MCOLES for the use of PA 302 Law Enforcement Distribution funds.” \nThis training is registered as\, “Agency Elected Continuing Professional Education (CPE).”
URL:https://www.leortc.com/event/m-i-l-o-simulator-training-school-active-shooter-6/2025-03-11/1/
LOCATION:Mott College – Southern Lakes\, 2100 W. Thompson Road\, Fenton\, MI\, 48430\, United States
GEO:42.8642916;-83.7142621
X-APPLE-STRUCTURED-LOCATION;VALUE=URI;X-ADDRESS=Mott College – Southern Lakes 2100 W. Thompson Road Fenton MI 48430 United States;X-APPLE-RADIUS=500;X-TITLE=2100 W. Thompson Road:geo:-83.7142621,42.8642916
END:VEVENT
BEGIN:VEVENT
DTSTART;TZID=America/Detroit:20250311T100000
DTEND;TZID=America/Detroit:20250311T120000
DTSTAMP:20260425T072456
CREATED:20250203T171937Z
LAST-MODIFIED:20250226T134710Z
UID:10000565-1741687200-1741694400@www.leortc.com
SUMMARY:M.I.L.O. Simulator Training - School Active Shooter
DESCRIPTION:(2-hour training blocks) \nThis course provides various scenarios where officers respond to and react to situations that they may encounter while on duty. Officers interact with computer generated scenarios using verbal commands\, use of cover\, and the use of firearms as needed. Officers are critiqued at the completion of the scenario during the post critical incident reviews. \nGoals and Objectives \n*              Participants will be able to recognize threats\, select appropriate course(s) of action. \n*              Participants will be able to identify themselves when reasonable and give verbal challenges. \n*              Participants will learn the value of cover and concealment and the proper use of them. \n*              Participants will obtain invaluable experience in high stress scenarios which will aid them in their everyday encounters. \n*              Minimum of four scenarios per participant \n*              Various situations which will require participants to utilize: \n1) cover and concealment \n2) commands \n3) possible use of force \nDuty wear required. All firearms will be secured before participating. Safety rules in place for scenarios.  No personal weapons allowed. \nInstructor:         Dunell Chaney retired from the City of Flint Police Department and Mott Community College DPS. He is a MILO/FAAC instructor\, firearms instructor\, and an instructor for the Law Enforcement Regional Training Academy. \nDates/Times:                     Tuesday\, March 11\, 2025\, 8am-10am\, 10am-12pm\, 1pm-3pm\, 3pm-5pm \nLocation:                             Mott Community College – Southern Lakes Branch\, L.E.R.T.A. Building\, 2100 W. Thompson Road\, Fenton\, MI 48430 \nSession size:                       Limited to (4) \nCost:                                      LEORTC Licensed Members – Prepaid \nAll Others $45 p/p \nClick HERE to Register \nWhen registering please indicate which time slot you wish to attend. \n“This training has been registered with MCOLES for the use of PA 302 Law Enforcement Distribution funds.” \nThis training is registered as\, “Agency Elected Continuing Professional Education (CPE).”
URL:https://www.leortc.com/event/m-i-l-o-simulator-training-school-active-shooter-6/2025-03-11/2/
LOCATION:Mott College – Southern Lakes\, 2100 W. Thompson Road\, Fenton\, MI\, 48430\, United States
GEO:42.8642916;-83.7142621
X-APPLE-STRUCTURED-LOCATION;VALUE=URI;X-ADDRESS=Mott College – Southern Lakes 2100 W. Thompson Road Fenton MI 48430 United States;X-APPLE-RADIUS=500;X-TITLE=2100 W. Thompson Road:geo:-83.7142621,42.8642916
END:VEVENT
BEGIN:VEVENT
DTSTART;TZID=America/Detroit:20250311T130000
DTEND;TZID=America/Detroit:20250311T150000
DTSTAMP:20260425T072456
CREATED:20250203T171937Z
LAST-MODIFIED:20250226T134710Z
UID:10000566-1741698000-1741705200@www.leortc.com
SUMMARY:M.I.L.O. Simulator Training - School Active Shooter
DESCRIPTION:(2-hour training blocks) \nThis course provides various scenarios where officers respond to and react to situations that they may encounter while on duty. Officers interact with computer generated scenarios using verbal commands\, use of cover\, and the use of firearms as needed. Officers are critiqued at the completion of the scenario during the post critical incident reviews. \nGoals and Objectives \n*              Participants will be able to recognize threats\, select appropriate course(s) of action. \n*              Participants will be able to identify themselves when reasonable and give verbal challenges. \n*              Participants will learn the value of cover and concealment and the proper use of them. \n*              Participants will obtain invaluable experience in high stress scenarios which will aid them in their everyday encounters. \n*              Minimum of four scenarios per participant \n*              Various situations which will require participants to utilize: \n1) cover and concealment \n2) commands \n3) possible use of force \nDuty wear required. All firearms will be secured before participating. Safety rules in place for scenarios.  No personal weapons allowed. \nInstructor:         Dunell Chaney retired from the City of Flint Police Department and Mott Community College DPS. He is a MILO/FAAC instructor\, firearms instructor\, and an instructor for the Law Enforcement Regional Training Academy. \nDates/Times:                     Tuesday\, March 11\, 2025\, 8am-10am\, 10am-12pm\, 1pm-3pm\, 3pm-5pm \nLocation:                             Mott Community College – Southern Lakes Branch\, L.E.R.T.A. Building\, 2100 W. Thompson Road\, Fenton\, MI 48430 \nSession size:                       Limited to (4) \nCost:                                      LEORTC Licensed Members – Prepaid \nAll Others $45 p/p \nClick HERE to Register \nWhen registering please indicate which time slot you wish to attend. \n“This training has been registered with MCOLES for the use of PA 302 Law Enforcement Distribution funds.” \nThis training is registered as\, “Agency Elected Continuing Professional Education (CPE).”
URL:https://www.leortc.com/event/m-i-l-o-simulator-training-school-active-shooter-6/2025-03-11/3/
LOCATION:Mott College – Southern Lakes\, 2100 W. Thompson Road\, Fenton\, MI\, 48430\, United States
GEO:42.8642916;-83.7142621
X-APPLE-STRUCTURED-LOCATION;VALUE=URI;X-ADDRESS=Mott College – Southern Lakes 2100 W. Thompson Road Fenton MI 48430 United States;X-APPLE-RADIUS=500;X-TITLE=2100 W. Thompson Road:geo:-83.7142621,42.8642916
END:VEVENT
BEGIN:VEVENT
DTSTART;TZID=America/Detroit:20250311T150000
DTEND;TZID=America/Detroit:20250311T170000
DTSTAMP:20260425T072456
CREATED:20250203T171937Z
LAST-MODIFIED:20250226T134710Z
UID:10000567-1741705200-1741712400@www.leortc.com
SUMMARY:M.I.L.O. Simulator Training - School Active Shooter
DESCRIPTION:(2-hour training blocks) \nThis course provides various scenarios where officers respond to and react to situations that they may encounter while on duty. Officers interact with computer generated scenarios using verbal commands\, use of cover\, and the use of firearms as needed. Officers are critiqued at the completion of the scenario during the post critical incident reviews. \nGoals and Objectives \n*              Participants will be able to recognize threats\, select appropriate course(s) of action. \n*              Participants will be able to identify themselves when reasonable and give verbal challenges. \n*              Participants will learn the value of cover and concealment and the proper use of them. \n*              Participants will obtain invaluable experience in high stress scenarios which will aid them in their everyday encounters. \n*              Minimum of four scenarios per participant \n*              Various situations which will require participants to utilize: \n1) cover and concealment \n2) commands \n3) possible use of force \nDuty wear required. All firearms will be secured before participating. Safety rules in place for scenarios.  No personal weapons allowed. \nInstructor:         Dunell Chaney retired from the City of Flint Police Department and Mott Community College DPS. He is a MILO/FAAC instructor\, firearms instructor\, and an instructor for the Law Enforcement Regional Training Academy. \nDates/Times:                     Tuesday\, March 11\, 2025\, 8am-10am\, 10am-12pm\, 1pm-3pm\, 3pm-5pm \nLocation:                             Mott Community College – Southern Lakes Branch\, L.E.R.T.A. Building\, 2100 W. Thompson Road\, Fenton\, MI 48430 \nSession size:                       Limited to (4) \nCost:                                      LEORTC Licensed Members – Prepaid \nAll Others $45 p/p \nClick HERE to Register \nWhen registering please indicate which time slot you wish to attend. \n“This training has been registered with MCOLES for the use of PA 302 Law Enforcement Distribution funds.” \nThis training is registered as\, “Agency Elected Continuing Professional Education (CPE).”
URL:https://www.leortc.com/event/m-i-l-o-simulator-training-school-active-shooter-6/2025-03-11/4/
LOCATION:Mott College – Southern Lakes\, 2100 W. Thompson Road\, Fenton\, MI\, 48430\, United States
GEO:42.8642916;-83.7142621
X-APPLE-STRUCTURED-LOCATION;VALUE=URI;X-ADDRESS=Mott College – Southern Lakes 2100 W. Thompson Road Fenton MI 48430 United States;X-APPLE-RADIUS=500;X-TITLE=2100 W. Thompson Road:geo:-83.7142621,42.8642916
END:VEVENT
BEGIN:VEVENT
DTSTART;TZID=America/Detroit:20250312T083000
DTEND;TZID=America/Detroit:20250312T123000
DTSTAMP:20260425T072456
CREATED:20241112T164435Z
LAST-MODIFIED:20250122T183052Z
UID:10000540-1741768200-1741782600@www.leortc.com
SUMMARY:Autism Training for 1st Responders
DESCRIPTION:Course Description: This training session will focus on defining autism\, recognizing autism in the field\, and strategies for interacting and engaging with people with autism. The three most common\, high-risk calls involving people with autism will be presented and discussed as well as criminal justice contact trends and interview techniques. Information specific to fire\, EMS\, and emergency room personnel is included. The training session is presented through multimedia images\, audiovisual video\, lectures\, and handouts. Case examples will be discussed. \nInstructors: Drs. Christine Kenney and Melissa Sreckovic are associate professors at the University of Michigan-Flint in the Education Department. Dr. Sreckovic earned her Ph.D. from the University of North Carolina at Chapel Hill in Special Education with a focus on autism spectrum disorders and her MA from Michigan State University in Special Education and Literacy. Dr. Kenney earned her Ph.D. from the University of Michigan in Language\, Literacy\, and Culture and her MA from Eastern Michigan University in Early Childhood Education with a focus on Special Education. Drs. Sreckovic and Kenney have worked with individuals with autism for more than 15 years\, including young children\, adolescents\, and adults. Most of their work with individuals with autism has been in school settings\, but they have also supported individuals with autism in clinical and residential settings. They combine their expertise and passion for autism with their knowledge and experience in adult learning strategies. \nDate:                March 12\, 2025 (Wednesday) \nTime:               8:30am-12:30pm \nLocation:         Flint Township Police Department Training Center\, 5200 Norko Drive\, Flint\, MI 48507   \nCost:                 MCOLES Licensed Members-Free \nNon-licensed Members – $35 \nAll Others – $75 per person \nClick HERE to Register \n“This training has been registered with MCOLES for the use of PA 302 Law Enforcement Distribution funds.” \nThis training is registered as\, “Agency Mandatory Continuing Professional Education (CPE).”
URL:https://www.leortc.com/event/autism-training-for-1st-responders-2/
LOCATION:Flint Township PD\, 5200 Norko Drive\, Flint Township\, MI\, 48507\, United States
ATTACH;FMTTYPE=image/jpeg:https://www.leortc.com/wp-content/uploads/2017/05/autism.jpg
GEO:42.9795036;-83.7789392
X-APPLE-STRUCTURED-LOCATION;VALUE=URI;X-ADDRESS=Flint Township PD 5200 Norko Drive Flint Township MI 48507 United States;X-APPLE-RADIUS=500;X-TITLE=5200 Norko Drive:geo:-83.7789392,42.9795036
END:VEVENT
BEGIN:VEVENT
DTSTART;TZID=America/Detroit:20250313T083000
DTEND;TZID=America/Detroit:20250313T123000
DTSTAMP:20260425T072456
CREATED:20250127T154438Z
LAST-MODIFIED:20250127T154438Z
UID:10000562-1741854600-1741869000@www.leortc.com
SUMMARY:Legal Update
DESCRIPTION:Will include Interrogations\, Cell Phone Search and Seizure\, Statutory and Criminal Procedures \nThis seminar will include a review of current legislation affecting law enforcement as well as an update on Search & Seizure\, Laws of Arrest\, Interviews\, and Search Warrant issues.  Incorporated within the framework of this training will be a Laws of Arrest refresher and a review of related statutes. \n\n\n\nYou are encouraged to forward any question or issue(s) you would like addressed by the presenters to the LEORTC and they will be covered in the seminar.  Please send a separate email message and/or call us with your issue or question. \n\n\n\n  \nDate:                         March 13\, 2025 (Thursday) \nTime:                         8:30 am-12:30 pm \nLocation:                  Mott Community College – Southern Lakes Branch\, 2100 W. Thompson Road Room 1009\, Fenton\, MI 48430 \nClass Size:                Limited to 75 \nCost:                          LEORTC Licensed Members – Prepaid \nAll Others:               $75 p/p \nPresenter(s):           Chief Assistant Prosecuting Attorney Tammy Phillips \nClick HERE to Register \n“This training has been registered with MCOLES for the use of PA 302 Law Enforcement Distribution funds.” \nThis training is registered as\, “Agency Elected Continuing Professional Education (CPE).”
URL:https://www.leortc.com/event/legal-update-5/
LOCATION:Mott College – Southern Lakes\, 2100 W. Thompson Road\, Fenton\, MI\, 48430\, United States
ATTACH;FMTTYPE=image/jpeg:https://www.leortc.com/wp-content/uploads/2017/05/legal-update.jpg
GEO:42.8642916;-83.7142621
X-APPLE-STRUCTURED-LOCATION;VALUE=URI;X-ADDRESS=Mott College – Southern Lakes 2100 W. Thompson Road Fenton MI 48430 United States;X-APPLE-RADIUS=500;X-TITLE=2100 W. Thompson Road:geo:-83.7142621,42.8642916
END:VEVENT
BEGIN:VEVENT
DTSTART;TZID=America/Detroit:20250314T083000
DTEND;TZID=America/Detroit:20250314T163000
DTSTAMP:20260425T072456
CREATED:20250121T141657Z
LAST-MODIFIED:20250311T151319Z
UID:10000555-1741941000-1741969800@www.leortc.com
SUMMARY:Trace Evidence Collection - THIS CLASS WAS MOVED TO MAY 29\, 2025
DESCRIPTION:This course will provide participants with an understanding of how the collection of trace evidence at crime scenes; to include autopsies and vehicle processing\, on a routine basis can aid in successful criminal investigations.  Trace evidence becomes particularly valuable in cases where latent prints and DNA fail to provide an identification of a suspect.  Emphasis will be placed on the proper techniques for collection and packaging of trace evidence.  Case studies will be presented\, and hands-on collection methods will be practiced.\n\n\n\nTopics Include: \n\nLocard’s Exchange Theory\nFiber Transfer\nPaint Transfer\nPhysical Match\nGlass\nFire Debris\nMiscellaneous/Unknown\nFootwear (as time permits)\n\n  \nInstructor:   Paris Pritchard is a Forensic Scientist assigned to the Michigan State Police- Trace Evidence Unit in Northville\, Michigan.  She has a Bachelor of Science Degree in Biology from Howard University in Washington D.C.  and a Post-Bachelors Crime Laboratory Training Certificate from Madonna University. \nLocation:  Mott Community College – Southern Lakes Branch\, 2100 W. Thompson Road\, Fenton\, MI 48430 \nClass Size:    Limited to 25 \nCost:             LEORTC Licensed Personnel – Prepaid           Non-Licensed Members – $65 per/person \n                       All Others – $130 per/person \nClick HERE to Register \n“This training has been registered with MCOLES for the use of PA 302 Law Enforcement Distribution funds.” \nThis training is registered as\, “Agency Elected Continuing Professional Education (CPE).”
URL:https://www.leortc.com/event/trace-evidence-collection-3/
LOCATION:Mott College – Southern Lakes\, 2100 W. Thompson Road\, Fenton\, MI\, 48430\, United States
GEO:42.8642916;-83.7142621
X-APPLE-STRUCTURED-LOCATION;VALUE=URI;X-ADDRESS=Mott College – Southern Lakes 2100 W. Thompson Road Fenton MI 48430 United States;X-APPLE-RADIUS=500;X-TITLE=2100 W. Thompson Road:geo:-83.7142621,42.8642916
END:VEVENT
END:VCALENDAR