BEGIN:VCALENDAR
VERSION:2.0
PRODID:-//LEORTC - Law Enforcement Officers Regional Training Commission - ECPv6.15.20//NONSGML v1.0//EN
CALSCALE:GREGORIAN
METHOD:PUBLISH
X-WR-CALNAME:LEORTC - Law Enforcement Officers Regional Training Commission
X-ORIGINAL-URL:https://www.leortc.com
X-WR-CALDESC:Events for LEORTC - Law Enforcement Officers Regional Training Commission
REFRESH-INTERVAL;VALUE=DURATION:PT1H
X-Robots-Tag:noindex
X-PUBLISHED-TTL:PT1H
BEGIN:VTIMEZONE
TZID:America/Detroit
BEGIN:DAYLIGHT
TZOFFSETFROM:-0500
TZOFFSETTO:-0400
TZNAME:EDT
DTSTART:20240310T070000
END:DAYLIGHT
BEGIN:STANDARD
TZOFFSETFROM:-0400
TZOFFSETTO:-0500
TZNAME:EST
DTSTART:20241103T060000
END:STANDARD
BEGIN:DAYLIGHT
TZOFFSETFROM:-0500
TZOFFSETTO:-0400
TZNAME:EDT
DTSTART:20250309T070000
END:DAYLIGHT
BEGIN:STANDARD
TZOFFSETFROM:-0400
TZOFFSETTO:-0500
TZNAME:EST
DTSTART:20251102T060000
END:STANDARD
BEGIN:DAYLIGHT
TZOFFSETFROM:-0500
TZOFFSETTO:-0400
TZNAME:EDT
DTSTART:20260308T070000
END:DAYLIGHT
BEGIN:STANDARD
TZOFFSETFROM:-0400
TZOFFSETTO:-0500
TZNAME:EST
DTSTART:20261101T060000
END:STANDARD
END:VTIMEZONE
BEGIN:VEVENT
DTSTART;TZID=America/Detroit:20250121T083000
DTEND;TZID=America/Detroit:20250121T123000
DTSTAMP:20260425T145648
CREATED:20241218T163116Z
LAST-MODIFIED:20241218T163116Z
UID:10000543-1737448200-1737462600@www.leortc.com
SUMMARY:Legal Update
DESCRIPTION:Will include Interrogations\, Cell Phone Search and Seizure\, Statutory and Criminal Procedures \nThis seminar will include a review of current legislation affecting law enforcement as well as an update on Search & Seizure\, Laws of Arrest\, Interviews\, and Search Warrant issues.  Incorporated within the framework of this training will be a Laws of Arrest refresher and a review of related statutes. \n\n\n\nYou are encouraged to forward any question or issue(s) you would like addressed by the presenters to the LEORTC and they will be covered in the seminar.  Please send a separate email message and/or call us with your issue or question. \n\n\n\n  \nDate:                         January 21\, 2025 (Tuesday) \nTime:                         8:30 am-12:30 pm \nLocation:                  Flint Township Police Department\, 5200 Norko Drive\, Flint\, Michigan\, 48507 \nClass Size:                Limited to 30 \nCost:                          LEORTC Licensed Members – Prepaid \nAll Others:               $75 p/p \nPresenter(s):           Chief Assistant Prosecuting Attorney Tammy Phillips \nClick HERE to Register \n“This training has been registered with MCOLES for the use of PA 302 Law Enforcement Distribution funds.” \nThis training is registered as\, “Agency Elected Continuing Professional Education (CPE).”
URL:https://www.leortc.com/event/legal-update-4/
LOCATION:Flint Township PD\, 5200 Norko Drive\, Flint Township\, MI\, 48507\, United States
ATTACH;FMTTYPE=image/jpeg:https://www.leortc.com/wp-content/uploads/2017/05/legal-update.jpg
GEO:42.9795036;-83.7789392
X-APPLE-STRUCTURED-LOCATION;VALUE=URI;X-ADDRESS=Flint Township PD 5200 Norko Drive Flint Township MI 48507 United States;X-APPLE-RADIUS=500;X-TITLE=5200 Norko Drive:geo:-83.7789392,42.9795036
END:VEVENT
END:VCALENDAR