BEGIN:VCALENDAR
VERSION:2.0
PRODID:-//LEORTC - Law Enforcement Officers Regional Training Commission - ECPv6.15.20//NONSGML v1.0//EN
CALSCALE:GREGORIAN
METHOD:PUBLISH
X-WR-CALNAME:LEORTC - Law Enforcement Officers Regional Training Commission
X-ORIGINAL-URL:https://www.leortc.com
X-WR-CALDESC:Events for LEORTC - Law Enforcement Officers Regional Training Commission
REFRESH-INTERVAL;VALUE=DURATION:PT1H
X-Robots-Tag:noindex
X-PUBLISHED-TTL:PT1H
BEGIN:VTIMEZONE
TZID:America/Detroit
BEGIN:DAYLIGHT
TZOFFSETFROM:-0500
TZOFFSETTO:-0400
TZNAME:EDT
DTSTART:20230312T070000
END:DAYLIGHT
BEGIN:STANDARD
TZOFFSETFROM:-0400
TZOFFSETTO:-0500
TZNAME:EST
DTSTART:20231105T060000
END:STANDARD
BEGIN:DAYLIGHT
TZOFFSETFROM:-0500
TZOFFSETTO:-0400
TZNAME:EDT
DTSTART:20240310T070000
END:DAYLIGHT
BEGIN:STANDARD
TZOFFSETFROM:-0400
TZOFFSETTO:-0500
TZNAME:EST
DTSTART:20241103T060000
END:STANDARD
BEGIN:DAYLIGHT
TZOFFSETFROM:-0500
TZOFFSETTO:-0400
TZNAME:EDT
DTSTART:20250309T070000
END:DAYLIGHT
BEGIN:STANDARD
TZOFFSETFROM:-0400
TZOFFSETTO:-0500
TZNAME:EST
DTSTART:20251102T060000
END:STANDARD
END:VTIMEZONE
BEGIN:VEVENT
DTSTART;TZID=America/Detroit:20241216T083000
DTEND;TZID=America/Detroit:20241219T163000
DTSTAMP:20260425T181040
CREATED:20240806T163422Z
LAST-MODIFIED:20240806T163422Z
UID:10000519-1734337800-1734625800@www.leortc.com
SUMMARY:Basic FTO Course
DESCRIPTION:This 3.5-day course is designed to provide knowledge and training to develop Field Training Officers’ skills.  Each new FTO will be presented with ideas and techniques to assist them in becoming more professional and confident in the application of their skills.  This course is based on a modified “San Jose” program.  Upon completion the FTO will be able to: \n\nDiscuss the “San Jose” and other program models\nIdentify demands on FTOs as Instructors\nList five of the errors in rating\nUnderstand the basics of Adult Learning Theory\nIdentify liability issues\nUnderstand performance evaluations\nInstruct from Training Briefs\nUnderstand the Rating Scale and Reference Numbers\nComplete the Daily Observation Report\nDevelop a Scenario and additional Training Plans\nUnderstand the purpose of program management and control\n\nInstructor:  Steven Kellams of FTO Solutions.  Steven Kellams retired from the Bloomington Police Department after 27 years of service. His last rank was as the Administrative Captain. In 2000\, then Lieutenant Kellams was instrumental in redesigning the field training program for the Bloomington\, Indiana Police Department and has taught that program to hundreds of departments throughout the United States.  He has also instructed on field training issues at the national level when he presented courses at four National Association of Field Training Officers conferences\, most recently in 2011.  In 2005\, then Lieutenant Kellams was awarded the Law Enforcement Officer of the Year for Monroe County\, IN for his work with the Bloomington Police Department’s Field Training Program.  He was elected to the national NAFTO Executive Board and served as President in 2009. \nDates:             December 16th\, 17th\, 18th\, & 19th\, 2024\, 8:30am – 4:30pm daily (except 8:30am-12:30 pm on last day) \nLocation:        Grand Blanc Township Police Department\, 5405 S. Saginaw Street\, Grand Blanc\, MI 48439          \nCost:               LEORTC Member Licensed Officers – Prepaid \nLEORTC Non-Licensed Personnel-$275 p/p \nNon-Member Agencies – $499.00 p/p \nClick HERE to Register \n“This training has been registered with MCOLES for the use of PA 302 Law Enforcement Distribution funds.”
URL:https://www.leortc.com/event/basic-fto-course-4/
LOCATION:Grand Blanc Twp. Police Dept.\, 5405 S. Saginaw Street\, Grand Blanc\, MI\, 48439\, United States
ATTACH;FMTTYPE=image/jpeg:https://www.leortc.com/wp-content/uploads/2021/04/stevekellams3-.jpg
GEO:42.9517587;-83.6570074
X-APPLE-STRUCTURED-LOCATION;VALUE=URI;X-ADDRESS=Grand Blanc Twp. Police Dept. 5405 S. Saginaw Street Grand Blanc MI 48439 United States;X-APPLE-RADIUS=500;X-TITLE=5405 S. Saginaw Street:geo:-83.6570074,42.9517587
END:VEVENT
END:VCALENDAR