BEGIN:VCALENDAR
VERSION:2.0
PRODID:-//LEORTC - Law Enforcement Officers Regional Training Commission - ECPv6.15.20//NONSGML v1.0//EN
CALSCALE:GREGORIAN
METHOD:PUBLISH
X-ORIGINAL-URL:https://www.leortc.com
X-WR-CALDESC:Events for LEORTC - Law Enforcement Officers Regional Training Commission
REFRESH-INTERVAL;VALUE=DURATION:PT1H
X-Robots-Tag:noindex
X-PUBLISHED-TTL:PT1H
BEGIN:VTIMEZONE
TZID:America/Detroit
BEGIN:DAYLIGHT
TZOFFSETFROM:-0500
TZOFFSETTO:-0400
TZNAME:EDT
DTSTART:20230312T070000
END:DAYLIGHT
BEGIN:STANDARD
TZOFFSETFROM:-0400
TZOFFSETTO:-0500
TZNAME:EST
DTSTART:20231105T060000
END:STANDARD
BEGIN:DAYLIGHT
TZOFFSETFROM:-0500
TZOFFSETTO:-0400
TZNAME:EDT
DTSTART:20240310T070000
END:DAYLIGHT
BEGIN:STANDARD
TZOFFSETFROM:-0400
TZOFFSETTO:-0500
TZNAME:EST
DTSTART:20241103T060000
END:STANDARD
BEGIN:DAYLIGHT
TZOFFSETFROM:-0500
TZOFFSETTO:-0400
TZNAME:EDT
DTSTART:20250309T070000
END:DAYLIGHT
BEGIN:STANDARD
TZOFFSETFROM:-0400
TZOFFSETTO:-0500
TZNAME:EST
DTSTART:20251102T060000
END:STANDARD
END:VTIMEZONE
BEGIN:VEVENT
DTSTART;TZID=America/Detroit:20241106T083000
DTEND;TZID=America/Detroit:20241106T123000
DTSTAMP:20260425T194231
CREATED:20240827T123135Z
LAST-MODIFIED:20240827T123135Z
UID:10000523-1730881800-1730896200@www.leortc.com
SUMMARY:Autism Training For 1st Responders
DESCRIPTION:Course Description: This training session will focus on defining autism\, recognizing autism in the field\, and strategies for interacting and engaging with people with autism. The three most common\, high-risk calls involving people with autism will be presented and discussed as well as criminal justice contact trends and interview techniques. Information specific to fire\, EMS\, and emergency room personnel is included. The training session is presented through multimedia images\, audiovisual video\, lectures\, and handouts. Case examples will be discussed. \nInstructors: Drs. Christine Kenney and Melissa Sreckovic are associate professors at the University of Michigan-Flint in the Education Department. Dr. Sreckovic earned her Ph.D. from the University of North Carolina at Chapel Hill in Special Education with a focus on autism spectrum disorders and her MA from Michigan State University in Special Education and Literacy. Dr. Kenney earned her Ph.D. from the University of Michigan in Language\, Literacy\, and Culture and her MA from Eastern Michigan University in Early Childhood Education with a focus on Special Education. Drs. Sreckovic and Kenney have worked with individuals with autism for more than 15 years\, including young children\, adolescents\, and adults. Most of their work with individuals with autism has been in school settings\, but they have also supported individuals with autism in clinical and residential settings. They combine their expertise and passion for autism with their knowledge and experience in adult learning strategies. \nDate:                November 6\, 2024 (Wednesday) \nTime:               8:30am-12:30pm \nLocation:         Flint Township Police Department Training Center\, 5200 Norko Drive\, Flint\, MI 48507   \nCost:                 MCOLES Licensed Members-Free \nNon-licensed Members – $35 \nAll Others – $75 per person \nClick HERE to Register \n“This training has been registered with MCOLES for the use of PA 302 Law Enforcement Distribution funds.”
URL:https://www.leortc.com/event/autism-training-for-1st-responders/
LOCATION:Flint Township PD\, 5200 Norko Drive\, Flint Township\, MI\, 48507\, United States
ATTACH;FMTTYPE=image/jpeg:https://www.leortc.com/wp-content/uploads/2017/05/autism.jpg
GEO:42.9795036;-83.7789392
X-APPLE-STRUCTURED-LOCATION;VALUE=URI;X-ADDRESS=Flint Township PD 5200 Norko Drive Flint Township MI 48507 United States;X-APPLE-RADIUS=500;X-TITLE=5200 Norko Drive:geo:-83.7789392,42.9795036
END:VEVENT
BEGIN:VEVENT
DTSTART;TZID=America/Detroit:20241107T083000
DTEND;TZID=America/Detroit:20241107T163000
DTSTAMP:20260425T194231
CREATED:20240318T151725Z
LAST-MODIFIED:20240318T151725Z
UID:10000504-1730968200-1730997000@www.leortc.com
SUMMARY:Sovereign Citizens & First Amendment Auditors
DESCRIPTION:This dynamic and immersive training will focus on sovereign citizens and their rapidly increasing problematic contact with all forms of government\, with a specific focus on interactions with law enforcement and criminal justice personnel. Basic awareness of this growing threat and how it will directly impact the daily duties and responsibilities of law enforcement and other government entities will be discussed at length. Attendees should expect a general “indoctrination” into the sovereign citizen movement to help further awareness\, recognition and mitigation of this unconventional and bothersome problem. \n—————————————————– \nAdditionally\, a significant portion of training will cover First Amendment Auditors\, their goals and tactics\, and best practices when encountered by law enforcement and other government officials. \nTopics covered and course focus: \n\nLearn the fundamental principles of the sovereign citizen movement\, including ideological beliefs\, pillars\, doctrines\, tactics\, and goals\nIdentify sovereign indicators through language identification and document recognition \nPaper Terrorism through false liens and lawsuits\nCourtroom behavior/tactics\nAttendees will be taught to recognize common militia ideology\, activity\, tactics and symbology \nBoogaloo and III% ideologies\nAnti-government views pertaining to gun rights\, land rights\, and government mandates \nWho are Auditors and what do they want?\nBest practices for professional and safe encounters when engaging with First Amendment Auditors \nThreat actors with anti-law enforcement beliefs\n\n  \nInstructor: Rob Finch\, Proactive Consulting\, Inc. \nRob Finch is a current North Carolina Detective and decorated investigator with over 18 years experience working in a large criminal intelligence unit. Since 2010\, Rob has used his dynamic and engaging teaching style to train thousands of law enforcements professionals throughout the United States. \nDate & Time \nThursday\, November 7\, 2024\, 8:30am-4:30pm \nLocation \nMott Community College Southern Lakes Branch Center\, 2100 W. Thompson Road\, Room 1009\, Fenton\, MI 48430 \nCost \nLEORTC Licensed Members – Pre-paid     LEORTC Non-licensed Members – $75 p/p \nAll others: $150 p/p \nClick HERE to Register \n“This training has been registered with MCOLES for the use of PA 302 Law Enforcement Distribution funds.”
URL:https://www.leortc.com/event/sovereign-citizens-first-amendment-auditors/
LOCATION:Mott College – Southern Lakes\, 2100 W. Thompson Road\, Fenton\, MI\, 48430\, United States
GEO:42.8642916;-83.7142621
X-APPLE-STRUCTURED-LOCATION;VALUE=URI;X-ADDRESS=Mott College – Southern Lakes 2100 W. Thompson Road Fenton MI 48430 United States;X-APPLE-RADIUS=500;X-TITLE=2100 W. Thompson Road:geo:-83.7142621,42.8642916
END:VEVENT
END:VCALENDAR