BEGIN:VCALENDAR
VERSION:2.0
PRODID:-//LEORTC - Law Enforcement Officers Regional Training Commission - ECPv6.15.20//NONSGML v1.0//EN
CALSCALE:GREGORIAN
METHOD:PUBLISH
X-ORIGINAL-URL:https://www.leortc.com
X-WR-CALDESC:Events for LEORTC - Law Enforcement Officers Regional Training Commission
REFRESH-INTERVAL;VALUE=DURATION:PT1H
X-Robots-Tag:noindex
X-PUBLISHED-TTL:PT1H
BEGIN:VTIMEZONE
TZID:America/Detroit
BEGIN:DAYLIGHT
TZOFFSETFROM:-0500
TZOFFSETTO:-0400
TZNAME:EDT
DTSTART:20230312T070000
END:DAYLIGHT
BEGIN:STANDARD
TZOFFSETFROM:-0400
TZOFFSETTO:-0500
TZNAME:EST
DTSTART:20231105T060000
END:STANDARD
BEGIN:DAYLIGHT
TZOFFSETFROM:-0500
TZOFFSETTO:-0400
TZNAME:EDT
DTSTART:20240310T070000
END:DAYLIGHT
BEGIN:STANDARD
TZOFFSETFROM:-0400
TZOFFSETTO:-0500
TZNAME:EST
DTSTART:20241103T060000
END:STANDARD
BEGIN:DAYLIGHT
TZOFFSETFROM:-0500
TZOFFSETTO:-0400
TZNAME:EDT
DTSTART:20250309T070000
END:DAYLIGHT
BEGIN:STANDARD
TZOFFSETFROM:-0400
TZOFFSETTO:-0500
TZNAME:EST
DTSTART:20251102T060000
END:STANDARD
END:VTIMEZONE
BEGIN:VEVENT
DTSTART;TZID=America/Detroit:20241025T083000
DTEND;TZID=America/Detroit:20241025T163000
DTSTAMP:20260425T194208
CREATED:20240124T175812Z
LAST-MODIFIED:20240124T175812Z
UID:10000489-1729845000-1729873800@www.leortc.com
SUMMARY:Biology/DNA Collection & Analysis
DESCRIPTION:Having a basic understanding of evidence collection is an essential responsibility of all law enforcement personnel.  This course is designed for any law enforcement officer or law enforcement civilian that will investigate crimes as either a first responder\, evidence technician\, or investigator.  This course will consist of lectures\, laboratory demonstrations\, and hands-on collection and processing techniques. Participants in this course will: \n\nLearn known proper biological evidence collection techniques.\nUnderstand biological evidence analysis.\nUnderstand packaging and contamination issues.\nRecognize the most probative/valuable evidence for lab examination.\nUnderstand biological evidence collection performed by SANE nurses.\nLearn available resources for vehicle and scene processing.\n\nInstructor:  Amanda Fazi is a DNA analyst for DNA Labs International.  She has over ten years’ experience working as a forensic biologist and crime scene investigator\, with previous experience at the Michigan State Police Northville Crime Lab and the Oakland County Sheriff’s Office Crime Lab.  She has a Bachelor of Science Degree in Biological Sciences from Wayne State University and a Master of Science Degree in Forensic Science (Biology Concentration) from Michigan State University. \nDate/Time:                 Friday\, October 25\, 2024\, 8:30 am – 4:30 pm              \nLocation:                     Grand Blanc Twp. Police Department\, 5405 S. Saginaw Street\, Flint\, MI   48507 \nClass Size:                    Limited to 30 \nCost:                            LEORTC Licensed Member –               Prepaid \nLEORTC Non-Licensed Personnel –     $65.00 p/p \nNon-Member Agencies –                     $130.00 p/p \nClick HERE to Register \n“This training has been registered with MCOLES for the use of PA 302 Law Enforcement Distribution funds.”
URL:https://www.leortc.com/event/biology-dna-collection-analysis/
LOCATION:Grand Blanc Twp. Police Dept.\, 5405 S. Saginaw Street\, Grand Blanc\, MI\, 48439\, United States
ATTACH;FMTTYPE=image/jpeg:https://www.leortc.com/wp-content/uploads/2017/06/Biology-DNA-Collection.jpg
GEO:42.9517587;-83.6570074
X-APPLE-STRUCTURED-LOCATION;VALUE=URI;X-ADDRESS=Grand Blanc Twp. Police Dept. 5405 S. Saginaw Street Grand Blanc MI 48439 United States;X-APPLE-RADIUS=500;X-TITLE=5405 S. Saginaw Street:geo:-83.6570074,42.9517587
END:VEVENT
END:VCALENDAR