BEGIN:VCALENDAR
VERSION:2.0
PRODID:-//LEORTC - Law Enforcement Officers Regional Training Commission - ECPv6.15.20//NONSGML v1.0//EN
CALSCALE:GREGORIAN
METHOD:PUBLISH
X-ORIGINAL-URL:https://www.leortc.com
X-WR-CALDESC:Events for LEORTC - Law Enforcement Officers Regional Training Commission
REFRESH-INTERVAL;VALUE=DURATION:PT1H
X-Robots-Tag:noindex
X-PUBLISHED-TTL:PT1H
BEGIN:VTIMEZONE
TZID:America/Detroit
BEGIN:DAYLIGHT
TZOFFSETFROM:-0500
TZOFFSETTO:-0400
TZNAME:EDT
DTSTART:20230312T070000
END:DAYLIGHT
BEGIN:STANDARD
TZOFFSETFROM:-0400
TZOFFSETTO:-0500
TZNAME:EST
DTSTART:20231105T060000
END:STANDARD
BEGIN:DAYLIGHT
TZOFFSETFROM:-0500
TZOFFSETTO:-0400
TZNAME:EDT
DTSTART:20240310T070000
END:DAYLIGHT
BEGIN:STANDARD
TZOFFSETFROM:-0400
TZOFFSETTO:-0500
TZNAME:EST
DTSTART:20241103T060000
END:STANDARD
BEGIN:DAYLIGHT
TZOFFSETFROM:-0500
TZOFFSETTO:-0400
TZNAME:EDT
DTSTART:20250309T070000
END:DAYLIGHT
BEGIN:STANDARD
TZOFFSETFROM:-0400
TZOFFSETTO:-0500
TZNAME:EST
DTSTART:20251102T060000
END:STANDARD
END:VTIMEZONE
BEGIN:VEVENT
DTSTART;TZID=America/Detroit:20240924T080000
DTEND;TZID=America/Detroit:20240924T120000
DTSTAMP:20260425T213014
CREATED:20240817T142703Z
LAST-MODIFIED:20240817T142703Z
UID:10000521-1727164800-1727179200@www.leortc.com
SUMMARY:SFST Refresher
DESCRIPTION:STANDARD FIELD SOBRIETY TESTING (SFST) REFRESHER \nStandards require that officers are re-certified in SFST every four years if they wish to participate in Grant Funded Alcohol Enforcement Programs. \nThis 4-hour class is mandatory for those that have been trained in SFST prior to 2011 if they wish to keep their SFST certification and eligibility to participate in OHSP funded alcohol enforcement grants.  The class is designed to update and verify an officer’s ability to comply with the proper administration and documentation of field sobriety testing. \nInstructor: Michael O’Brian of the Grand Blanc Township Police Department.\n \nDate and Time:  Two classes will be offered on September 24\, 2024\, 8:00am – 12:00pm or 1:00pm – 5:00pm \nLocation:  Grand Blanc Township Police Department\, 5405 S. Saginaw Street\, Grand Blanc\, MI 48439 \nLimited Seating:  There are only 16 seats available for this training. \nCost:  No Cost for MCOLES Licensed Officers \nTo Register:  You must register through MITRAIN \nClick here to Register                                     for MITRAIN \nMI-Train Course Number: 1049109
URL:https://www.leortc.com/event/sfst-refresher/2024-09-24/1/
LOCATION:Grand Blanc Twp. Police Dept.\, 5405 S. Saginaw Street\, Grand Blanc\, MI\, 48439\, United States
ATTACH;FMTTYPE=image/jpeg:https://www.leortc.com/wp-content/uploads/2017/05/OWI_Pyramid_400136_7.jpg
GEO:42.9517587;-83.6570074
X-APPLE-STRUCTURED-LOCATION;VALUE=URI;X-ADDRESS=Grand Blanc Twp. Police Dept. 5405 S. Saginaw Street Grand Blanc MI 48439 United States;X-APPLE-RADIUS=500;X-TITLE=5405 S. Saginaw Street:geo:-83.6570074,42.9517587
END:VEVENT
BEGIN:VEVENT
DTSTART;TZID=America/Detroit:20240924T130000
DTEND;TZID=America/Detroit:20240924T170000
DTSTAMP:20260425T213014
CREATED:20240817T142703Z
LAST-MODIFIED:20240817T142703Z
UID:10000522-1727182800-1727197200@www.leortc.com
SUMMARY:SFST Refresher
DESCRIPTION:STANDARD FIELD SOBRIETY TESTING (SFST) REFRESHER \nStandards require that officers are re-certified in SFST every four years if they wish to participate in Grant Funded Alcohol Enforcement Programs. \nThis 4-hour class is mandatory for those that have been trained in SFST prior to 2011 if they wish to keep their SFST certification and eligibility to participate in OHSP funded alcohol enforcement grants.  The class is designed to update and verify an officer’s ability to comply with the proper administration and documentation of field sobriety testing. \nInstructor: Michael O’Brian of the Grand Blanc Township Police Department.\n \nDate and Time:  Two classes will be offered on September 24\, 2024\, 8:00am – 12:00pm or 1:00pm – 5:00pm \nLocation:  Grand Blanc Township Police Department\, 5405 S. Saginaw Street\, Grand Blanc\, MI 48439 \nLimited Seating:  There are only 16 seats available for this training. \nCost:  No Cost for MCOLES Licensed Officers \nTo Register:  You must register through MITRAIN \nClick here to Register                                     for MITRAIN \nMI-Train Course Number: 1049109
URL:https://www.leortc.com/event/sfst-refresher/2024-09-24/2/
LOCATION:Grand Blanc Twp. Police Dept.\, 5405 S. Saginaw Street\, Grand Blanc\, MI\, 48439\, United States
ATTACH;FMTTYPE=image/jpeg:https://www.leortc.com/wp-content/uploads/2017/05/OWI_Pyramid_400136_7.jpg
GEO:42.9517587;-83.6570074
X-APPLE-STRUCTURED-LOCATION;VALUE=URI;X-ADDRESS=Grand Blanc Twp. Police Dept. 5405 S. Saginaw Street Grand Blanc MI 48439 United States;X-APPLE-RADIUS=500;X-TITLE=5405 S. Saginaw Street:geo:-83.6570074,42.9517587
END:VEVENT
END:VCALENDAR