BEGIN:VCALENDAR
VERSION:2.0
PRODID:-//LEORTC - Law Enforcement Officers Regional Training Commission - ECPv6.15.20//NONSGML v1.0//EN
CALSCALE:GREGORIAN
METHOD:PUBLISH
X-WR-CALNAME:LEORTC - Law Enforcement Officers Regional Training Commission
X-ORIGINAL-URL:https://www.leortc.com
X-WR-CALDESC:Events for LEORTC - Law Enforcement Officers Regional Training Commission
REFRESH-INTERVAL;VALUE=DURATION:PT1H
X-Robots-Tag:noindex
X-PUBLISHED-TTL:PT1H
BEGIN:VTIMEZONE
TZID:America/Detroit
BEGIN:DAYLIGHT
TZOFFSETFROM:-0500
TZOFFSETTO:-0400
TZNAME:EDT
DTSTART:20250309T070000
END:DAYLIGHT
BEGIN:STANDARD
TZOFFSETFROM:-0400
TZOFFSETTO:-0500
TZNAME:EST
DTSTART:20251102T060000
END:STANDARD
BEGIN:DAYLIGHT
TZOFFSETFROM:-0500
TZOFFSETTO:-0400
TZNAME:EDT
DTSTART:20260308T070000
END:DAYLIGHT
BEGIN:STANDARD
TZOFFSETFROM:-0400
TZOFFSETTO:-0500
TZNAME:EST
DTSTART:20261101T060000
END:STANDARD
BEGIN:DAYLIGHT
TZOFFSETFROM:-0500
TZOFFSETTO:-0400
TZNAME:EDT
DTSTART:20270314T070000
END:DAYLIGHT
BEGIN:STANDARD
TZOFFSETFROM:-0400
TZOFFSETTO:-0500
TZNAME:EST
DTSTART:20271107T060000
END:STANDARD
END:VTIMEZONE
BEGIN:VTIMEZONE
TZID:America/New_York
BEGIN:DAYLIGHT
TZOFFSETFROM:-0500
TZOFFSETTO:-0400
TZNAME:EDT
DTSTART:20250309T070000
END:DAYLIGHT
BEGIN:STANDARD
TZOFFSETFROM:-0400
TZOFFSETTO:-0500
TZNAME:EST
DTSTART:20251102T060000
END:STANDARD
BEGIN:DAYLIGHT
TZOFFSETFROM:-0500
TZOFFSETTO:-0400
TZNAME:EDT
DTSTART:20260308T070000
END:DAYLIGHT
BEGIN:STANDARD
TZOFFSETFROM:-0400
TZOFFSETTO:-0500
TZNAME:EST
DTSTART:20261101T060000
END:STANDARD
BEGIN:DAYLIGHT
TZOFFSETFROM:-0500
TZOFFSETTO:-0400
TZNAME:EDT
DTSTART:20270314T070000
END:DAYLIGHT
BEGIN:STANDARD
TZOFFSETFROM:-0400
TZOFFSETTO:-0500
TZNAME:EST
DTSTART:20271107T060000
END:STANDARD
END:VTIMEZONE
BEGIN:VEVENT
DTSTART;TZID=America/Detroit:20260908T083000
DTEND;TZID=America/Detroit:20260908T163000
DTSTAMP:20260424T130310
CREATED:20260112T184658Z
LAST-MODIFIED:20260112T184658Z
UID:10000639-1788856200-1788885000@www.leortc.com
SUMMARY:Emergency Vehicle Operation
DESCRIPTION:This 1-day hand-on refresher course provides a review of the laws and policies related to emergency vehicle operation\, pursuits\, and the proper course of action based on related circumstances.  This training should be taken by officers that have not had the course within the last three years. \nStudents are required to attend all class hours and successfully complete the course to receive a certificate. \nParticipants will start the day/classroom portion at the Flint Township Police Department\, 5200 Norko Drive\, Flint\, MI 48507\, and after instruction\, proceed to the Auto City Speedway\, 10205 N Saginaw Rd\, Clio\, MI 48420. \nEquipment Required:     – Department marked police car in proper operating condition \n-Uniform of the day (recommended) \n-Duty belt and body armor (recommended) \n□             Loose items must be removed from the trunk and passenger compartments of the vehicles. \n□             No more than two officers per vehicle. \n□             No shorts\, sandals\, or pocket weapons. \nInstructor:          Lieutenant Brian Schroer\, Bay City Department of Public Safety.  Brian earned a Bachelor of Criminal Justice degree from Hilbert College and a Master of Public Administration degree from Central Michigan University.  During his career\, Lieutenant Schroer participated in the Field Training Officer program and serves as an instructor for Emergency Vehicle Operations training.  He was promoted to the rank of      Corporal Accident Investigator in 2009\, to the rank of Sergeant in 2020\, and to the rank of Lieutenant in 2022. \nClass Size:           Limited to 12 \nCost:                      LEORTC Member Licensed Officers – Prepaid \nNon-Member Agencies – $200.00 p/p \nClick to REGISTER below: \nhttps://form.123formbuilder.com/6888767/training-application-form \nThis training has been registered with MCOLES for the use of PA 302 Law Enforcement Distribution funds. \nThis training is registered as\, “Agency Elected Continuing Professional Education (CPE).”
URL:https://www.leortc.com/event/emergency-vehicle-operation-14/
LOCATION:Flint Township PD\, 5200 Norko Drive\, Flint Township\, MI\, 48507\, United States
ATTACH;FMTTYPE=image/jpeg:https://www.leortc.com/wp-content/uploads/2016/11/Homepage-header-2-1.jpg
GEO:42.9795036;-83.7789392
X-APPLE-STRUCTURED-LOCATION;VALUE=URI;X-ADDRESS=Flint Township PD 5200 Norko Drive Flint Township MI 48507 United States;X-APPLE-RADIUS=500;X-TITLE=5200 Norko Drive:geo:-83.7789392,42.9795036
END:VEVENT
BEGIN:VEVENT
DTSTART;TZID=America/New_York:20260909T083000
DTEND;TZID=America/New_York:20260909T163000
DTSTAMP:20260424T130310
CREATED:20251022T153702Z
LAST-MODIFIED:20251022T153702Z
UID:10000619-1788942600-1788971400@www.leortc.com
SUMMARY:Crime Prevention Strategies for Educational Facilities
DESCRIPTION:This program is part of the Crime Prevention Specialist Series.  Each program in the series is a standalone seminar.  Participants that complete all seminars in the series will be granted a Crime Prevention Specialist Certificate. \nThis course will offer participants a best practices approach for working with Schools\, Day Cares\, and other educational facilities. This training is highly recommended for school administrators\, teachers\, and school resource officers.  Attendees will learn about: \n\nLockdown Procedures to deal with violence within and outside of educational facilities\nSteps for dealing with bomb threats\nLarge Event Security\nAccess Control\nCrime Reporting\nTraining of Facility Employees\n\nInstructor:   Chris Fredenburg of the Saginaw Township Police Department.  He is an Advanced Crime Prevention Specialist and an accomplished practitioner of the (CPTED) Crime Prevention Through Environmental Design discipline.   “Crime prevention works\, so use it.” \nLocation:       Grand Blanc Township Police Department\, 5405 S. Saginaw Street\, Grand Blanc\, MI 48439 \nClass Size:          Limited to 35 \nCost:                      LEORTC Member Licensed Officers: Prepaid \nLEORTC Member Non-Licensed Personnel: $75.00 \nNon-Member Agencies: $130.00 \nClick to REGISTER below: \nhttps://form.123formbuilder.com/6888767/training-application-form \n“This training has been registered with MCOLES for the use of PA 302 Law Enforcement Distribution funds.” \nThis training is registered as\, “Agency Elected Continuing Professional Education (CPE).”
URL:https://www.leortc.com/event/crime-prevention-strategies-for-educational-facilities-5/
LOCATION:Grand Blanc Twp. Police Dept.\, 5405 S. Saginaw Street\, Grand Blanc\, MI\, 48439\, United States
GEO:42.9517587;-83.6570074
X-APPLE-STRUCTURED-LOCATION;VALUE=URI;X-ADDRESS=Grand Blanc Twp. Police Dept. 5405 S. Saginaw Street Grand Blanc MI 48439 United States;X-APPLE-RADIUS=500;X-TITLE=5405 S. Saginaw Street:geo:-83.6570074,42.9517587
END:VEVENT
BEGIN:VEVENT
DTSTART;TZID=America/Detroit:20260914T080000
DTEND;TZID=America/Detroit:20260918T170000
DTSTAMP:20260424T130310
CREATED:20260219T160846Z
LAST-MODIFIED:20260219T160846Z
UID:10000653-1789372800-1789750800@www.leortc.com
SUMMARY:Patrol Rifle Instructor Course
DESCRIPTION:Patrol Rifle Instructor Course \nThis course is for already certified firearms (pistol) instructors.  The student of this training will gain the knowledge of how to articulate and instruct the safe carry and storage; care and maintenance; sighting; setting up and engaging in live-fire drills; functions of the rifle and more to future operators of semi-auto patrol rifles. Please read the pre-requisites for the minimum standards for instructor candidates. \n\n\nThis course is for already certified firearms (pistol) instructors with basic AR15 user/operator course certification. Certificates of both must be presented on Day 1 to the instructors. The students of this course will gain the knowledge of how to articulate and instruct the safe carry and storage; care and maintenance; sighting; setting up and engaging in live-fire drills; functions of the rifle and more to future operators of semi-auto patrol rifles.\nOnly iron sights are permitted during the course with electronic sights familiarization on the last day of the class.  On the morning of Day 1 the student will report to the range with a zeroed rifle for a live fire pre-test course of the following:\nZero Confirmation – From the prone position fire 3 rounds into the center mass circle of zeroing target at 27 yards to verify weapon zero. If the group is outside of the zero circle the shooter gets 1 correction and fire additional 3 round group to confirm zero. Pass or Fail\nSkills Demonstration – Starting with 2 magazines with 15 rounds in each the student on command will exit a patrol car with rifle and move to a position behind a barricade. On command\, the shooter will fire 3 rounds from the support shoulder from behind cover at TCQ target 15 yards away in 7 seconds\, perform an un-timed tactical reload behind cover. Then on command will fire 3 rounds on same target from the strong side in 5 seconds. Place rifle on safe.\nMoving across the range to a second barricade the student will take up a kneeling position utilizing cover and on command fire 6 rounds on TCQ target 25 yards down range in 10 seconds. The student will then stand on command and utilizing cover\, fire 6 shots on same TCQ target in 15 seconds. From behind cover reload using the 12-round magazine. Place rifle on safe.\nOn command move to third position up range\, 50 yards from TCQ target. From firing position\, the student will shoot from the kneeling position 4 rounds in 60 seconds\, then 4 rounds from the sitting position in 45 seconds\, and finally from the prone position 4 rounds in 30 seconds.\nScore 100% in TCQ combat scoring area. \nThose unable to meet the requirements will not continue with the course. Final qualification course on Friday is 60 rounds on targets at 25\, 50\, 75\, and 100 yards.\nAs this course follows the military model of marksmanship ALL students must have a 2-point sling (attaches to the toe of the stock and to the front sling swivel under the barrel) to obtain stability of the weapon. The most common is a M1 Garand from Midway $14.99 part number 966254.\nPDF format zeroing targets are available at the below web addresses.\nM4 (LE Carbine 16” barrel) target http://www.bobdbob.com/~deneb/doc/targets/m4-carbine-zero.pdf\nM16 20” barrel target http://www.bobdbob.com/~deneb/doc/targets/m16a2-25m-zero.pdf \nZeroing instructions – A pdf file (attached) explains different ideas of battle zeroing your rifle. It is yours or departments option of which you use. However\, you must pass the pre-test (described above) and the final live fire test to graduate from this course.\nThis is not a participation pass course. Certification is awarded based upon daily evaluations of progress\, a written outline and verbal presentation of a topic\, written test\, and qualification course of fire.\nMinimum equipment requirements: AR15 weapon\, 3 magazines\, cleaning equipment (don’t forget the lube)\, shooting mat if desired\, duty belt with pistol and 3 magazines\, BODY ARMOR REQUIRED ON THE RANGE\, hat\, eye protection\, ear puffs/plugs (muffs tend to interfere with cheek weld on the stock)\, laptop computer with 4 GB thumb drive as all information is presented in digital format. 1000 rounds of .223 or 5.56 ball ammunition.  100 rounds of pistol ammunition. \nDate: September 14-18\, 2026 8:00am – 5:00pm \nCourse Instructors: Chris VanHorn & Chris Jaime\, Certified Firearms/Patrol Rifle Instructors \nCourse Location:  Delta Community College\, 1961 Delta Rd. University Ctr 48710 Room TBD \nRange Location:   TBD \nCourse Fee:             LEORTC Licensed Members – Prepaid  \nDelta College Consortium Members: $400.00 per person \nNon-Consortium: $600.00 per person \nClick to REGISTER below: \nhttps://form.123formbuilder.com/6888767/training-application-form \n“This training has been registered with MCOLES for the use of PA 302 Law Enforcement Distribution funds.” \nRegistration Deadline: September 5\, 2026.  THERE IS LIMITED SEATING AVAILABLE.  WE RECOMMEND YOU REGISTER EARLY!
URL:https://www.leortc.com/event/patrol-rifle-instructor-course-5/
LOCATION:Delta College\, University Center\, MI\, 48710\, United States
GEO:43.5595162;-83.9944777
END:VEVENT
BEGIN:VEVENT
DTSTART;TZID=America/Detroit:20260915T083000
DTEND;TZID=America/Detroit:20260915T163000
DTSTAMP:20260424T130310
CREATED:20260112T161525Z
LAST-MODIFIED:20260114T154127Z
UID:10000634-1789461000-1789489800@www.leortc.com
SUMMARY:C.R.I.M.E. 1-2-3
DESCRIPTION:Law Enforcement Officers Regional Training Commission \nPresents \nC.R.I.M.E. 1-2-3 \nCriminal Related Interviewing Made Easy \nA new generation- A new approach! \nDeveloped by: Dom Cappelluti \n“Make WORDS your most valued WEAPON” \nThis training is registered as\, “Agency Elected Continuing Professional Education (CPE).” \nTake one day to learn skills you will use every day! C.R.I.M.E 123 is an easy bulletproof approach to criminal interviewing & interrogation. \nWith the growing conflict between interview and interrogation companies and concerns with using their specific multi-step method or structured technique\, we deliver the solution with C.R.I.M.E. 123. Our main objective is to provide today’s professional interviewers with a simple\, proven and effective “approach” to the ever-changing and complex world of truth seeking and custodial interrogation. \nToday’s professional interviewers must be able to perform at the top of their game and get the truth from a diverse range of dangerous and elusive suspects while respectfully following their agencies policies and procedures. Get trained in the bulletproof approach that bulletproofs the interviewer\, the agency and the confession \nC.R.I.M.E 1-2-3 is here. So get in\, get it and get out \nInstructor:   Domenic Cappelluti\, is the lead instructor and president of Street Strategies LLC. With 28 years of law enforcement experience\, Dom has worked interview rooms and conducted thousands of interviews and interrogations as a senior detective for a large Illinois police department and a multi-jurisdictional homicide task force. As an expert in the field\, Dom has created a “bulletproof” interviewing approach that will help protect today’s interviewers\, their agencies\, and the confession.  Dom has developed various courses across the U.S. to meet statewide police training mandates and requirements. He has become a well-recognized speaker throughout the law enforcement training community on topics such as gang suppression\, homicide investigations\, cultivating confidential informants\, courtroom testimony\, street interviewing\, interview and interrogation\, and much more. Dom enjoys attacking fake news and turning the spotlight back in the face of today’s biased media\, when reporting on ethical no-nonsense interviewing skills practiced today. (For more information\, visit https://www.domcappelluti.com/ \nDate/Time:         Tuesday\, September 15\, 2026\, 8:30am-4:30pm              \nLocation:             Grand Blanc Township Police Department\, 5405 S. Saginaw Street\, Grand Blanc\, MI 48507 \nCost:                      LEORTC Licensed – Pre-paid \nAll Others- $150.00 per person \nClick to REGISTER below: \nhttps://form.123formbuilder.com/6888767/training-application-form \nThis training is registered as\, “Agency Elected Continuing Professional Education (CPE).”
URL:https://www.leortc.com/event/c-r-i-m-e-1-2-3-2/
LOCATION:Grand Blanc Twp. Police Dept.\, 5405 S. Saginaw Street\, Grand Blanc\, MI\, 48439\, United States
GEO:42.9517587;-83.6570074
X-APPLE-STRUCTURED-LOCATION;VALUE=URI;X-ADDRESS=Grand Blanc Twp. Police Dept. 5405 S. Saginaw Street Grand Blanc MI 48439 United States;X-APPLE-RADIUS=500;X-TITLE=5405 S. Saginaw Street:geo:-83.6570074,42.9517587
END:VEVENT
BEGIN:VEVENT
DTSTART;TZID=America/Detroit:20260916T083000
DTEND;TZID=America/Detroit:20260916T163000
DTSTAMP:20260424T130310
CREATED:20251111T160302Z
LAST-MODIFIED:20251111T160302Z
UID:10000627-1789547400-1789576200@www.leortc.com
SUMMARY:Footwear Impression Workshop
DESCRIPTION:This training is registered as\, “Agency Elected Continuing Professional Education (CPE).” \nThis one-day hands-on course is designed for crime scene investigators\, police officers\, evidence technicians\, and other personnel\, who have the responsibility to properly document and collect footwear evidence at the crime scene.  This course is geared toward both experienced evidence collection personnel as well as personnel with limited experience in footwear evidence processing.  Participants will learn how to locate\, collect and preserve footwear evidence. \nCourse outline: \n\nFootwear Introduction\nManufacturing of Footwear\nFootwear Examination\nAwareness and detection of footwear evidence\nDocumenting footwear (general photographs and sketch)\nFootwear Enhancement\n\nHands-on Portion: \n\nCollection and preservation of various types of footwear impression\nTwo dimensional\, positive/negative impressions\, dust impressions\nThree-dimensional various soil types\, unusual surfaces\, snow impression (if applicable)\n\nRequired Equipment: \n\nDigital Camera\nOwner’s manual for the camera\nTripod\n\nInstructor:  Forensic Scientist Keith LaMont\, Director/MSP Bridgeport Crime Lab.  Mr. LaMont has been with the trace evidence unit of the Crime Lab for 18 years.  His areas of expertise include footwear and tire tracks\, crime scene processing\, arson\, paint\, glass\, and explosive residue.  He has an extensive amount of crime scene processing experience\, processing over 225 suspicious death crime scenes.  He has a Bachelor of Science degree from MSU with a major in Forensic Science\, as well as numerous specialized workshops in various aspects of trace evidence subject matter. \nDate/Time:       Wednesday\, September 16\, 2026\, 8:30am – 4:30pm  \nLocation:             Flint Township Police Department\, 5200 Norko Drive\, Flint\, 48507 \nCost:                LEORTC Member Licensed Officer – Prepaid \nLEORTC Non-Licensed Personnel – $65.00 p/p \nNon-Members Agencies – $130.00 p/p \nClick to REGISTER below: \nhttps://form.123formbuilder.com/6888767/training-application-form \n“This training has been registered with MCOLES for the use of PA 302 Law Enforcement Distribution funds.” \n 
URL:https://www.leortc.com/event/footwear-impression-workshop-4/
LOCATION:Flint Township PD\, 5200 Norko Drive\, Flint Township\, MI\, 48507\, United States
ATTACH;FMTTYPE=image/png:https://www.leortc.com/wp-content/uploads/2025/01/Footwear-Impression.png
GEO:42.9795036;-83.7789392
X-APPLE-STRUCTURED-LOCATION;VALUE=URI;X-ADDRESS=Flint Township PD 5200 Norko Drive Flint Township MI 48507 United States;X-APPLE-RADIUS=500;X-TITLE=5200 Norko Drive:geo:-83.7789392,42.9795036
END:VEVENT
BEGIN:VEVENT
DTSTART;TZID=America/Detroit:20260922T083000
DTEND;TZID=America/Detroit:20260922T163000
DTSTAMP:20260424T130310
CREATED:20251111T162115Z
LAST-MODIFIED:20251111T162115Z
UID:10000628-1790065800-1790094600@www.leortc.com
SUMMARY:Introduction to Latent Fingerprinting
DESCRIPTION:This training is registered as\, “Agency Elected Continuing Professional Education (CPE).” \nThis 8-hour seminar is a combination of instructor presentation and instructor supervised practical exercises to provide students with the ability to successfully develop and preserve latent fingerprints using the basic brush and powder method. Topics covered in this course include: \nThe History of Fingerprints                               Terms & Definition \nSkin Structure & Latent Print                          Types of Latent Prints \nBasic Fingerprint Patterns                                 Fingerprint Details Used for Identification \nTypes of Powders and Brushes                        Brush & Powder Development Techniques \nPractical Exercises                                             Introduction to AFIS \nAdvanced Development Techniques (magnetic powders\, wet powder\, superglue fuming\, photography of latent prints) \nThis is a ‘hands on’ class.  Participants are asked to bring department cameras with tripods\, flashlight\, and your latent print kit if available (materials are furnished for the class but the instructor could recommend improvements to your kit(s)).  It is also recommended that the participants not wear nicer clothing as print powder will be in use. \nClass Size:       Limited to 15 \nLocation:  Flint Township Police Department\, 5200 Norko Drive\, Flint\, MI 48507 \nCost:                LEORTC Certified Members – Prepaid\, Non-Certified Members – $65.00 p/p\, All Others – $130.00 p/p \nInstructor:  Alexandra Seelmann-Saunders\, Forensic Scientist\, Latent Fingerprint Unit\, Michigan State Police Bridgeport Forensic Laboratory. Alexandra has had extensive training in subject matter related to the recovery and identification of latent fingerprints and is a Crime Scene Response Team member.  She has been qualified to give expert testimony regarding fingerprint identifications in three area counties and serves as an Adjunct Professor for the Criminal Justice Program at Oakland Community College. \nClick to REGISTER below: \nhttps://form.123formbuilder.com/6888767/training-application-form \n“This training has been registered with MCOLES for the use of PA 302 Law Enforcement Distribution funds.” \n 
URL:https://www.leortc.com/event/introduction-to-latent-fingerprinting-13/
LOCATION:Flint Township PD\, 5200 Norko Drive\, Flint Township\, MI\, 48507\, United States
ATTACH;FMTTYPE=image/jpeg:https://www.leortc.com/wp-content/uploads/2017/03/Fingerprint.jpg
GEO:42.9795036;-83.7789392
X-APPLE-STRUCTURED-LOCATION;VALUE=URI;X-ADDRESS=Flint Township PD 5200 Norko Drive Flint Township MI 48507 United States;X-APPLE-RADIUS=500;X-TITLE=5200 Norko Drive:geo:-83.7789392,42.9795036
END:VEVENT
BEGIN:VEVENT
DTSTART;TZID=America/Detroit:20260929T083000
DTEND;TZID=America/Detroit:20260929T163000
DTSTAMP:20260424T130310
CREATED:20260112T184824Z
LAST-MODIFIED:20260112T184824Z
UID:10000640-1790670600-1790699400@www.leortc.com
SUMMARY:Emergency Vehicle Operation
DESCRIPTION:This 1-day hand-on refresher course provides a review of the laws and policies related to emergency vehicle operation\, pursuits\, and the proper course of action based on related circumstances.  This training should be taken by officers that have not had the course within the last three years. \nStudents are required to attend all class hours and successfully complete the course to receive a certificate. \nParticipants will start the day/classroom portion at the Flint Township Police Department\, 5200 Norko Drive\, Flint\, MI 48507\, and after instruction\, proceed to the Auto City Speedway\, 10205 N Saginaw Rd\, Clio\, MI 48420. \nEquipment Required:     – Department marked police car in proper operating condition \n-Uniform of the day (recommended) \n-Duty belt and body armor (recommended) \n□             Loose items must be removed from the trunk and passenger compartments of the vehicles. \n□             No more than two officers per vehicle. \n□             No shorts\, sandals\, or pocket weapons. \nInstructor:          Lieutenant Brian Schroer\, Bay City Department of Public Safety.  Brian earned a Bachelor of Criminal Justice degree from Hilbert College and a Master of Public Administration degree from Central Michigan University.  During his career\, Lieutenant Schroer participated in the Field Training Officer program and serves as an instructor for Emergency Vehicle Operations training.  He was promoted to the rank of      Corporal Accident Investigator in 2009\, to the rank of Sergeant in 2020\, and to the rank of Lieutenant in 2022. \nClass Size:           Limited to 12 \nCost:                      LEORTC Member Licensed Officers – Prepaid \nNon-Member Agencies – $200.00 p/p \nClick to REGISTER below: \nhttps://form.123formbuilder.com/6888767/training-application-form \nThis training has been registered with MCOLES for the use of PA 302 Law Enforcement Distribution funds. \nThis training is registered as\, “Agency Elected Continuing Professional Education (CPE).”
URL:https://www.leortc.com/event/emergency-vehicle-operation-15/
LOCATION:Flint Township PD\, 5200 Norko Drive\, Flint Township\, MI\, 48507\, United States
ATTACH;FMTTYPE=image/jpeg:https://www.leortc.com/wp-content/uploads/2016/11/Homepage-header-2-1.jpg
GEO:42.9795036;-83.7789392
X-APPLE-STRUCTURED-LOCATION;VALUE=URI;X-ADDRESS=Flint Township PD 5200 Norko Drive Flint Township MI 48507 United States;X-APPLE-RADIUS=500;X-TITLE=5200 Norko Drive:geo:-83.7789392,42.9795036
END:VEVENT
END:VCALENDAR