BEGIN:VCALENDAR
VERSION:2.0
PRODID:-//LEORTC - Law Enforcement Officers Regional Training Commission - ECPv6.15.20//NONSGML v1.0//EN
CALSCALE:GREGORIAN
METHOD:PUBLISH
X-WR-CALNAME:LEORTC - Law Enforcement Officers Regional Training Commission
X-ORIGINAL-URL:https://www.leortc.com
X-WR-CALDESC:Events for LEORTC - Law Enforcement Officers Regional Training Commission
REFRESH-INTERVAL;VALUE=DURATION:PT1H
X-Robots-Tag:noindex
X-PUBLISHED-TTL:PT1H
BEGIN:VTIMEZONE
TZID:America/Detroit
BEGIN:DAYLIGHT
TZOFFSETFROM:-0500
TZOFFSETTO:-0400
TZNAME:EDT
DTSTART:20240310T070000
END:DAYLIGHT
BEGIN:STANDARD
TZOFFSETFROM:-0400
TZOFFSETTO:-0500
TZNAME:EST
DTSTART:20241103T060000
END:STANDARD
BEGIN:DAYLIGHT
TZOFFSETFROM:-0500
TZOFFSETTO:-0400
TZNAME:EDT
DTSTART:20250309T070000
END:DAYLIGHT
BEGIN:STANDARD
TZOFFSETFROM:-0400
TZOFFSETTO:-0500
TZNAME:EST
DTSTART:20251102T060000
END:STANDARD
BEGIN:DAYLIGHT
TZOFFSETFROM:-0500
TZOFFSETTO:-0400
TZNAME:EDT
DTSTART:20260308T070000
END:DAYLIGHT
BEGIN:STANDARD
TZOFFSETFROM:-0400
TZOFFSETTO:-0500
TZNAME:EST
DTSTART:20261101T060000
END:STANDARD
END:VTIMEZONE
BEGIN:VEVENT
DTSTART;TZID=America/Detroit:20250422T083000
DTEND;TZID=America/Detroit:20250423T163000
DTSTAMP:20260424T214558
CREATED:20250121T150329Z
LAST-MODIFIED:20250212T155708Z
UID:10000556-1745310600-1745425800@www.leortc.com
SUMMARY:Tactical Field Operations - Man Tracking
DESCRIPTION:This training program focuses on perimeter containment of Fleeing Subjects while utilizing Man-Tracking skills\, deploying K-9\, utilization of aviation support\, and possibly LPOP’s (Listening Points / Observation Points). These techniques are also utilized for Lost and Missing Persons.\nThis training would be valuable for all officers\, supervisors\, and command staff.\n.\nTraining components of this program include:\n\nThe Psychological Profiles of Fleeing Subjects / Lost & Missing Persons issues are taught to assist in understanding early search variables.\n\nFor Fleeing Subjects\, the Leap Frogging technique is utilized to shorten the time /distance gap.\n\nOther areas to be covered would be utilization of a compass\, GPS\, Downed Officer Reaction/solutions\, and arrest procedure upon contact.\n.\nMost of the two-days of training will be outside in a variety of conditions and areas. There will also be a lot of physical activity in various terrains.\n.\nParticipants must be prepared by dressing appropriately for the conditions and physical activity (including footwear and headwear).\n.\nInstructors:  Rudi Nitschmann\, U.S. Army – S.R.T. and retired after 29 years of service with the M.S.P. MSP Emergency Support Team Member for 26 years. Level II Certified Man-Tracking Instructor.\n                      Richard Casanova\, U.S.M.C. – Infantry / Intel Field – 10 years. MSP Emergency Support Team Member for 18 years.  Currently has 23 years of service with the MSP.\n.\nDate/Times: April 22-23\, 2025\, 8:30 am – 4:30 pm\n.\nLocation:  Crossroads Village\, 6140 Bray Road\, Flint\, MI 48505\n.\nClass size:  Limited to (10)\n.\nCost:  LEORTC Licensed Members – Prepaid\n                 All Others – $299 per person\n\n\nClick HERE to Register \n“This training has been registered with MCOLES for the use of PA 302 Law Enforcement Distribution funds.” \nThis training is registered as\, “Agency Elected Continuing Professional Education (CPE).”
URL:https://www.leortc.com/event/tactical-field-operations-man-tracking-4/
LOCATION:Crossroads Village\, 6140 Bray Rd.\, Flint\, MI\, 48505\, United States
ATTACH;FMTTYPE=image/jpeg:https://www.leortc.com/wp-content/uploads/2021/04/Tactical-Field-Operations.jpg
GEO:43.0935238;-83.6515189
X-APPLE-STRUCTURED-LOCATION;VALUE=URI;X-ADDRESS=Crossroads Village 6140 Bray Rd. Flint MI 48505 United States;X-APPLE-RADIUS=500;X-TITLE=6140 Bray Rd.:geo:-83.6515189,43.0935238
END:VEVENT
BEGIN:VEVENT
DTSTART;TZID=America/Detroit:20250425T083000
DTEND;TZID=America/Detroit:20250425T163000
DTSTAMP:20260424T214558
CREATED:20250312T180008Z
LAST-MODIFIED:20250421T145615Z
UID:10000586-1745569800-1745598600@www.leortc.com
SUMMARY:Basic Bloodstain Pattern Analysis
DESCRIPTION:This training is registered as\, “Agency Elected Continuing Professional Education (CPE).” \nRecognition & Documentation \nThis course provides an introduction to bloodstain pattern recognition and documentation.  The investigator will leave this course with an understanding of how bloodstain pattern analysis can be used in crime scene reconstruction.   An emphasis will be placed on recognizing patterns and documenting them properly through photography to ensure proper analysis through photographs at a later date.  Recognizing when a qualified bloodstain analyst should be consulted will be discussed.  This is NOT an all-inclusive pattern course and does not satisfy the requirement of a basic course\, which requires 40 hours of training.  Participants should bring their crime scene photography equipment to the class. \nTopics Include: \nIntro to Bloodstain Pattern Analysis (lecture) \nBloodstain Pattern Recognition (exercise) \nCase Study \nDocumenting Bloodstain Patterns (lecture) \nBloodstain Pattern Documentation (exercise) \nInstructor: Shane Hill is currently the supervisor of the Biology Body Fluid Identification (BFI) Unit at the Michigan State Police (MSP) Metropolitan Bridgeport Forensic Laboratory. He has been with MSP for over 13 years\, most of that time as a forensic scientist in the BFI Unit. In addition to managing the BFI unit\, Mr. Hill is a member of the MSP crime scene response team and is a trained bloodstain pattern analyst. \nDate/Time:         Friday\, April 25\, 2025\, 8:30am – 4:30pm \nLocation:             Grand Blanc Township Police Department\, 5405 S. Saginaw St. Grand Blanc\, MI  48439 \nClass Size:           Limited to 25 \nCost:                      LEORTC Licensed Members – Prepaid       LEORTC Non-Licensed Personnel – $65 p/p          \nAll Others – $120 p/p \nClick HERE to Register \n“This training has been registered with MCOLES for the use of PA 302 Law Enforcement Distribution funds.”
URL:https://www.leortc.com/event/basic-bloodstain-pattern-analysis-3/
LOCATION:Grand Blanc Twp. Police Dept.\, 5405 S. Saginaw Street\, Grand Blanc\, MI\, 48439\, United States
ATTACH;FMTTYPE=image/jpeg:https://www.leortc.com/wp-content/uploads/2018/11/bloodstain-pattern-analysis.jpg
GEO:42.9517587;-83.6570074
X-APPLE-STRUCTURED-LOCATION;VALUE=URI;X-ADDRESS=Grand Blanc Twp. Police Dept. 5405 S. Saginaw Street Grand Blanc MI 48439 United States;X-APPLE-RADIUS=500;X-TITLE=5405 S. Saginaw Street:geo:-83.6570074,42.9517587
END:VEVENT
BEGIN:VEVENT
DTSTART;TZID=America/Detroit:20250429T083000
DTEND;TZID=America/Detroit:20250429T163000
DTSTAMP:20260424T214558
CREATED:20241028T145239Z
LAST-MODIFIED:20241112T160211Z
UID:10000535-1745915400-1745944200@www.leortc.com
SUMMARY:Firearms Identification Training
DESCRIPTION:Are you comfortable with your knowledge and skills to safely handle and unload multiple types of firearms including pistols\, revolvers\, rifles\, and shotguns?   Are you familiar with different types of firearms and how to identify and classify them correctly?  Are you able to identify common machine guns\, machinegun conversion devices\, silencers\, short-barreled rifles\, and short-barreled shotguns? If not\, then this training is important for you!  The class will instruct you on how to: \n– Identify firearm parts and use correct terminology. \n– Demonstrate safety procedures when handling and unloading firearms. \n– Identify Federal firearm laws\, Michigan firearm laws\, Federal & Michigan firearm definitions. \n– Identify markings on U.S. manufactured and imported firearms. \n– Identify characteristics of a Homemade Firearm (aka “Ghost Guns”). \n– Given a selection of firearms\, be able to identify the manufacturer\, and/or importer\, model\, caliber\, and serial #. \n– Identify markings on ammunition and identify the caliber or gauge. \n– Recognize machine guns\, machinegun conversion devices (e.g. “Glock Switch”)\, silencers\, short-barreled rifles\, and           short-barreled shotguns. \n– Identify National Firearms Act registration (transfer) tax forms. \n– Measure the barrel length and overall length of a rifle and shotgun and identify open-bolt and closed-bolt firearms. \n– Demonstrate a field function check for automatic fire. \n-This hands-on training will increase your overall knowledge involving many types and styles of firearms. You will be taught how to safely handle\, unload\, and correctly identify over 50 various types of firearms available at the training. \nInstructor:          Brian Luettke of Luettke Firearms Consulting\, Inc.  served 29 years in law enforcement which included four years as a police officer in Novi\, Michigan and 25 years in Federal law enforcement prior to his retirement in October 2020.  In his last 22 years in law enforcement\, he served as a Special Agent with the Bureau of Alcohol\, Firearms\, and Explosives (ATF).  When Brian retired from ATF\, he was a Supervisory Special Agent and the Chief of the Advanced Firearms and Interstate Nexus (Training) Branch located within the Firearms and Ammunition Technology Division (FATD) in Martinsburg\, West Virginia.  During this position\, Brian was the training branch supervisor and instructor for an advanced level firearms identification training course.  He has taught firearms and ammunition identification at various locations in the United States and to law enforcement officers in Canada\, Europe\, and Africa.  Brian has received training and toured over 40 firearm factories and 12 ammunition manufacturing facilities throughout the United States\, and in Canada\, South Africa\, Germany\, Czech Republic\, Hungary\, and Austria. \nDate & Time:    Tuesday\, April 29\, 2025\, 8:30am-4:30pm \nLocation:           Flint Township Police Department Training Facility\, 5200 Norko Drive\, Flint\, MI 48507 \nCost:                    LEORTC licensed members – pre-paid \nLEORTC non-licensed members – $150 \nNon-Members – $300 \nClass size is limited to 25 \nClick HERE to Register \n“This training has been registered with MCOLES for the use of PA 302 Law Enforcement Distribution funds.” \nThis training is registered as\, “Agency Elected Continuing Professional Education (CPE).”
URL:https://www.leortc.com/event/firearms-identification-training/
LOCATION:Flint Township PD\, 5200 Norko Drive\, Flint Township\, MI\, 48507\, United States
ATTACH;FMTTYPE=image/png:https://www.leortc.com/wp-content/uploads/2024/10/Firearms-Identification-Training.png
GEO:42.9795036;-83.7789392
X-APPLE-STRUCTURED-LOCATION;VALUE=URI;X-ADDRESS=Flint Township PD 5200 Norko Drive Flint Township MI 48507 United States;X-APPLE-RADIUS=500;X-TITLE=5200 Norko Drive:geo:-83.7789392,42.9795036
END:VEVENT
BEGIN:VEVENT
DTSTART;TZID=America/Detroit:20250430T083000
DTEND;TZID=America/Detroit:20250430T163000
DTSTAMP:20260424T214558
CREATED:20241022T141241Z
LAST-MODIFIED:20250226T134617Z
UID:10000531-1746001800-1746030600@www.leortc.com
SUMMARY:Residential Crime Prevention
DESCRIPTION:This program is part of the Crime Prevention Specialist Series.  Each program in the series is a standalone seminar.  Participants that complete all seminars in the series will be granted a Crime Prevention Specialist Certificate. \nOne of the best crime prevention initiatives for reducing crime\, the perception of crime\, and improving the overall quality of life in a community is the development of partnerships between law abiding citizens and their police department.  Participants in this one-day seminar will learn about proven residential safety programs and how to implement them\, basic crime prevention strategies\, residential security issues\, and the tools necessary to return to their communities and make an immediate impact. \n Instructor:   Chris Fredenburg is with the Saginaw Township Police Department.  He is an Advanced Crime Prevention Specialist and an accomplished practitioner of the (CPTED) Crime Prevention Through Environmental Design discipline.   “Crime prevention works\, so use it.” \nLocation:  Grand Blanc Township Police Department\, 5405 S. Saginaw Street\, Grand Blanc\, MIchigan 48439 \nCost:  LEORTC Member:  Prepaid \nLEORTC non-licensed:  $65.00 \nNon-Members:  $120.00 \nClick HERE to Register \n“This training has been registered with MCOLES for the use of PA 302 Law Enforcement Distribution funds.” \nThis training is registered as\, “Agency Elected Continuing Professional Education (CPE).”
URL:https://www.leortc.com/event/residential-crime-prevention-3/
LOCATION:Grand Blanc Twp. Police Dept.\, 5405 S. Saginaw Street\, Grand Blanc\, MI\, 48439\, United States
ATTACH;FMTTYPE=image/jpeg:https://www.leortc.com/wp-content/uploads/2017/04/Residential-CP-e1533922304774.jpg
GEO:42.9517587;-83.6570074
X-APPLE-STRUCTURED-LOCATION;VALUE=URI;X-ADDRESS=Grand Blanc Twp. Police Dept. 5405 S. Saginaw Street Grand Blanc MI 48439 United States;X-APPLE-RADIUS=500;X-TITLE=5405 S. Saginaw Street:geo:-83.6570074,42.9517587
END:VEVENT
END:VCALENDAR