BEGIN:VCALENDAR
VERSION:2.0
PRODID:-//LEORTC - Law Enforcement Officers Regional Training Commission - ECPv6.15.20//NONSGML v1.0//EN
CALSCALE:GREGORIAN
METHOD:PUBLISH
X-ORIGINAL-URL:https://www.leortc.com
X-WR-CALDESC:Events for LEORTC - Law Enforcement Officers Regional Training Commission
REFRESH-INTERVAL;VALUE=DURATION:PT1H
X-Robots-Tag:noindex
X-PUBLISHED-TTL:PT1H
BEGIN:VTIMEZONE
TZID:America/Detroit
BEGIN:DAYLIGHT
TZOFFSETFROM:-0500
TZOFFSETTO:-0400
TZNAME:EDT
DTSTART:20230312T070000
END:DAYLIGHT
BEGIN:STANDARD
TZOFFSETFROM:-0400
TZOFFSETTO:-0500
TZNAME:EST
DTSTART:20231105T060000
END:STANDARD
BEGIN:DAYLIGHT
TZOFFSETFROM:-0500
TZOFFSETTO:-0400
TZNAME:EDT
DTSTART:20240310T070000
END:DAYLIGHT
BEGIN:STANDARD
TZOFFSETFROM:-0400
TZOFFSETTO:-0500
TZNAME:EST
DTSTART:20241103T060000
END:STANDARD
BEGIN:DAYLIGHT
TZOFFSETFROM:-0500
TZOFFSETTO:-0400
TZNAME:EDT
DTSTART:20250309T070000
END:DAYLIGHT
BEGIN:STANDARD
TZOFFSETFROM:-0400
TZOFFSETTO:-0500
TZNAME:EST
DTSTART:20251102T060000
END:STANDARD
BEGIN:DAYLIGHT
TZOFFSETFROM:-0500
TZOFFSETTO:-0400
TZNAME:EDT
DTSTART:20260308T070000
END:DAYLIGHT
BEGIN:STANDARD
TZOFFSETFROM:-0400
TZOFFSETTO:-0500
TZNAME:EST
DTSTART:20261101T060000
END:STANDARD
END:VTIMEZONE
BEGIN:VEVENT
DTSTART;TZID=America/Detroit:20241202T083000
DTEND;TZID=America/Detroit:20241204T163000
DTSTAMP:20260425T145645
CREATED:20241007T171320Z
LAST-MODIFIED:20241007T171320Z
UID:10000526-1733128200-1733329800@www.leortc.com
SUMMARY:Speed Measurement Devices
DESCRIPTION:This class is the required training for officers who have not been certified in Speed Measurement Devices.  Additionally\, it is highly recommended for those that\, as a matter of agency assignment\, have not operated a RADAR unit for the past year or more.  If any personnel only need the LIDAR portion of the training\, they can register separately for the class which is the first four hours of day 3. \nParticipants will need to bring a department vehicle equipped with a RADAR unit and/or LIDAR.  Upon completion participants in the 3-day training will be certified in the operation of both RADAR units and LIDAR which is valid for five (5) years. \nInstructor:  Jon Strom\, MCOLES Approved Radar/Lidar instructor. \nDates:  December 2-4\, 2024\, 8:30am – 4:30pm \nLocation:  Grand Blanc Township Police Department\, 5405 S. Saginaw Street\, Grand Blanc\, Michigan\, 48439 \nClass Size:           Limited to 15 \nCost:                      LEORTC Member Licensed Officers – Prepaid \nNon-Member Agencies –   $250.00 p/p \nClick HERE to Register \n“This training has been registered with MCOLES for the use of PA 302 Law Enforcement Distribution funds.”
URL:https://www.leortc.com/event/speed-measurement-devices-6/
LOCATION:Grand Blanc Twp. Police Dept.\, 5405 S. Saginaw Street\, Grand Blanc\, MI\, 48439\, United States
ATTACH;FMTTYPE=image/jpeg:https://www.leortc.com/wp-content/uploads/2018/02/speed-measurement-device-e1533919860796.jpg
GEO:42.9517587;-83.6570074
X-APPLE-STRUCTURED-LOCATION;VALUE=URI;X-ADDRESS=Grand Blanc Twp. Police Dept. 5405 S. Saginaw Street Grand Blanc MI 48439 United States;X-APPLE-RADIUS=500;X-TITLE=5405 S. Saginaw Street:geo:-83.6570074,42.9517587
END:VEVENT
BEGIN:VEVENT
DTSTART;TZID=America/Detroit:20241205T083000
DTEND;TZID=America/Detroit:20241205T163000
DTSTAMP:20260425T145645
CREATED:20240711T144127Z
LAST-MODIFIED:20241210T143739Z
UID:10000517-1733387400-1733416200@www.leortc.com
SUMMARY:Courtroom Testimony for Police/Corrections Officers
DESCRIPTION:This 1 day\, dynamic\, interactive training will prepare police officers to not only survive\, but thrive in the courtroom\, even from a barrage of cross exam questions from the toughest of defense attorneys.  Participants in this class will learn all the tricks of the defense attorney trade\, how to overcome them\, and become the most effective\, persuasive\, and important player in the courtroom. \nReviews of this class have been overwhelmingly positive.  It is an exceptionally positive experience\, taught by an instructor with 30 years of courtroom experience.  It is fun\, practical\, and exceedingly helpful.  Learn all the things you were never taught in the police academy about winning convictions and making them stick!  You will participate in mock trials\, watch videos of other officer’s testimony\, and learn how to do it right!  If you’ve ever had a bad courtroom experience\, are new\, or simply need to gain some confidence\, take this course! \nThis is a full 1 day course\, consisting of 3 parts.  The first part consists of a mock trial\, where participants review police reports and actually testify in both direct and cross exam.  Attendees will alternate between playing the roles of witness\, juror\, and audience.  Everyone will participate throughout the morning\, and opportunities for frequent feedback will be given.  Cross exam will be challenging and demonstrate the most common defense techniques utilized to “trap” police officers and make them look bad.  Experience has shown that this part of the course\, utilizing audience participation and feedback\, is most appreciated and fun.  The second part consists of a lecture identifying all important aspects of effective police officer testimony\, identifying both the key factors to focus on\, as well as what to avoid. Topics include: \n*Better Report writing                                                                                    *Preparation \n*Courtroom demeanor\, body language and other intangibles              *Anticipating the cross exam \n*Avoiding common defense traps                                                               *Persuasion techniques \n*Common problems and areas for police officer testimony                   *Projecting confidence \n*Examples from real trials and real police reports \nPart three is a compilation of videos from actual trials.  Attendees can see the techniques discussed throughout the day exhibited in real\, live trial testimony from other police officers.  The videos demonstrate and reinforce the principles that have been discussed throughout the day in an authentic setting and bring it all home. \nInstructor: Stuart L. Fenton\, Chief Assistant Prosecuting Attorney\, Emmett County\, and Consultant. \nDate/Time:         Thursday\, December 5\, 2024\, 8:30am-4:30pm \nLocation:             Flint Township Police Department\, 5200 Norko Drive\, Flint\, MI 48507 \nCost:                      LEORTC Licensed Personnel – Prepaid    All others $150 per person \nClick HERE to Register \n“This training has been registered with MCOLES for the use of PA 302 Law Enforcement Distribution funds.” \nThis training is registered as\, “Agency Elected Continuing Professional Education (CPE).”
URL:https://www.leortc.com/event/courtroom-testimony-for-police-corrections-officers/
LOCATION:Flint Township PD\, 5200 Norko Drive\, Flint Township\, MI\, 48507\, United States
ATTACH;FMTTYPE=image/jpeg:https://www.leortc.com/wp-content/uploads/2021/11/Courtroom-Testimony.jpg
GEO:42.9795036;-83.7789392
X-APPLE-STRUCTURED-LOCATION;VALUE=URI;X-ADDRESS=Flint Township PD 5200 Norko Drive Flint Township MI 48507 United States;X-APPLE-RADIUS=500;X-TITLE=5200 Norko Drive:geo:-83.7789392,42.9795036
END:VEVENT
BEGIN:VEVENT
DTSTART;TZID=America/Detroit:20241206T083000
DTEND;TZID=America/Detroit:20241206T163000
DTSTAMP:20260425T145645
CREATED:20240711T144623Z
LAST-MODIFIED:20241210T143844Z
UID:10000518-1733473800-1733502600@www.leortc.com
SUMMARY:Cold Case Homicide Investigations
DESCRIPTION:COLD CASE HOMICIDE INVESTIGATIONS\n\n\n\nThe objective of this class is to describe in detail investigative techniques which have successfully solved several old\, cold\, unsolved\, homicide cases.  This course will include a discussion of not only the techniques and strategies utilized\, but also a comprehensive case study analysis\, which utilizes real life\, practical experiences to demonstrate how difficult and previously thought unsolvable cases could in fact be solved.  Although the primary focus is on cold case homicides\, the practical value from this seminar carries over to all aspects of criminal investigation and is designed to make participants better all-around investigators. \nTopics to Include: \n\nTheory Behind Cold Cases\nStrategies\, Techniques\, and Themes of Investigation\nCase Selection\nFunding of Cold Case Units\nCase Studies\nMuch more\n\nPresenter:       Stuart Fenton\, Former Chief Assistant Prosecutor Attorney for Emmet County.  Mr. Fenton has been a prosecutor for over 30 years and was assigned to a cold case investigative team from 1996-2001. \nDate/Times:  Friday\, December 6\, 2024\, 8:30am – 4:30pm \nLocation:  Flint Township Police Department\, 5200 Norko Drive\, Flint\, MI 48507 \nCost:                LEORTC Member – Prepaid \nAll Others – $150 per person \nClick HERE to Register \n“This training has been registered with MCOLES for the use of PA 302 Law Enforcement Distribution funds.” \nThis training is registered as\, “Agency Elected Continuing Professional Education (CPE).”
URL:https://www.leortc.com/event/cold-case-homicide-investigations-2/
LOCATION:Flint Township PD\, 5200 Norko Drive\, Flint Township\, MI\, 48507\, United States
ATTACH;FMTTYPE=image/jpeg:https://www.leortc.com/wp-content/uploads/2018/05/Cold-case-homicide-e1571247005472.jpg
GEO:42.9795036;-83.7789392
X-APPLE-STRUCTURED-LOCATION;VALUE=URI;X-ADDRESS=Flint Township PD 5200 Norko Drive Flint Township MI 48507 United States;X-APPLE-RADIUS=500;X-TITLE=5200 Norko Drive:geo:-83.7789392,42.9795036
END:VEVENT
BEGIN:VEVENT
DTSTART;TZID=America/Detroit:20241210T080000
DTEND;TZID=America/Detroit:20241210T160000
DTSTAMP:20260425T145645
CREATED:20240917T130620Z
LAST-MODIFIED:20241112T160107Z
UID:10000525-1733817600-1733846400@www.leortc.com
SUMMARY:Mental Health First Aid for Public Safety
DESCRIPTION:WHY MENTAL HEALTH FIRST AID?\nMental Health First Aid (MHFA) for Public Safety teaches the skills needed to reach out and provide initial support to someone who may be developing a mental health or substance use problem and help connect them to the appropriate care. This evidence-based training promotes open dialogue\, reduces stigma and encourages officers to seek support when needed. Offering MHFA for Public Safety can help\ncreate a healthier\, more resilient and productive department. \nWHAT IT COVERS\n• Signs and symptoms of common mental health and substance use challenges.\n• How to recognize common risk factors and warning signs.\n• Crisis diffusion and follow-up tactics.\n• Affirming and reassurance tactics.\n• How to encourage appropriate help.\n• Self-help and support strategies. \nThe course will teach you how to\napply the MHFA Action Plan (ALGEE):\n• Assess for risk of suicide or harm.\n• Listen nonjudgmentally.\n• Give reassurance and information.\n• Encourage appropriate professional help.\n• Encourage self-help and other support strategies. \nWHO SHOULD TAKE IT\n• Law enforcement\n• Other first responders\n• 911 dispatchers \nINSTRUCTOR:  David R. Edwards is a certified trainer for Mental Health First Aid.  He currently serves as the Wellness Officer for the Monroe Public Safety Department and is a member of the International Law Enforcement Educators and Trainers Association. \nLOCATION:  Mott Community College – Southern Lake Branch\, 2100 W. Thompson Road\, Fenton\, MI 48430 \nDate and Time:  December 10\, 2024\, 8:00 am – 4:00 pm \nCOST:  Certified Members – Free\, Non-certified Members – $80.00 per person\, All Others – $160.00 per person \nClick HERE to Register \n“This training has been registered with MCOLES for the use of PA 302 Law Enforcement Distribution funds.” \nThis training is registered as\, “Agency Elected Continuing Professional Education (CPE).”
URL:https://www.leortc.com/event/mental-health-first-aid-for-public-safety-2/
LOCATION:Mott College – Southern Lakes\, 2100 W. Thompson Road\, Fenton\, MI\, 48430\, United States
GEO:42.8642916;-83.7142621
X-APPLE-STRUCTURED-LOCATION;VALUE=URI;X-ADDRESS=DESCRIPTION:WHY MENTAL HEALTH FIRST AID?\nMental Health First Aid (MHFA) for Public Safety teaches the skills needed to reach out and provide initial support to someone who may be developing a mental health or substance use problem and help connect them to the appropriate care. This evidence-based training promotes open dialogue reduces stigma and encourages officers to seek support when needed. Offering MHFA for Public Safety can help\ncreate a healthier more resilient and productive department. \nWHAT IT COVERS\n• Signs and symptoms of common mental health and substance use challenges.\n• How to recognize common risk factors and warning signs.\n• Crisis diffusion and follow-up tactics.\n• Affirming and reassurance tactics.\n• How to encourage appropriate help.\n• Self-help and support strategies. \nThe course will teach you how to\napply the MHFA Action Plan (ALGEE):\n• Assess for risk of suicide or harm.\n• Listen nonjudgmentally.\n• Give reassurance and information.\n• Encourage appropriate professional help.\n• Encourage self-help and other support strategies. \nWHO SHOULD TAKE IT\n• Law enforcement\n• Other first responders\n• 911 dispatchers \nINSTRUCTOR:  David R. Edwards is a certified trainer for Mental Health First Aid.  He currently serves as the Wellness Officer for the Monroe Public Safety Department and is a member of the International Law Enforcement Educators and Trainers Association. \n  Mott Community College – Southern Lake Branch 2100 W. Thompson Road Fenton MI 48430 \nDate and Time:  December 10 2024 8:00 am – 4:00 pm \nCOST:  Certified Members – Free Non-certified Members – $80.00 per person All Others – $160.00 per person \nClick HERE to Register \n“This training has been registered with MCOLES for the use of PA 302 Law Enforcement Distribution funds.” \nThis training is registered as “Agency Elected Continuing Professional Education (CPE).”;X-APPLE-RADIUS=500;X-TITLE=2100 W. Thompson Road:geo:-83.7142621,42.8642916
END:VEVENT
BEGIN:VEVENT
DTSTART;TZID=America/Detroit:20241211T083000
DTEND;TZID=America/Detroit:20241211T163000
DTSTAMP:20260425T145645
CREATED:20240117T145613Z
LAST-MODIFIED:20240117T145613Z
UID:10000478-1733905800-1733934600@www.leortc.com
SUMMARY:Shooting Incident Reconstruction
DESCRIPTION:This is one of the classes in our Evidence Specialist Series and is an extremely important topic in Contemporary Police Forensics.  Topics in this course include: \n\nBallistics\, Trajectories and Ricochets\nAmmunition Components\nVehicle Processing\nDocumentation and Evidence Recovery\nTrace Evidence\nSuicides\nEjection Patterns\nPolice Shootings\nTrigonometry (Using Trigonometry to determine angles and distances)\nCase Studies (Case study presentations showing application of the instructed topics)\n\nInstructor:       James Horn\, Specialist/Sergeant.\, MSP Bridgeport Laboratory.  Currently Spl/ Sgt. Horn is a Firearms/Toolmark/Crime Scene Examiner in the Forensic Science Division.  \nDate/Time:     Wednesday\, December 11\, 2024\, 8:30am – 4:30pm \nLocation:         Mott Community College – Southern Lakes Branch\, 2100 W. Thompson Road\, Fenton\, MI 48430 \nCost:                LEORTC Member Licensed Officers – Prepaid     LEORTC Non-Licensed –                     $65.00 \nNon-Member Agencies –                   $130.00 \nClick HERE to Register \n“This training has been registered with MCOLES for the use of PA 302 Law Enforcement Distribution funds.”
URL:https://www.leortc.com/event/shooting-incident-reconstruction-4/
LOCATION:Mott College – Southern Lakes\, 2100 W. Thompson Road\, Fenton\, MI\, 48430\, United States
GEO:42.8642916;-83.7142621
X-APPLE-STRUCTURED-LOCATION;VALUE=URI;X-ADDRESS=Mott College – Southern Lakes 2100 W. Thompson Road Fenton MI 48430 United States;X-APPLE-RADIUS=500;X-TITLE=2100 W. Thompson Road:geo:-83.7142621,42.8642916
END:VEVENT
BEGIN:VEVENT
DTSTART;TZID=America/Detroit:20241212T080000
DTEND;TZID=America/Detroit:20241212T160000
DTSTAMP:20260425T145645
CREATED:20240410T144210Z
LAST-MODIFIED:20240903T123416Z
UID:10000510-1733990400-1734019200@www.leortc.com
SUMMARY:Tactical Emergency Casualty Care (TECC)
DESCRIPTION:The Tactical Emergency Casualty Care (TECC) course was developed from the military Tactical Combat Casualty Care (TCCC) training. TECC is adapted to provide operators with battlefield proven trauma care information and techniques due to hostile action\, particularly penetrating trauma. \nStudents will be emailed study material prior to the course.  Students will be provided with an electronic version of the military TCCC Tactical Combat Casualty Care handbook to study.  The TCCC skill set for “Deploying Combatants” information will be presented in the TECC course.  The TCCC handbook covers both basic and advanced level material.  The TECC course will only address the basic level material related to “Deploying Combatants.”  Please study only that material.  Students are encouraged to bring any medical gear they carry on duty and they may also bring ballistic or tactical vests. \nTHIS IS A HANDS-ON TRAINING COURSE…… \nInstructor:  Rick Holland\, Tactical Combat Casualty Care Instructor.  Rick has provided training to a multitude of agencies on a local\, state\, and national level.  \nLocation:  Flint Township Police Department\, 5200 Norko Drive\, Flint\, MI 48507 \nClass Size:  Limited to 14 \nCost:  LEORTC member licensed officers – Prepaid \nAll Others – $130.00 p/p \nThis class is registered with MCOLES for 302 funding. \nClick HERE to Register
URL:https://www.leortc.com/event/tactical-emergency-casualty-care-tecc-3/
LOCATION:Flint Township PD\, 5200 Norko Drive\, Flint Township\, MI\, 48507\, United States
ATTACH;FMTTYPE=image/png:https://www.leortc.com/wp-content/uploads/2017/04/Tactical-Emergency-Care.png
GEO:42.9795036;-83.7789392
X-APPLE-STRUCTURED-LOCATION;VALUE=URI;X-ADDRESS=Flint Township PD 5200 Norko Drive Flint Township MI 48507 United States;X-APPLE-RADIUS=500;X-TITLE=5200 Norko Drive:geo:-83.7789392,42.9795036
END:VEVENT
BEGIN:VEVENT
DTSTART;TZID=America/Detroit:20241216T083000
DTEND;TZID=America/Detroit:20241219T163000
DTSTAMP:20260425T145645
CREATED:20240806T163422Z
LAST-MODIFIED:20240806T163422Z
UID:10000519-1734337800-1734625800@www.leortc.com
SUMMARY:Basic FTO Course
DESCRIPTION:This 3.5-day course is designed to provide knowledge and training to develop Field Training Officers’ skills.  Each new FTO will be presented with ideas and techniques to assist them in becoming more professional and confident in the application of their skills.  This course is based on a modified “San Jose” program.  Upon completion the FTO will be able to: \n\nDiscuss the “San Jose” and other program models\nIdentify demands on FTOs as Instructors\nList five of the errors in rating\nUnderstand the basics of Adult Learning Theory\nIdentify liability issues\nUnderstand performance evaluations\nInstruct from Training Briefs\nUnderstand the Rating Scale and Reference Numbers\nComplete the Daily Observation Report\nDevelop a Scenario and additional Training Plans\nUnderstand the purpose of program management and control\n\nInstructor:  Steven Kellams of FTO Solutions.  Steven Kellams retired from the Bloomington Police Department after 27 years of service. His last rank was as the Administrative Captain. In 2000\, then Lieutenant Kellams was instrumental in redesigning the field training program for the Bloomington\, Indiana Police Department and has taught that program to hundreds of departments throughout the United States.  He has also instructed on field training issues at the national level when he presented courses at four National Association of Field Training Officers conferences\, most recently in 2011.  In 2005\, then Lieutenant Kellams was awarded the Law Enforcement Officer of the Year for Monroe County\, IN for his work with the Bloomington Police Department’s Field Training Program.  He was elected to the national NAFTO Executive Board and served as President in 2009. \nDates:             December 16th\, 17th\, 18th\, & 19th\, 2024\, 8:30am – 4:30pm daily (except 8:30am-12:30 pm on last day) \nLocation:        Grand Blanc Township Police Department\, 5405 S. Saginaw Street\, Grand Blanc\, MI 48439          \nCost:               LEORTC Member Licensed Officers – Prepaid \nLEORTC Non-Licensed Personnel-$275 p/p \nNon-Member Agencies – $499.00 p/p \nClick HERE to Register \n“This training has been registered with MCOLES for the use of PA 302 Law Enforcement Distribution funds.”
URL:https://www.leortc.com/event/basic-fto-course-4/
LOCATION:Grand Blanc Twp. Police Dept.\, 5405 S. Saginaw Street\, Grand Blanc\, MI\, 48439\, United States
ATTACH;FMTTYPE=image/jpeg:https://www.leortc.com/wp-content/uploads/2021/04/stevekellams3-.jpg
GEO:42.9517587;-83.6570074
X-APPLE-STRUCTURED-LOCATION;VALUE=URI;X-ADDRESS=Grand Blanc Twp. Police Dept. 5405 S. Saginaw Street Grand Blanc MI 48439 United States;X-APPLE-RADIUS=500;X-TITLE=5405 S. Saginaw Street:geo:-83.6570074,42.9517587
END:VEVENT
BEGIN:VEVENT
DTSTART;VALUE=DATE:20241224
DTEND;VALUE=DATE:20241226
DTSTAMP:20260425T145645
CREATED:20241223T154737Z
LAST-MODIFIED:20241223T154737Z
UID:10000544-1734998400-1735171199@www.leortc.com
SUMMARY:MERRY CHRISTMAS TO ALL
DESCRIPTION:
URL:https://www.leortc.com/event/merry-christmas-to-all-2/
LOCATION:MI
ATTACH;FMTTYPE=image/png:https://www.leortc.com/wp-content/uploads/2018/12/Merry-Christmas-Text-PNG-Clipart.png
END:VEVENT
BEGIN:VEVENT
DTSTART;VALUE=DATE:20241231
DTEND;VALUE=DATE:20250102
DTSTAMP:20260425T145645
CREATED:20241223T164041Z
LAST-MODIFIED:20241223T164041Z
UID:10000545-1735603200-1735775999@www.leortc.com
SUMMARY:Have a Happy and Safe New Year!!!
DESCRIPTION:
URL:https://www.leortc.com/event/have-a-happy-and-safe-new-year/
LOCATION:MI
ATTACH;FMTTYPE=image/jpeg:https://www.leortc.com/wp-content/uploads/2024/12/2025.jpg
END:VEVENT
END:VCALENDAR