BEGIN:VCALENDAR
VERSION:2.0
PRODID:-//LEORTC - Law Enforcement Officers Regional Training Commission - ECPv6.15.20//NONSGML v1.0//EN
CALSCALE:GREGORIAN
METHOD:PUBLISH
X-WR-CALNAME:LEORTC - Law Enforcement Officers Regional Training Commission
X-ORIGINAL-URL:https://www.leortc.com
X-WR-CALDESC:Events for LEORTC - Law Enforcement Officers Regional Training Commission
REFRESH-INTERVAL;VALUE=DURATION:PT1H
X-Robots-Tag:noindex
X-PUBLISHED-TTL:PT1H
BEGIN:VTIMEZONE
TZID:America/Detroit
BEGIN:DAYLIGHT
TZOFFSETFROM:-0500
TZOFFSETTO:-0400
TZNAME:EDT
DTSTART:20230312T070000
END:DAYLIGHT
BEGIN:STANDARD
TZOFFSETFROM:-0400
TZOFFSETTO:-0500
TZNAME:EST
DTSTART:20231105T060000
END:STANDARD
BEGIN:DAYLIGHT
TZOFFSETFROM:-0500
TZOFFSETTO:-0400
TZNAME:EDT
DTSTART:20240310T070000
END:DAYLIGHT
BEGIN:STANDARD
TZOFFSETFROM:-0400
TZOFFSETTO:-0500
TZNAME:EST
DTSTART:20241103T060000
END:STANDARD
BEGIN:DAYLIGHT
TZOFFSETFROM:-0500
TZOFFSETTO:-0400
TZNAME:EDT
DTSTART:20250309T070000
END:DAYLIGHT
BEGIN:STANDARD
TZOFFSETFROM:-0400
TZOFFSETTO:-0500
TZNAME:EST
DTSTART:20251102T060000
END:STANDARD
END:VTIMEZONE
BEGIN:VEVENT
DTSTART;TZID=America/Detroit:20241001T083000
DTEND;TZID=America/Detroit:20241001T163000
DTSTAMP:20260425T181601
CREATED:20240124T173448Z
LAST-MODIFIED:20240129T144751Z
UID:10000488-1727771400-1727800200@www.leortc.com
SUMMARY:Emergency Vehicle Operation
DESCRIPTION:Participants will start the day at Flint Township Police Department and after instruction proceed to Auto City Speedway. \nThis 1-day refresher will provide a review of the laws and policies related to emergency vehicle operation\, pursuits\, and the proper course of action based on related circumstances. This training should be taken by officers that have not had the course within the last three years. As a matter of safety\, and as a condition of participation\, officers will be asked to sign the Course Rules Memorandum. \nIn addition to the regular skills review\, students will participate in a pursuit check ride with an instructor. Students are required to attend all class hours and successfully complete the course to receive a certificate. Equipment Needed: –Department police car in proper operating condition -Uniform of the day (recommended) -Duty belt and body armor (recommended) Loose items must be removed from the trunk and passenger compartments of the vehicles. No more than two officers per vehicle. No shorts\, sandals\, or pocket weapons. \nInstructor:              Brian Schroeder\, Certified EVO Instructor\, along with other LEORTC EVO certified instructors. \nLocation:          Flint Township Police Department\, 5200 Norko Drive\, Flint\, MI 48507/Auto City Speedway\, Clio\, MI \nClass Size:               Limited to 16 \nCost:                        LEORTC Member Licensed Officers – Prepaid Non-Member Agencies – $200.00 p/p \nRegistration:           Spots are limited\, register early. Click HERE to Register \n“This training has been registered with MCOLES for the use of PA 302 Law Enforcement Distribution funds.”
URL:https://www.leortc.com/event/emergency-vehicle-operation-9/
LOCATION:Flint Township PD\, 5200 Norko Drive\, Flint Township\, MI\, 48507\, United States
ATTACH;FMTTYPE=image/jpeg:https://www.leortc.com/wp-content/uploads/2016/11/Homepage-header-2-1.jpg
GEO:42.9795036;-83.7789392
X-APPLE-STRUCTURED-LOCATION;VALUE=URI;X-ADDRESS=Flint Township PD 5200 Norko Drive Flint Township MI 48507 United States;X-APPLE-RADIUS=500;X-TITLE=5200 Norko Drive:geo:-83.7789392,42.9795036
END:VEVENT
BEGIN:VEVENT
DTSTART;TZID=America/Detroit:20241001T083000
DTEND;TZID=America/Detroit:20241002T163000
DTSTAMP:20260425T181601
CREATED:20240109T132747Z
LAST-MODIFIED:20240109T142640Z
UID:10000474-1727771400-1727886600@www.leortc.com
SUMMARY:Tactical Field Operations - Man Tracking
DESCRIPTION:This training program focuses on perimeter containment of Fleeing Subjects while utilizing Man-Tracking skills\, deploying K-9\, utilization of aviation support\, and possibly LPOP’s (Listening Points / Observation Points). These techniques are also utilized for Lost and Missing Persons.\n\n\nThis training would be valuable for all officers\, supervisors\, and command staff.\n\n\nTraining components of this program include:\n\nThe Psychological Profiles of Fleeing Subjects / Lost & Missing Persons issues are taught to assist in understanding early search variables.\n\nFor Fleeing Subjects\, the Leap Frogging technique is utilized to shorten the time /distance gap.\n\nOther areas to be covered would be utilization of a compass\, GPS\, Downed Officer Reaction/solutions\, and arrest procedure upon contact.\n\nMost of the two-days of training will be outside in a variety of conditions and areas. There will also be a lot of physical activity in various terrains.\n\n\nParticipants must be prepared by dressing appropriately for the conditions and physical activity (including footwear and headwear).\n\n\nInstructors:  Rudi Nitschmann\, U.S. Army – S.R.T. and retired after 29 years of service with the M.S.P. MSP Emergency Support Team Member for 26 years. Level II Certified Man-Tracking Instructor.\n                      Richard Casanova\, U.S.M.C. – Infantry / Intel Field – 10 years. MSP Emergency Support Team Member for 18 years.  Currently has 23 years of service with the MSP.\n\n\nDate/Times: October 1-2\, 2024\, 8:30 am – 4:30 pm\n\n\nLocation:  Crossroads Village\, 6140 Bray Road\, Flint\, MI 48505\n\n\nClass size:  Limited to (14)\n\n\nCost:  LEORTC Licensed Members – Prepaid\n                 All Others – $250 per person\n\n\nClick HERE to Register \n“This training has been registered with MCOLES for the use of PA 302 Law Enforcement Distribution funds.”
URL:https://www.leortc.com/event/tactical-field-operations-man-tracking-3/
LOCATION:Crossroads Village\, 6140 Bray Rd.\, Flint\, MI\, 48505\, United States
ATTACH;FMTTYPE=image/jpeg:https://www.leortc.com/wp-content/uploads/2021/04/Tactical-Field-Operations.jpg
GEO:43.0935238;-83.6515189
X-APPLE-STRUCTURED-LOCATION;VALUE=URI;X-ADDRESS=Crossroads Village 6140 Bray Rd. Flint MI 48505 United States;X-APPLE-RADIUS=500;X-TITLE=6140 Bray Rd.:geo:-83.6515189,43.0935238
END:VEVENT
BEGIN:VEVENT
DTSTART;TZID=America/Detroit:20241003T083000
DTEND;TZID=America/Detroit:20241003T163000
DTSTAMP:20260425T181601
CREATED:20240124T155755Z
LAST-MODIFIED:20240806T172913Z
UID:10000485-1727944200-1727973000@www.leortc.com
SUMMARY:Introduction to Latent Fingerprinting
DESCRIPTION:This 8-hour seminar is a combination of instructor presentation and instructor supervised practical exercises to provide students with the ability to successfully develop and preserve latent fingerprints using the basic brush and powder method. Topics covered in this course include: \nThe History of Fingerprints                               Terms & Definition \nSkin Structure & Latent Print                          Types of Latent Prints \nBasic Fingerprint Patterns                                 Fingerprint Details Used for Identification \nTypes of Powders and Brushes                        Brush & Powder Development Techniques \nPractical Exercises                                             Introduction to AFIS \nAdvanced Development Techniques (magnetic powders\, wet powder\, superglue fuming\, photography of latent prints) \nThis is a ‘hands on’ class.  Participants are asked to bring department cameras with tripods\, flashlight\, and your latent print kit if available (materials are furnished for the class but the instructor could recommend improvements to your kit(s)).  It is also recommended that the participants not wear nicer clothing as print powder will be in use. \nClass Size:       Limited to 15 \nLocation:  Flint Township Police Department\, 5200 Norko Drive\, Flint\, MI 48507 \nCost:                LEORTC Certified Members – Prepaid\, Non-Certified Members – $65.00 p/p\, All Others – $130.00 p/p \nInstructor:  Ken Binder is a Specialist Sergeant Latent Print Unit Michigan State Police Forensic Science Division Bridgeport Laboratory.  He has testified as an expert witness in many court cases tying individuals to their crimes through latent fingerprints left at the scene. \nClick HERE to Register \n“This training has been registered with MCOLES for the use of PA 302 Law Enforcement Distribution funds.”
URL:https://www.leortc.com/event/introduction-to-latent-fingerprinting-9/
LOCATION:Flint Township PD\, 5200 Norko Drive\, Flint Township\, MI\, 48507\, United States
ATTACH;FMTTYPE=image/jpeg:https://www.leortc.com/wp-content/uploads/2017/03/Fingerprint.jpg
GEO:42.9795036;-83.7789392
X-APPLE-STRUCTURED-LOCATION;VALUE=URI;X-ADDRESS=Flint Township PD 5200 Norko Drive Flint Township MI 48507 United States;X-APPLE-RADIUS=500;X-TITLE=5200 Norko Drive:geo:-83.7789392,42.9795036
END:VEVENT
BEGIN:VEVENT
DTSTART;TZID=America/Detroit:20241008T083000
DTEND;TZID=America/Detroit:20241008T163000
DTSTAMP:20260425T181601
CREATED:20240610T145448Z
LAST-MODIFIED:20240610T145448Z
UID:10000516-1728376200-1728405000@www.leortc.com
SUMMARY:Motor Vehicle Code Update
DESCRIPTION:This eight hour training for law enforcement officers will provide updated information pertaining to law enforcement utilizing the Michigan Vehicle Code.  This course will also serve as an update and refresher for the patrol officers where they will receive an overview of traffic engineering principles and discover some of the issues involved in setting speed limits and the posting of traffic control devices. \nInstructor:  Lt. Lance Cook (Ret.)\, Special Operations Division of the Michigan State Police\, Field Support and Aviation Section – Traffic Crash Reconstruction Unit.  He had postings with the Bay City Post along with the Traffic Safety Division. \nLocation:  Flint Township Police Department\, 5200 Norko Drive Flint\, MI 48507 \nCost:  LEORTC Member Licensed Officers – Prepaid\, All others\, $130.00 per person. \nClass size is limited to 40 \nClick HERE to Register \n“This training has been registered with MCOLES for the use of PA 302 Law Enforcement Distribution funds.”
URL:https://www.leortc.com/event/motor-vehicle-code-update/
LOCATION:Flint Township PD\, 5200 Norko Drive\, Flint Township\, MI\, 48507\, United States
ATTACH;FMTTYPE=image/jpeg:https://www.leortc.com/wp-content/uploads/2018/04/motor-vehicle-update.jpg
GEO:42.9795036;-83.7789392
X-APPLE-STRUCTURED-LOCATION;VALUE=URI;X-ADDRESS=Flint Township PD 5200 Norko Drive Flint Township MI 48507 United States;X-APPLE-RADIUS=500;X-TITLE=5200 Norko Drive:geo:-83.7789392,42.9795036
END:VEVENT
BEGIN:VEVENT
DTSTART;TZID=America/Detroit:20241009T083000
DTEND;TZID=America/Detroit:20241009T123000
DTSTAMP:20260425T181601
CREATED:20231024T133049Z
LAST-MODIFIED:20231024T133049Z
UID:10000457-1728462600-1728477000@www.leortc.com
SUMMARY:Rental Communities Crime Prevention
DESCRIPTION:This course is open to both members of public safety and civilian apartment complex managers and single-family rental unit landlords.   This four hour seminar will offer participants a fresh approach to reducing 911 calls for service and increasing tenant’s quality of life through tried and true best practices and case studies. \nAttendees will learn that there are three important principles to deterring crime and creating rental community efficiency. \nPartnerships- Neither Police Officers\, Rental Community Management\, nor Residents can fight crime and quality of life issues alone.  A reciprocated union is required to fix reoccurring issues and the only way to find success is through a collaborative effort. \nPrevention- The understanding that prevention is always better than having to seek a cure.  This is accomplished through critical risk assessments put into action to achieve a preventative goal. \nParticipation- The realization that crime is a community problem which requires everyone working together to reduce or prevent it.  This is the true essence of the police and citizen partnership and only when put into actual practice can cooperative strategies be implemented to fix reoccurring problems.  Total success and profitability can be realized when all stakeholders become involved. \nInstructor:   Chris Fredenburg of the Saginaw Township Police Department.  He is an Advanced Crime Prevention Specialist and has extensive experience working with rental communities both with large tenant occupancy and small duplex and single-family rental units. \nCost (each class):               LEORTC Member:  Prepaid      Civilian Participants: $35.00 \nNon-Members:  $65.00 \nLocation (all classes):       Grand Blanc Twp. Police Department\, 5405 S. Saginaw Street\, Grand Blanc\, MI   48439 \nClass Date &Time:             October 9\, 2024\, 8:30 am – 12:30 pm   (4hrs) \nClick HERE to Register \n“This training has been registered with MCOLES for the use of PA 302 Law Enforcement Distribution funds.”
URL:https://www.leortc.com/event/rental-communities-crime-prevention-3/
LOCATION:Grand Blanc Twp. Police Dept.\, 5405 S. Saginaw Street\, Grand Blanc\, MI\, 48439\, United States
ATTACH;FMTTYPE=image/jpeg:https://www.leortc.com/wp-content/uploads/2021/10/CP-for-Rentals.jpg
GEO:42.9517587;-83.6570074
X-APPLE-STRUCTURED-LOCATION;VALUE=URI;X-ADDRESS=Grand Blanc Twp. Police Dept. 5405 S. Saginaw Street Grand Blanc MI 48439 United States;X-APPLE-RADIUS=500;X-TITLE=5405 S. Saginaw Street:geo:-83.6570074,42.9517587
END:VEVENT
BEGIN:VEVENT
DTSTART;TZID=America/Detroit:20241017T083000
DTEND;TZID=America/Detroit:20241017T163000
DTSTAMP:20260425T181601
CREATED:20240514T131931Z
LAST-MODIFIED:20250122T182952Z
UID:10000514-1729153800-1729182600@www.leortc.com
SUMMARY:Critical Incidents and the Media
DESCRIPTION:This unique training opportunity is applicable for law enforcement Public Information Officers\, Supervisors\, Administrators\, Chiefs\, Sheriffs\, or anyone assigned to work with the media.  Topics include: \n\nWhat the media expects from a good PIO\nWhat the media expects from leadership\nHow to be a more effective communicator for internal and external audiences\nHow the media works\nEffective and ineffective ways to handle message/response\nWhat makes a story “Newsworthy”?\nWhy reporters ask the questions they do\nWhy is it important to provide certain documents before being asked\nThe timing of the news cycle and the lifespan of a story\nHow a one-day story can become a week-long negative publicity escapade\nHow to avoid long-lasting negative coverage\nHow to talk to reporters\, on the phone\, live\, on camera\, or in a recorded interview\nEffective public speaking \nDissection of a real-life scenario\, what went wrong and right\, lessons learned \n\nInstructors:             \nAnastasiya Bolton is an award-winning broadcast journalist\, media expert and crisis communications professional.  During her 22 years in TV\, including 12 years in Denver\, she specialized in reporting on high-profile\, difficult\, emotional events\, including the Aurora\, CO Theater shooting\, the shooting at a Church in Sutherland Springs\, TX and Santa Fe\, TX High School shooting.  She’s covered the disappearances of 10-year-old Jessica Ridgeway in CO and 18-year-old Natalee Holloway in Aruba. Anastasiya’s helped law enforcement\, non-profits\, gov. agencies & others plan for crisis\, develop comms plans\, tell their stories\, prepare for media interviews\, and respond to negative publicity. \nCassidee Carlson\, Aurora PD Division Chief (Ret.)\, spent 20 years as a police officer in Aurora Colorado. She recently retired as a Division Chief. During her career\, she was a Field Training officer\, served on the SWAT team\, worked in major crimes\, the PIO unit\, and Internal Affairs. In 2022\, as the Operations Division Chief\, she oversaw patrol\, community policing and the School Resource Unit. Cassidee’s innovative PIO response to the Aurora Theater shooting has become a national model on how to handle mass casualty incidents and help victims of crime navigate media inquiries. Cassidee and her federal partners have worked tirelessly to share her knowledge and expertise across the country. \nDate & Time:                        Thursday\, October 17\, 2024\, 8:30am-4:30pm \nLocation:                                Grand Blanc Township Police Department\, 5405 S. Saginaw Street\, Grand Blanc\, MI 48507 \nCost:                                       LEORTC Licensed Members – Pre-paid\, LEORTC Members (non-licensed) – $150 \nAll Others – $199 \nClick HERE to Register \n“This training has been registered with MCOLES for the use of PA 302 Law Enforcement Distribution funds.” \nThis training is registered as\, “Agency Elected Continuing Professional Education (CPE).”
URL:https://www.leortc.com/event/critical-incidents-and-the-media/
LOCATION:Grand Blanc Twp. Police Dept.\, 5405 S. Saginaw Street\, Grand Blanc\, MI\, 48439\, United States
ATTACH;FMTTYPE=image/png:https://www.leortc.com/wp-content/uploads/2024/05/Vikstory.png
GEO:42.9517587;-83.6570074
X-APPLE-STRUCTURED-LOCATION;VALUE=URI;X-ADDRESS=Grand Blanc Twp. Police Dept. 5405 S. Saginaw Street Grand Blanc MI 48439 United States;X-APPLE-RADIUS=500;X-TITLE=5405 S. Saginaw Street:geo:-83.6570074,42.9517587
END:VEVENT
BEGIN:VEVENT
DTSTART;TZID=America/Detroit:20241025T083000
DTEND;TZID=America/Detroit:20241025T163000
DTSTAMP:20260425T181601
CREATED:20240124T175812Z
LAST-MODIFIED:20240124T175812Z
UID:10000489-1729845000-1729873800@www.leortc.com
SUMMARY:Biology/DNA Collection & Analysis
DESCRIPTION:Having a basic understanding of evidence collection is an essential responsibility of all law enforcement personnel.  This course is designed for any law enforcement officer or law enforcement civilian that will investigate crimes as either a first responder\, evidence technician\, or investigator.  This course will consist of lectures\, laboratory demonstrations\, and hands-on collection and processing techniques. Participants in this course will: \n\nLearn known proper biological evidence collection techniques.\nUnderstand biological evidence analysis.\nUnderstand packaging and contamination issues.\nRecognize the most probative/valuable evidence for lab examination.\nUnderstand biological evidence collection performed by SANE nurses.\nLearn available resources for vehicle and scene processing.\n\nInstructor:  Amanda Fazi is a DNA analyst for DNA Labs International.  She has over ten years’ experience working as a forensic biologist and crime scene investigator\, with previous experience at the Michigan State Police Northville Crime Lab and the Oakland County Sheriff’s Office Crime Lab.  She has a Bachelor of Science Degree in Biological Sciences from Wayne State University and a Master of Science Degree in Forensic Science (Biology Concentration) from Michigan State University. \nDate/Time:                 Friday\, October 25\, 2024\, 8:30 am – 4:30 pm              \nLocation:                     Grand Blanc Twp. Police Department\, 5405 S. Saginaw Street\, Flint\, MI   48507 \nClass Size:                    Limited to 30 \nCost:                            LEORTC Licensed Member –               Prepaid \nLEORTC Non-Licensed Personnel –     $65.00 p/p \nNon-Member Agencies –                     $130.00 p/p \nClick HERE to Register \n“This training has been registered with MCOLES for the use of PA 302 Law Enforcement Distribution funds.”
URL:https://www.leortc.com/event/biology-dna-collection-analysis/
LOCATION:Grand Blanc Twp. Police Dept.\, 5405 S. Saginaw Street\, Grand Blanc\, MI\, 48439\, United States
ATTACH;FMTTYPE=image/jpeg:https://www.leortc.com/wp-content/uploads/2017/06/Biology-DNA-Collection.jpg
GEO:42.9517587;-83.6570074
X-APPLE-STRUCTURED-LOCATION;VALUE=URI;X-ADDRESS=Grand Blanc Twp. Police Dept. 5405 S. Saginaw Street Grand Blanc MI 48439 United States;X-APPLE-RADIUS=500;X-TITLE=5405 S. Saginaw Street:geo:-83.6570074,42.9517587
END:VEVENT
BEGIN:VEVENT
DTSTART;TZID=America/Detroit:20241029T083000
DTEND;TZID=America/Detroit:20241030T163000
DTSTAMP:20260425T181601
CREATED:20240318T155556Z
LAST-MODIFIED:20240318T155556Z
UID:10000505-1730190600-1730305800@www.leortc.com
SUMMARY:First Responder Grants
DESCRIPTION:Win Grants for Your Agency \n2 Days of Grant Writing Training for Public Safety Agencies \n$3+ Billion FUNDING TRACK RECORD \nThe Law Enforcement Officers Regional Training Commission will host a 2-day specialized class for all Public Safety / First Responder Agencies on developing\, writing\, and applying for grant programs. The class will be presented by staff from First Responder Grants\, (www.firstrespondergrants.com Participants will learn the skills needed to properly research\, develop and apply to grant funding streams specific to Public Safety\, Emergency Management and Homeland Defense. \nThe training is specifically directed at employees of First Responder and Public Safety Agencies of Police/Fire/EMS and Emergency Management or local government agencies seeking grant funding from Federal/State/Local grant funding sources. \nDoes this sound like your agency? \n\nYour agency lacks funds for vital equipment or training.\nYou applied for grants in the past\, but just can’t seem to get your application into the winner’s circle.\nTimes are tight and your budget is shrinking\, but grants seem so intimidating\, you’ll never figure out how to get that crucial additional funding for your department.\nNeed help finding grants?\n\nYou’re not the only one. Fire Departments\, Law Enforcement Agencies\, and other Emergency Services Agencies nationwide have felt the sting of the budget ax. Competition for grant funding awards is fierce. This training provides a competitive edge! \nDon’t settle for another “Dear John” rejection notice. What did our clients do to avoid those rejection notices? \nThey got First Responder Grants training. \n“We have been awarded $410\,199\, and we have about $4\,000 invested in training and assistance through you. That’s over $100\,000 for every $1\,000 invested. Thank you.” \n— Undersheriff Mickey Gruber\, Brown County Sheriff\, Kansas \nIn this economy\, the competition for grant dollars will be extremely high.  First Responder Grants Training gives you the competitive edge needed to win grants for your agency! \n“Our department is very small and gets very little support from local government. Years ago\, my department sent me to a First Responder Grants seminar in Philadelphia. It was the best money our department has ever spent. I would estimate in the last 3 years we are in the $750\,000-$1\,000\,000-dollar club for grants. I would highly recommend going to this seminar.” \n— Lieutenant Nick Cook\, Bendersville Community Fire Co\, Pennsylvania \nDate and Time:  October 29-30\, 2024\, 8:30am-4:30pm \nClass Location: Mott Community College\, Southern Lakes Branch Center\, 2100 W. Thompson Road\, Room 1206\, Fenton\, MI  48430 \nCost:                    LEORTC licensed members – Pre-paid     For non-licensed members\, the cost is $249 p/p \nAll others:  $499 p/p \nClick HERE to Register \n“This training has been registered with MCOLES for the use of PA 302 Law Enforcement Distribution funds.”
URL:https://www.leortc.com/event/first-responder-grants/
LOCATION:Mott College – Southern Lakes\, 2100 W. Thompson Road\, Fenton\, MI\, 48430\, United States
ATTACH;FMTTYPE=image/png:https://www.leortc.com/wp-content/uploads/2024/03/First-Responder-Grants.png
GEO:42.8642916;-83.7142621
X-APPLE-STRUCTURED-LOCATION;VALUE=URI;X-ADDRESS=Mott College – Southern Lakes 2100 W. Thompson Road Fenton MI 48430 United States;X-APPLE-RADIUS=500;X-TITLE=2100 W. Thompson Road:geo:-83.7142621,42.8642916
END:VEVENT
END:VCALENDAR