BEGIN:VCALENDAR
VERSION:2.0
PRODID:-//LEORTC - Law Enforcement Officers Regional Training Commission - ECPv6.15.20//NONSGML v1.0//EN
CALSCALE:GREGORIAN
METHOD:PUBLISH
X-ORIGINAL-URL:https://www.leortc.com
X-WR-CALDESC:Events for LEORTC - Law Enforcement Officers Regional Training Commission
REFRESH-INTERVAL;VALUE=DURATION:PT1H
X-Robots-Tag:noindex
X-PUBLISHED-TTL:PT1H
BEGIN:VTIMEZONE
TZID:America/Detroit
BEGIN:DAYLIGHT
TZOFFSETFROM:-0500
TZOFFSETTO:-0400
TZNAME:EDT
DTSTART:20230312T070000
END:DAYLIGHT
BEGIN:STANDARD
TZOFFSETFROM:-0400
TZOFFSETTO:-0500
TZNAME:EST
DTSTART:20231105T060000
END:STANDARD
BEGIN:DAYLIGHT
TZOFFSETFROM:-0500
TZOFFSETTO:-0400
TZNAME:EDT
DTSTART:20240310T070000
END:DAYLIGHT
BEGIN:STANDARD
TZOFFSETFROM:-0400
TZOFFSETTO:-0500
TZNAME:EST
DTSTART:20241103T060000
END:STANDARD
BEGIN:DAYLIGHT
TZOFFSETFROM:-0500
TZOFFSETTO:-0400
TZNAME:EDT
DTSTART:20250309T070000
END:DAYLIGHT
BEGIN:STANDARD
TZOFFSETFROM:-0400
TZOFFSETTO:-0500
TZNAME:EST
DTSTART:20251102T060000
END:STANDARD
END:VTIMEZONE
BEGIN:VEVENT
DTSTART;TZID=America/Detroit:20240906T080000
DTEND;TZID=America/Detroit:20240908T170000
DTSTAMP:20260425T195900
CREATED:20240903T140919Z
LAST-MODIFIED:20240903T140919Z
UID:10000524-1725609600-1725814800@www.leortc.com
SUMMARY:Motorcycle Refresher
DESCRIPTION:
URL:https://www.leortc.com/event/motorcycle-refresher-2/
LOCATION:Hilton Garden Inn\, 110 W. Kearsley Street\, Flint\, MI\, 48502\, United States
ATTACH;FMTTYPE=image/jpeg:https://www.leortc.com/wp-content/uploads/2018/04/motorcycle-refresher2.jpg
END:VEVENT
BEGIN:VEVENT
DTSTART;TZID=America/Detroit:20240910T083000
DTEND;TZID=America/Detroit:20240910T163000
DTSTAMP:20260425T195900
CREATED:20240124T163604Z
LAST-MODIFIED:20240124T163604Z
UID:10000486-1725957000-1725985800@www.leortc.com
SUMMARY:Footwear Impressions Workshop
DESCRIPTION:This one-day hands-on course is designed for crime scene investigators\, police officers\, evidence technicians\, and other personnel\, who have the responsibility to properly document and collect footwear evidence at the crime scene. This course is geared toward both experienced evidence collection personnel as well as personnel with limited experience in footwear evidence processing.\n\nParticipants will learn how to locate\, collect and preserve footwear evidence.\n\n\n\nRequired Equipment:  Digital Camera\, Owner’s manual for the camera\, and a Tripod\n\n\nInstructor:  Forensic Scientist Keith LaMont\, Director/MSP Bridgeport Crime Lab. Mr. LaMont has been with the trace evidence unit of the Crime Lab for 18 years. His areas of expertise include footwear and tire tracks\, crime scene processing\, arson\, paint\, glass\, and explosive residue. He has an extensive amount of crime scene processing experience\, processing over 225 suspicious death crime scenes. He has a Bachelor of Science degree from MSU with a major in Forensic Science\, as well as numerous specialized workshops in various aspects of trace evidence subject matter.\n\n\nDate/Time:  Tuesday\, September 10\, 2024\, 8:30am – 4:30pm\n\n\nLocation:  Flint Township Police Department\, 5200 Norko Drive\, Flint\, 48507\n\n\nCost:  LEORTC Member Licensed Officer – Prepaid     LEORTC Non-Licensed Personnel – $65.00 p/p\n                                                    Non-Members Agencies – $130.00 p/p\n\nClick HERE to Register\n\n“This training has been registered with MCOLES for the use of PA 302 Law Enforcement Distribution funds.”
URL:https://www.leortc.com/event/footwear-impressions-workshop-3/
LOCATION:Flint Township PD\, 5200 Norko Drive\, Flint Township\, MI\, 48507\, United States
GEO:42.9795036;-83.7789392
X-APPLE-STRUCTURED-LOCATION;VALUE=URI;X-ADDRESS=Flint Township PD 5200 Norko Drive Flint Township MI 48507 United States;X-APPLE-RADIUS=500;X-TITLE=5200 Norko Drive:geo:-83.7789392,42.9795036
END:VEVENT
BEGIN:VEVENT
DTSTART;TZID=America/Detroit:20240911T083000
DTEND;TZID=America/Detroit:20240911T163000
DTSTAMP:20260425T195900
CREATED:20231023T171159Z
LAST-MODIFIED:20231023T171159Z
UID:10000456-1726043400-1726072200@www.leortc.com
SUMMARY:Crime Prevention Strategies for Educational Facilities
DESCRIPTION:This program is part of the Crime Prevention Specialist Series.  Each program in the series is a standalone seminar.  Participants that complete all seminars in the series will be granted a Crime Prevention Specialist Certificate. \nThis course will offer participants a best practices approach for working with Schools\, Day Cares\, and other educational facilities. This training is highly recommended for school administrators\, teachers\, and school resource officers.  Attendees will learn about: \n\nLockdown Procedures to deal with violence within and outside of educational facilities\nSteps for dealing with bomb threats\nLarge Event Security\nAccess Control\nCrime Reporting\nTraining of Facility Employees\n\nInstructor:   Chris Fredenburg of the Saginaw Township Police Department.  He is an Advanced Crime Prevention Specialist and an accomplished practitioner of the (CPTED) Crime Prevention Through Environmental Design discipline.   “Crime prevention works\, so use it.” \nLocation:       Grand Blanc Township Police Department\, 5405 S. Saginaw Street\, Grand Blanc\, MI 48439 \nClass Size:          Limited to 35 \nCost:                      LEORTC Member Licensed Officers: Prepaid \nLEORTC Member Non-Licensed Personnel: $65.00 \nNon-Member Agencies: $120.00 \nClick HERE to Register \n“This training has been registered with MCOLES for the use of PA 302 Law Enforcement Distribution funds.”
URL:https://www.leortc.com/event/crime-prevention-strategies-for-educational-facilities-3/
LOCATION:Grand Blanc Twp. Police Dept.\, 5405 S. Saginaw Street\, Grand Blanc\, MI\, 48439\, United States
GEO:42.9517587;-83.6570074
X-APPLE-STRUCTURED-LOCATION;VALUE=URI;X-ADDRESS=Grand Blanc Twp. Police Dept. 5405 S. Saginaw Street Grand Blanc MI 48439 United States;X-APPLE-RADIUS=500;X-TITLE=5405 S. Saginaw Street:geo:-83.6570074,42.9517587
END:VEVENT
BEGIN:VEVENT
DTSTART;TZID=America/Detroit:20240912T080000
DTEND;TZID=America/Detroit:20240912T120000
DTSTAMP:20260425T195900
CREATED:20240305T181959Z
LAST-MODIFIED:20240305T181959Z
UID:10000501-1726128000-1726142400@www.leortc.com
SUMMARY:You Don't Have to Die:  Surviving an Ambush
DESCRIPTION:This program presents a practical way of surviving an ambush. The officer will be able to identify the signs of an upcoming ambush\, avoid the conflict and survive. The practical application of concepts of baseline\, above and below baseline will be addressed. Pre-attack indicators will be explained as well as the importance of movement versus static response. Last\, but extremely important\, the concept of effective communication will be discussed.\n.\nGreat Training for Law Enforcement and Corrections Personnel\n.\nInstructor/Course Developer:  Lee Shaykhet (www.shaykhettraining.com).\n.\nDate/Times:  Thursday\, September 12\, 2024 (two sessions available).  8 am – 12 pm (or) 1 pm – 5 pm\n.\nLocation:  Flint Township Police Department\, 5200 Norko Drive\, Flint\, MI 48507\n.\nCost:  LEORTC Licensed – Free     LEORTC Non-Licensed Personnel – $40 per person\n                                                     All Others – $80 per person\n.\n\nClick HERE to Register \n“This training has been registered with MCOLES for the use of PA 302 Law Enforcement Distribution funds.”
URL:https://www.leortc.com/event/you-dont-have-to-die-surviving-an-ambush-3/2024-09-12/1/
LOCATION:Flint Township PD\, 5200 Norko Drive\, Flint Township\, MI\, 48507\, United States
ATTACH;FMTTYPE=image/jpeg:https://www.leortc.com/wp-content/uploads/2020/11/Shaykhet-training.jpg
GEO:42.9795036;-83.7789392
X-APPLE-STRUCTURED-LOCATION;VALUE=URI;X-ADDRESS=Flint Township PD 5200 Norko Drive Flint Township MI 48507 United States;X-APPLE-RADIUS=500;X-TITLE=5200 Norko Drive:geo:-83.7789392,42.9795036
END:VEVENT
BEGIN:VEVENT
DTSTART;TZID=America/Detroit:20240912T130000
DTEND;TZID=America/Detroit:20240912T170000
DTSTAMP:20260425T195900
CREATED:20240305T181959Z
LAST-MODIFIED:20240305T181959Z
UID:10000502-1726146000-1726160400@www.leortc.com
SUMMARY:You Don't Have to Die:  Surviving an Ambush
DESCRIPTION:This program presents a practical way of surviving an ambush. The officer will be able to identify the signs of an upcoming ambush\, avoid the conflict and survive. The practical application of concepts of baseline\, above and below baseline will be addressed. Pre-attack indicators will be explained as well as the importance of movement versus static response. Last\, but extremely important\, the concept of effective communication will be discussed.\n.\nGreat Training for Law Enforcement and Corrections Personnel\n.\nInstructor/Course Developer:  Lee Shaykhet (www.shaykhettraining.com).\n.\nDate/Times:  Thursday\, September 12\, 2024 (two sessions available).  8 am – 12 pm (or) 1 pm – 5 pm\n.\nLocation:  Flint Township Police Department\, 5200 Norko Drive\, Flint\, MI 48507\n.\nCost:  LEORTC Licensed – Free     LEORTC Non-Licensed Personnel – $40 per person\n                                                     All Others – $80 per person\n.\n\nClick HERE to Register \n“This training has been registered with MCOLES for the use of PA 302 Law Enforcement Distribution funds.”
URL:https://www.leortc.com/event/you-dont-have-to-die-surviving-an-ambush-3/2024-09-12/2/
LOCATION:Flint Township PD\, 5200 Norko Drive\, Flint Township\, MI\, 48507\, United States
ATTACH;FMTTYPE=image/jpeg:https://www.leortc.com/wp-content/uploads/2020/11/Shaykhet-training.jpg
GEO:42.9795036;-83.7789392
X-APPLE-STRUCTURED-LOCATION;VALUE=URI;X-ADDRESS=Flint Township PD 5200 Norko Drive Flint Township MI 48507 United States;X-APPLE-RADIUS=500;X-TITLE=5200 Norko Drive:geo:-83.7789392,42.9795036
END:VEVENT
BEGIN:VEVENT
DTSTART;TZID=America/Detroit:20240917T083000
DTEND;TZID=America/Detroit:20240917T163000
DTSTAMP:20260425T195900
CREATED:20240124T164823Z
LAST-MODIFIED:20240124T164823Z
UID:10000487-1726561800-1726590600@www.leortc.com
SUMMARY:Emergency Vehicle Operation
DESCRIPTION:Participants will start the day at Flint Township Police Department and after instruction proceed to Auto City Speedway. \nThis 1-day refresher will provide a review of the laws and policies related to emergency vehicle operation\, pursuits\, and the proper course of action based on related circumstances. This training should be taken by officers that have not had the course within the last three years. As a matter of safety\, and as a condition of participation\, officers will be asked to sign the Course Rules Memorandum. \nIn addition to the regular skills review\, students will participate in a pursuit check ride with an instructor. Students are required to attend all class hours and successfully complete the course to receive a certificate. Equipment Needed: –Department police car in proper operating condition -Uniform of the day (recommended) -Duty belt and body armor (recommended) Loose items must be removed from the trunk and passenger compartments of the vehicles. No more than two officers per vehicle. No shorts\, sandals\, or pocket weapons. \nInstructor:              Brian Schroeder\, Certified EVO Instructor\, along with other LEORTC EVO certified instructors. \nLocation:          Flint Township Police Department\, 5200 Norko Drive\, Flint\, MI 48507/Auto City Speedway\, Clio\, MI \nClass Size:               Limited to 16 \nCost:                        LEORTC Member Licensed Officers – Prepaid Non-Member Agencies – $200.00 p/p \nRegistration:           Spots are limited\, register early. Click HERE to Register \n“This training has been registered with MCOLES for the use of PA 302 Law Enforcement Distribution funds.”
URL:https://www.leortc.com/event/emergency-vehicle-operation-8/
LOCATION:Flint Township PD\, 5200 Norko Drive\, Flint Township\, MI\, 48507\, United States
ATTACH;FMTTYPE=image/jpeg:https://www.leortc.com/wp-content/uploads/2016/11/Homepage-header-2-1.jpg
GEO:42.9795036;-83.7789392
X-APPLE-STRUCTURED-LOCATION;VALUE=URI;X-ADDRESS=Flint Township PD 5200 Norko Drive Flint Township MI 48507 United States;X-APPLE-RADIUS=500;X-TITLE=5200 Norko Drive:geo:-83.7789392,42.9795036
END:VEVENT
BEGIN:VEVENT
DTSTART;TZID=America/Detroit:20240924T080000
DTEND;TZID=America/Detroit:20240924T120000
DTSTAMP:20260425T195900
CREATED:20240817T142703Z
LAST-MODIFIED:20240817T142703Z
UID:10000521-1727164800-1727179200@www.leortc.com
SUMMARY:SFST Refresher
DESCRIPTION:STANDARD FIELD SOBRIETY TESTING (SFST) REFRESHER \nStandards require that officers are re-certified in SFST every four years if they wish to participate in Grant Funded Alcohol Enforcement Programs. \nThis 4-hour class is mandatory for those that have been trained in SFST prior to 2011 if they wish to keep their SFST certification and eligibility to participate in OHSP funded alcohol enforcement grants.  The class is designed to update and verify an officer’s ability to comply with the proper administration and documentation of field sobriety testing. \nInstructor: Michael O’Brian of the Grand Blanc Township Police Department.\n \nDate and Time:  Two classes will be offered on September 24\, 2024\, 8:00am – 12:00pm or 1:00pm – 5:00pm \nLocation:  Grand Blanc Township Police Department\, 5405 S. Saginaw Street\, Grand Blanc\, MI 48439 \nLimited Seating:  There are only 16 seats available for this training. \nCost:  No Cost for MCOLES Licensed Officers \nTo Register:  You must register through MITRAIN \nClick here to Register                                     for MITRAIN \nMI-Train Course Number: 1049109
URL:https://www.leortc.com/event/sfst-refresher/2024-09-24/1/
LOCATION:Grand Blanc Twp. Police Dept.\, 5405 S. Saginaw Street\, Grand Blanc\, MI\, 48439\, United States
ATTACH;FMTTYPE=image/jpeg:https://www.leortc.com/wp-content/uploads/2017/05/OWI_Pyramid_400136_7.jpg
GEO:42.9517587;-83.6570074
X-APPLE-STRUCTURED-LOCATION;VALUE=URI;X-ADDRESS=Grand Blanc Twp. Police Dept. 5405 S. Saginaw Street Grand Blanc MI 48439 United States;X-APPLE-RADIUS=500;X-TITLE=5405 S. Saginaw Street:geo:-83.6570074,42.9517587
END:VEVENT
BEGIN:VEVENT
DTSTART;TZID=America/Detroit:20240924T130000
DTEND;TZID=America/Detroit:20240924T170000
DTSTAMP:20260425T195900
CREATED:20240817T142703Z
LAST-MODIFIED:20240817T142703Z
UID:10000522-1727182800-1727197200@www.leortc.com
SUMMARY:SFST Refresher
DESCRIPTION:STANDARD FIELD SOBRIETY TESTING (SFST) REFRESHER \nStandards require that officers are re-certified in SFST every four years if they wish to participate in Grant Funded Alcohol Enforcement Programs. \nThis 4-hour class is mandatory for those that have been trained in SFST prior to 2011 if they wish to keep their SFST certification and eligibility to participate in OHSP funded alcohol enforcement grants.  The class is designed to update and verify an officer’s ability to comply with the proper administration and documentation of field sobriety testing. \nInstructor: Michael O’Brian of the Grand Blanc Township Police Department.\n \nDate and Time:  Two classes will be offered on September 24\, 2024\, 8:00am – 12:00pm or 1:00pm – 5:00pm \nLocation:  Grand Blanc Township Police Department\, 5405 S. Saginaw Street\, Grand Blanc\, MI 48439 \nLimited Seating:  There are only 16 seats available for this training. \nCost:  No Cost for MCOLES Licensed Officers \nTo Register:  You must register through MITRAIN \nClick here to Register                                     for MITRAIN \nMI-Train Course Number: 1049109
URL:https://www.leortc.com/event/sfst-refresher/2024-09-24/2/
LOCATION:Grand Blanc Twp. Police Dept.\, 5405 S. Saginaw Street\, Grand Blanc\, MI\, 48439\, United States
ATTACH;FMTTYPE=image/jpeg:https://www.leortc.com/wp-content/uploads/2017/05/OWI_Pyramid_400136_7.jpg
GEO:42.9517587;-83.6570074
X-APPLE-STRUCTURED-LOCATION;VALUE=URI;X-ADDRESS=Grand Blanc Twp. Police Dept. 5405 S. Saginaw Street Grand Blanc MI 48439 United States;X-APPLE-RADIUS=500;X-TITLE=5405 S. Saginaw Street:geo:-83.6570074,42.9517587
END:VEVENT
END:VCALENDAR