BEGIN:VCALENDAR
VERSION:2.0
PRODID:-//LEORTC - Law Enforcement Officers Regional Training Commission - ECPv6.15.20//NONSGML v1.0//EN
CALSCALE:GREGORIAN
METHOD:PUBLISH
X-ORIGINAL-URL:https://www.leortc.com
X-WR-CALDESC:Events for LEORTC - Law Enforcement Officers Regional Training Commission
REFRESH-INTERVAL;VALUE=DURATION:PT1H
X-Robots-Tag:noindex
X-PUBLISHED-TTL:PT1H
BEGIN:VTIMEZONE
TZID:America/Detroit
BEGIN:DAYLIGHT
TZOFFSETFROM:-0500
TZOFFSETTO:-0400
TZNAME:EDT
DTSTART:20230312T070000
END:DAYLIGHT
BEGIN:STANDARD
TZOFFSETFROM:-0400
TZOFFSETTO:-0500
TZNAME:EST
DTSTART:20231105T060000
END:STANDARD
BEGIN:DAYLIGHT
TZOFFSETFROM:-0500
TZOFFSETTO:-0400
TZNAME:EDT
DTSTART:20240310T070000
END:DAYLIGHT
BEGIN:STANDARD
TZOFFSETFROM:-0400
TZOFFSETTO:-0500
TZNAME:EST
DTSTART:20241103T060000
END:STANDARD
BEGIN:DAYLIGHT
TZOFFSETFROM:-0500
TZOFFSETTO:-0400
TZNAME:EDT
DTSTART:20250309T070000
END:DAYLIGHT
BEGIN:STANDARD
TZOFFSETFROM:-0400
TZOFFSETTO:-0500
TZNAME:EST
DTSTART:20251102T060000
END:STANDARD
END:VTIMEZONE
BEGIN:VEVENT
DTSTART;TZID=America/Detroit:20240801T080000
DTEND;TZID=America/Detroit:20240802T160000
DTSTAMP:20260425T213022
CREATED:20231114T184838Z
LAST-MODIFIED:20231114T184838Z
UID:10000460-1722499200-1722614400@www.leortc.com
SUMMARY:Narcotics Enforcement and Trafficking Investigations in Hotels/Motels and Parcel/Freight Carriers
DESCRIPTION:Provided by: Northeast Counterdrug Training Center\nCo-hosted by: MAGLOCLEN\, LEORTC\, Mott Community College\, and U.S. Attorney’s Office Eastern District of Michigan \nThis course focuses on hotel/motel and parcel/freight interdiction and provides an update on legal and constitutional issues related to each interdiction technique. Students will identify each of the seven exceptions to the search warrant rule with emphasis upon stop & frisk\, search incident to arrest\, probable cause\, plain view\, plain feel\, inventory\, and consent. The class will express a working knowledge of the parcel and freight carrier system and the labeling practices for each. \nWhen:  August 1-2\, 2024\, registration at 7:30am\, class 8:00am – 4:00pm \nWhere:  Mott Community College – Southern Lakes Branch\, 2100 W. Thompson Road Room 1009\, Fenton\, MI 48430 \nCost:  This course is free \nTo Register:   \n• Visit the Northeast Counterdrug Training Center’s website at www.counterdrug.org\n• Click on Northeast Counterdrug Training Center “Enter Site”\n• Find the training that you would like to register for under Upcoming Training and select “Register”\n• Log into your NCTC account (an NCTC account is required to register for training)\n• Agree to the Terms and Conditions\n• Click on “Register” \nIf you have any questions\, please contact NCTC at 717-861-2070
URL:https://www.leortc.com/event/narcotics-enforcement-and-trafficking-investigations-in-hotels-motels-and-parcel-freight-carriers/
LOCATION:Mott College – Southern Lakes\, 2100 W. Thompson Road\, Fenton\, MI\, 48430\, United States
ATTACH;FMTTYPE=image/png:https://www.leortc.com/wp-content/uploads/2019/01/Undercover-Management.png
GEO:42.8642916;-83.7142621
X-APPLE-STRUCTURED-LOCATION;VALUE=URI;X-ADDRESS=Mott College – Southern Lakes 2100 W. Thompson Road Fenton MI 48430 United States;X-APPLE-RADIUS=500;X-TITLE=2100 W. Thompson Road:geo:-83.7142621,42.8642916
END:VEVENT
BEGIN:VEVENT
DTSTART;VALUE=DATE:20240812
DTEND;VALUE=DATE:20240817
DTSTAMP:20260425T213022
CREATED:20240807T185916Z
LAST-MODIFIED:20240807T190807Z
UID:10000520-1723420800-1723852799@www.leortc.com
SUMMARY:THE OFFICE IS CLOSED AUGUST 12 THROUGH 16. IT WILL RE-OPEN AUGUST 19TH.
DESCRIPTION:
URL:https://www.leortc.com/event/the-office-will-be-closed-august-12-16-we-will-be-back-in-the-office-august-19th/
LOCATION:MI
END:VEVENT
BEGIN:VEVENT
DTSTART;TZID=America/Detroit:20240827T083000
DTEND;TZID=America/Detroit:20240827T163000
DTSTAMP:20260425T213022
CREATED:20240124T152223Z
LAST-MODIFIED:20240124T152223Z
UID:10000484-1724747400-1724776200@www.leortc.com
SUMMARY:Emergency Vehicle Operation
DESCRIPTION:Participants will start the day at Flint Township Police Department and after instruction proceed to Auto City Speedway. \nThis 1-day refresher will provide a review of the laws and policies related to emergency vehicle operation\, pursuits\, and the proper course of action based on related circumstances. This training should be taken by officers that have not had the course within the last three years. As a matter of safety\, and as a condition of participation\, officers will be asked to sign the Course Rules Memorandum. \nIn addition to the regular skills review\, students will participate in a pursuit check ride with an instructor. Students are required to attend all class hours and successfully complete the course to receive a certificate. Equipment Needed: –Department police car in proper operating condition -Uniform of the day (recommended) -Duty belt and body armor (recommended) Loose items must be removed from the trunk and passenger compartments of the vehicles. No more than two officers per vehicle. No shorts\, sandals\, or pocket weapons. \nInstructor:              Brian Schroeder\, Certified EVO Instructor\, along with other LEORTC EVO certified instructors. \nLocation:          Flint Township Police Department\, 5200 Norko Drive\, Flint\, MI 48507/Auto City Speedway\, Clio\, MI \nClass Size:               Limited to 16 \nCost:                        LEORTC Member Licensed Officers – Prepaid Non-Member Agencies – $200.00 p/p \nRegistration:           Spots are limited\, register early. Click HERE to Register \n“This training has been registered with MCOLES for the use of PA 302 Law Enforcement Distribution funds.”
URL:https://www.leortc.com/event/emergency-vehicle-operation-7/
LOCATION:Flint Township PD\, 5200 Norko Drive\, Flint Township\, MI\, 48507\, United States
ATTACH;FMTTYPE=image/jpeg:https://www.leortc.com/wp-content/uploads/2016/11/Homepage-header-2-1.jpg
GEO:42.9795036;-83.7789392
X-APPLE-STRUCTURED-LOCATION;VALUE=URI;X-ADDRESS=Flint Township PD 5200 Norko Drive Flint Township MI 48507 United States;X-APPLE-RADIUS=500;X-TITLE=5200 Norko Drive:geo:-83.7789392,42.9795036
END:VEVENT
BEGIN:VEVENT
DTSTART;TZID=America/Detroit:20240828T083000
DTEND;TZID=America/Detroit:20240828T163000
DTSTAMP:20260425T213022
CREATED:20240206T155711Z
LAST-MODIFIED:20240206T155711Z
UID:10000490-1724833800-1724862600@www.leortc.com
SUMMARY:Female Enforcers
DESCRIPTION:Advanced Mental\, Physical and Tactical Skills \nFemale Enforcers is a one-day course specifically designed to address the 24/7 realities of law enforcement from a woman’s perspective. This inspiring seminar focuses on Gender Advantages and Disadvantages in the areas of Use of Force Encounters\, Innate Instincts\, Communication Skills\, Physical Fitness\, and Training Strategies. \nThis course is constantly evolving to incorporate the most current issues\, events\, and supporting materials for women looking to excel in their personal and professional lives. \nCourse discussions and topics include but are not limited to: \n\nBattling Bias and Misperceptions\nHonoring Trailblazers\nTactics\, Training\, & Equipment for the Smaller Officer\nUse of force: Options and Differences\nPhysical Fitness: Mind\, Body\, and Spirit\nPersonal Well-Being and Healthy Relationships\nAdvancing to the Next Level\nBeing Authentic: Embracing Our Unique Strengths\nPerseverance\, Persistence\, & Resilience\nMentoring and Leadership Among Female Officers\n\n  \nDate & Time:              Wednesday\, August 28\, 2024\, 8:30am-4:30pm \nLocation:                     Mott Community College- Southern Lakes Branch Center- Room 1009 \n2100 West Thompson Road \nFenton\, MI 48430 \n  \nCost:                            LEORTC Licensed Members – Pre-paid \nLEORTC Members (non-licensed) – $125 \nAll Others – $199 \nClick HERE to Register \n“This training has been registered with MCOLES for the use of PA 302 Law Enforcement Distribution funds.”
URL:https://www.leortc.com/event/female-enforcers/
LOCATION:Mott College – Southern Lakes\, 2100 W. Thompson Road\, Fenton\, MI\, 48430\, United States
ATTACH;FMTTYPE=image/png:https://www.leortc.com/wp-content/uploads/2024/02/Calibre-Press.png
GEO:42.8642916;-83.7142621
X-APPLE-STRUCTURED-LOCATION;VALUE=URI;X-ADDRESS=Mott College – Southern Lakes 2100 W. Thompson Road Fenton MI 48430 United States;X-APPLE-RADIUS=500;X-TITLE=2100 W. Thompson Road:geo:-83.7142621,42.8642916
END:VEVENT
END:VCALENDAR