BEGIN:VCALENDAR
VERSION:2.0
PRODID:-//LEORTC - Law Enforcement Officers Regional Training Commission - ECPv6.15.20//NONSGML v1.0//EN
CALSCALE:GREGORIAN
METHOD:PUBLISH
X-ORIGINAL-URL:https://www.leortc.com
X-WR-CALDESC:Events for LEORTC - Law Enforcement Officers Regional Training Commission
REFRESH-INTERVAL;VALUE=DURATION:PT1H
X-Robots-Tag:noindex
X-PUBLISHED-TTL:PT1H
BEGIN:VTIMEZONE
TZID:America/Detroit
BEGIN:DAYLIGHT
TZOFFSETFROM:-0500
TZOFFSETTO:-0400
TZNAME:EDT
DTSTART:20230312T070000
END:DAYLIGHT
BEGIN:STANDARD
TZOFFSETFROM:-0400
TZOFFSETTO:-0500
TZNAME:EST
DTSTART:20231105T060000
END:STANDARD
BEGIN:DAYLIGHT
TZOFFSETFROM:-0500
TZOFFSETTO:-0400
TZNAME:EDT
DTSTART:20240310T070000
END:DAYLIGHT
BEGIN:STANDARD
TZOFFSETFROM:-0400
TZOFFSETTO:-0500
TZNAME:EST
DTSTART:20241103T060000
END:STANDARD
BEGIN:DAYLIGHT
TZOFFSETFROM:-0500
TZOFFSETTO:-0400
TZNAME:EDT
DTSTART:20250309T070000
END:DAYLIGHT
BEGIN:STANDARD
TZOFFSETFROM:-0400
TZOFFSETTO:-0500
TZNAME:EST
DTSTART:20251102T060000
END:STANDARD
END:VTIMEZONE
BEGIN:VEVENT
DTSTART;TZID=America/Detroit:20240729T080000
DTEND;TZID=America/Detroit:20240731T170000
DTSTAMP:20260425T225533
CREATED:20240516T164048Z
LAST-MODIFIED:20240610T164446Z
UID:10000515-1722240000-1722445200@www.leortc.com
SUMMARY:Standardized Field Sobriety Testing (SFST) Practitioner
DESCRIPTION:This full Standardized Field Sobriety Testing (SFST) course is required for officers that participate in many of the grant funded traffic enforcement measures.  Additionally\, this course will provide all officers a standardized\, court recognized process that will enhance the reporting process and lead to higher conviction rates.  This training is the National Highway Traffic Safety Administration approved course. \nClass Size:           Minimum of 8 \n                             Maximum of 16 \nCost:                    This course is grant funded for all licensed officers. \nInstructor:             Chief William Renye\, Grand Blanc Township PD. \nLocation:          Grand Blanc Township Police Department\, 5405 S. Saginaw Street\, Grand Blanc\, MI 48439. \nALL INTERESTED IN ATTENDING MUST REGISTER ONLINE THROUGH MITRAIN\, course code is 1034200 or key search word ‘SFST’.  \nMITRAIN   Click here to Register                           
URL:https://www.leortc.com/event/standardized-field-sobriety-testing-sfst-practitioner/
LOCATION:Grand Blanc Twp. Police Dept.\, 5405 S. Saginaw Street\, Grand Blanc\, MI\, 48439\, United States
ATTACH;FMTTYPE=image/jpeg:https://www.leortc.com/wp-content/uploads/2017/05/OWI_Pyramid_400136_7.jpg
GEO:42.9517587;-83.6570074
X-APPLE-STRUCTURED-LOCATION;VALUE=URI;X-ADDRESS=Grand Blanc Twp. Police Dept. 5405 S. Saginaw Street Grand Blanc MI 48439 United States;X-APPLE-RADIUS=500;X-TITLE=5405 S. Saginaw Street:geo:-83.6570074,42.9517587
END:VEVENT
END:VCALENDAR